{"text_format":"1","workbook":"xlsx","n_sheets":9,"sheets":["Input","Setup","Summary","Staging","Diameter","Count","TestData","TestData 2","Directions"],"not_rendered":{"charts":3,"images":0,"macros":1,"external_links":0,"defined_names":31,"comments":0,"pivot_tables":0},"unopened":[],"bounds":{"document_bytes":16777216,"sheet_cells":100000,"rows_first":2000,"rows_last":500,"rows_between":2000,"halvings":0,"cell_chars":16384,"cell_head_chars":4096},"cells_cut":0,"cells_raw":0,"read":"whole","date_system":"1900"}

{"sheet":"Input","index":0,"n_rows":514,"n_cols":10,"rows_kept":514,"cut":false,"hidden":false,"merged":[[0,4,0,9],[0,0,0,3]]}
["Input Diameter ",null,null,null,{"$f":"\"Farm: \"&FarmName&\"   Block: \"&BlockName","v":"Farm: Wittenbach   Block: Gala"}]
["Data could be pasted into this sheet and the macro will copy it into staging sheet.",null,null,null,null,null,null,null,null,{"$f":"YEAR(NOW())","v":2016}]
["Tree","Cluster","Flower",{"$f":"+Setup!A5","v":"2015-05-18"},{"$f":"+Setup!A6","v":"2015-05-21"},{"$f":"+Setup!A7","v":"2015-05-25"},{"$f":"+Setup!A8","v":"2015-05-28"},{"$f":"+Setup!A9","v":"2015-05-31"},{"$f":"+Setup!A10","v":"2015-06-03"},{"$f":"+Setup!A11","v":"2015-06-06"}]
[1,1,1,4.8499999999999996,5.76,8.19,12.51]
[1,null,2,3,2.99]
[1,null,3,2.57,3]
[1,null,4,2.61,2.6]
[1,null,5,2.21,1.89]
[1]
[1,2,1,2.4300000000000002,2.08]
[1,null,2,2.21,2.74]
[1,null,3,2.39,2.1,1.78]
[1,null,4,2.04,2.17]
[1,null,5,2.4900000000000002,2.59]
[1]
[1,3,1,4.34,5.3,6.96,10.38]
[1,null,2,2.9,2.81,2.4900000000000002]
[1,null,3,2.8,2.63,2.5]
[1,null,4,3.05,3.36]
[1,null,5,2.98,3.43,2.9]
[1]
[1,4,1,3.76,4.51,5.45,7.42]
[1,null,2,2.72,3.17,3.27]
[1,null,3,2.93,2.75,3.02]
[1,null,4,2.7,2.16,2.75]
[1,null,5,2.93,3.37,3.27]
[1,null,6,3.28,3.16,2.83]
[1]
[1,5,1,2.34]
[1,null,2,2.99,3.27]
[1,null,3,2.78,2.76]
[1,null,4,2.87,3.22,2.79]
[1,null,5,2.78,3.02]
[1]
[1,6,1,3.14,3.45,3.24]
[1,null,2,2.63,2.63,2.84]
[1,null,3,3,2.7,3.09]
[1,null,4,2.41,3.2,1.86]
[1,null,5,2.63,2.84,2.61]
[1,null,6,2.56,3.14,2.36]
[1]
[1,7,1,3.87,3.63,3.45]
[1,null,2,2.67,3.39,2.96]
[1,null,3,2.4900000000000002,2.84,3.02]
[1,null,4,3.04,3.57,4.95,8.02]
[1,null,5,2.79,2.99,2.62]
[1,null,6,2.87,3,2.56]
[1]
[1,8,1,2.86,2.89,2.73]
[1,null,2,2.5299999999999998,2.83,3.72,6.31]
[1,null,3,2.13,2.72,1.86]
[1]
[1,9,1,2.88,3.08,2.5499999999999998]
[1,null,2,3.73,3.97,5.19,7.99]
[1,null,3,2.96,3.15,2.82]
[1,null,4,3.1,3.32,3.04]
[1,null,5,3.21,3.33,3.01]
[1]
[1,10,1,2.82,3.08]
[1,null,2,3.26,3.99,4.8099999999999996,7.99]
[1,null,3,2.69,2.92]
[1,null,4,3.24,3.72,5.1100000000000003,8.0399999999999991]
[1,null,5,2.89,3.22]
[1]
[1,11,1,3.67,4.7,5.87,9.07]
[1,null,2,3.04,3.54,4.38,4.42]
[1,null,3,2.64,2.4900000000000002]
[1,null,4,3.29,4.08,5.43,8.11]
[1,null,5,2.96,3.45,4.24,4.13]
[1]
[1,12,1,2.79]
[1,null,2,2.7,2.77]
[1,null,3,2.64,2.74,2.0499999999999998]
[1,null,4,2.7,2.82,2.4700000000000002]
[1,null,5,2.72,2.9,2.19]
[1]
[1,13,1,2.75,2.75,2.34]
[1,null,2,2.5299999999999998,2.5099999999999998,2.44]
[{"$f":"+A4+1","v":2},null,3,2.82,2.87,4.2300000000000004]
[{"$f":"+A5+1","v":2},null,4,2.39,2.82,3.47]
[2,null,5,2.72,2.79,2.34]
[2]
[2,14,1,3.16,3.21,3.04]
[2,null,2,2.8,3.05]
[2,null,3,3.1,3.05,2.87]
[2]
[2,15,1,4.22,4.83,6.07,9.31]
[2,null,2,3.82,4.0999999999999996,5.43,8.14]
[2,null,3,2.8,3.21,2.98]
[2,null,4,3.1,3.11,2.7]
[2,null,5,3.32,3.66,3.77,3.89]
[2,null,6,3.22,3.21]
[2]
[2]
[2]
[2]
[2]
[2]
[2]
[2]
[2]
[2]
[2]
[2]
[2]
[2]
[2]
[2]
[2]
[2]
[2]
[2]
[2]
[2]
[2]
[2]
[2]
[2]
[2]
[2]
[2]
[2]
[2]
[2]
[2]
[2]
[2]
[2]
[2]
[2]
[2]
[2]
[2]
[2]
[2]
[2]
[2]
[2]
[2]
[2]
[2]
[2]
[2]
[{"$f":"+A69+1","v":2}]
[2]
[2]
[2]
[2]
[2]
[2]
[2]
[2]
[2]
[3]
[3]
[3]
[3]
[3]
[3]
[3]
[3]
[3]
[3]
[3]
[3]
[3]
[3]
[3]
[3]
[3]
[3]
[3]
[3]
[3]
[3]
[3]
[3]
[3]
[3]
[3]
[3]
[3]
[3]
[3]
[3]
[3]
[3]
[3]
[3]
[3]
[3]
[3]
[3]
[3]
[3]
[3]
[3]
[3]
[3]
[3]
[3]
[3]
[3]
[3]
[3]
[3]
[3]
[{"$f":"+A133+1","v":3}]
[3]
[3]
[3]
[3]
[3]
[3]
[3]
[3]
[3]
[3]
[3]
[3]
[3]
[3]
[3]
[3]
[3]
[3]
[3]
[3]
[4]
[4]
[4]
[4]
[4]
[4]
[4]
[4]
[4]
[4]
[4]
[4]
[4]
[4]
[4]
[4]
[4]
[4,{"$f":"+B171","v":0},{"$f":"+C241","v":0}]
[4,0,0]
[4,0,0]
[4,0,0]
[4,0,0]
[4,0,0]
[4,0,0]
[4,0,0]
[4,0,0]
[4,0,0]
[4,0,0]
[4,0,0]
[4,0,0]
[4,0,0]
[4,0,0]
[4,0,0]
[4,0,0]
[4,0,0]
[4,0,0]
[4,0,0]
[4,0,{"$f":"+C261","v":0}]
[4,0,0]
[4,0,0]
[4,0,0]
[4,0,0]
[4,0,0]
[{"$f":"+A197+1","v":4},{"$f":"+B197","v":0},0]
[4,0,0]
[4,0,0]
[4,0,0]
[4,0,0]
[4,0,0]
[4,0,0]
[4,0,0]
[4,0,0]
[4,0,0]
[4,0,0]
[4,0,0]
[4,0,0]
[4,0,0]
[4,0,0]
[4,0,0]
[4,0,0]
[4,0,0]
[4,0,0]
[4,0,0]
[4,0,0]
[4,0,0]
[4,0,0]
[4,0,0]
[4,0,0]
[4,0,0]
[4,0,0]
[4,0,0]
[4,0,0]
[4,0,0]
[4,0,0]
[4,0,0]
[5,0,0]
[5,0,0]
[5,0,0]
[5,0,0]
[5,0,0]
[5,0,0]
[5,0,0]
[5,0,0]
[5,0,0]
[5,0,0]
[5,0,0]
[5,0,0]
[5,0,0]
[5,0,0]
[5,0,0]
[5,0,0]
[5,0,0]
[5,0,0]
[5,0,0]
[5,0,0]
[5,0,0]
[5,0,0]
[5,0,0]
[5,0,0]
[5,0,0]
[5,0,0]
[5,0,{"$f":"+C325","v":0}]
[5,0,0]
[5,0,0]
[5,0,0]
[5,0,0]
[5,0,0]
[{"$f":"+A261+1","v":5},{"$f":"+B261","v":0},0]
[5,0,0]
[5,0,0]
[5,0,0]
[5,0,0]
[5,0,0]
[5,0,0]
[5,0,0]
[5,0,0]
[5,0,0]
[5,0,0]
[5,0,0]
[5,0,0]
[5,0,0]
[5,0,0]
[5,0,0]
[5,0,0]
[5,0,0]
[5,0,0]
[5,0,0]
[5,0,0]
[5,0,0]
[5,0,0]
[5,0,0]
[5,0,0]
[5,0,0]
[5,0,0]
[5,0,0]
[5,0,0]
[5,0,0]
[5,0,0]
[5,0,0]
[5,0,0]
[5,0,0]
[5,0,0]
[5,0,0]
[5,0,0]
[5,0,0]
[5,0,0]
[5,0,0]
[5,0,0]
[5,0,0]
[5,0,0]
[6,0,0]
[6,0,0]
[6,0,0]
[6,0,0]
[6,0,0]
[6,0,0]
[6,0,0]
[6,0,0]
[6,0,0]
[6,0,0]
[6,0,0]
[6,0,0]
[6,0,0]
[6,0,0]
[6,0,0]
[6,0,{"$f":"+C389","v":0}]
[6,0,0]
[6,0,0]
[6,0,0]
[6,0,0]
[6,0,0]
[{"$f":"+A325+1","v":6},{"$f":"+B325","v":0},0]
[6,0,0]
[6,0,0]
[6,0,0]
[6,0,0]
[6,0,0]
[6,0,0]
[6,0,0]
[6,0,0]
[6,0,0]
[6,0,0]
[6,0,0]
[6,0,0]
[6,0,0]
[6,0,0]
[6,0,0]
[6,0,0]
[6,0,0]
[6,0,0]
[6,0,0]
[6,0,0]
[6,0,0]
[6,0,0]
[6,0,0]
[6,0,0]
[6,0,0]
[6,0,0]
[6,0,0]
[6,0,0]
[6,0,0]
[6,0,0]
[6,0,0]
[6,0,0]
[6,0,0]
[6,0,0]
[6,0,0]
[6,0,0]
[6,0,0]
[6,0,0]
[6,0,0]
[6,0,0]
[6,0,0]
[6,0,0]
[6,0,0]
[6,0,0]
[6,0,0]
[6,0,0]
[6,0,0]
[6,0,0]
[6,0,0]
[6,0,0]
[6,0,0]
[6,0,0]
[6,0,0]
[7,0,0]
[7,0,0]
[7,0,0]
[7,0,0]
[7,0,{"$f":"+C453","v":0}]
[7,0,0]
[7,0,0]
[7,0,0]
[7,0,0]
[7,0,0]
[{"$f":"+A389+1","v":7},{"$f":"+B389","v":0},0]
[7,0,0]
[7,0,0]
[7,0,0]
[7,0,0]
[7,0,0]
[7,0,0]
[7,0,0]
[7,0,0]
[7,0,0]
[7,0,0]
[7,0,0]
[7,0,0]
[7,0,0]
[7,0,0]
[7,0,0]
[7,0,0]
[7,0,0]
[7,0,0]
[7,0,0]
[7,0,0]
[7,0,0]
[7,0,0]
[7,0,0]
[7,0,0]
[7,0,0]
[7,0,0]
[7,0,0]
[7,0,0]
[7,0,0]
[7,0,0]
[7,0,0]
[7,0,0]
[7,0,0]
[7,0,0]
[7,0,0]
[7,0,0]
[7,0,0]
[7,0,0]
[7,0,0]
[7,0,0]
[7,0,0]
[7,0,0]
[7,0,0]
[7,0,0]
[7,0,0]
[7,0,0]
[7,0,0]
[7,0,0]
[7,0,0]
[7,0,0]

{"sheet":"Setup","index":1,"n_rows":27,"n_cols":4,"rows_kept":27,"cut":false,"hidden":false,"merged":[[17,0,17,3],[12,0,12,3],[13,0,13,2],[14,0,14,2],[15,0,15,2],[16,0,16,2],[9,2,10,3],[7,2,8,3],[5,2,6,3],[3,2,4,3],[0,1,0,2],[1,1,1,2]]}
["Farm Name","Wittenbach",null,"Enter Farm name"]
["Block Name","Gala",null,"Enter Block Name"]
["Table 1. Sampling Dates",null,"The yellow cells indicate input cells."]
["Date","Number","Input the sampling dates for your site into Table 1 (yellow area)."]
["2015-05-18",1]
[{"$f":"+A5+3","v":"2015-05-21"},2,"The dates already in the yellow cells are an example for you."]
["2015-05-25",3]
["2015-05-28",4,"Input your counted clusters and target fruit number in Table 2. "]
["2015-05-31",5]
["2015-06-03",6,"The Target Percent Fruitset= Target Number/Total Potential Fruitset"]
["2015-06-06",7]
[]
["Table 2. Percent Fruitset Target Density"]
["Bloom clusters counted per measured canopy area",null,null,75]
["Potential number of fruit in measured canopy area",null,null,{"$f":"+D14*5","v":375}]
["Target number of fruit desired in measured canopy area",null,null,40]
["Target % fruitset desired in measured canopy area",null,null,{"$f":"INT(+C20/A20*1000)*0.1","v":10.600000000000001}]
["Reference "]
["Total potential fruitset","Potential fruit /cluster","Target Fruit Number","Target Percent Fruitset"]
[{"$f":"+D14*B20","v":375},5,{"$f":"TargetNum","v":40},{"$f":"+C20/A20*100","v":10.666666666666668}]
[{"$f":"+D$14*B21","v":300},4,40,13.333333333333334]
[225,3,40,17.777777777777779]
[150,2,40,26.666666666666668]
[75,1,40,53.333333333333336]
[37.5,0.5,40,106.66666666666667]
[18.75,0.25,40,213.33333333333334]
[7.5,0.1,40,533.33333333333326]

{"sheet":"Summary","index":2,"n_rows":11,"n_cols":15,"rows_kept":11,"cut":false,"hidden":false,"merged":[[2,3,2,4],[2,10,2,11],[2,7,2,9],[9,10,9,11],[10,10,10,11],[0,12,2,14],[1,10,1,11],[1,6,1,9],[3,10,3,11],[4,10,4,11],[5,10,5,11],[6,10,6,11],[7,10,7,11],[8,10,8,11],[0,4,0,11],[1,0,1,4],[2,0,2,2],[2,5,2,6]]}
["Summary Sheet",null,null,null,{"$f":"\"Farm: \"&FarmName&\"   Block: \"&BlockName","v":"Farm: Wittenbach   Block: Gala"},null,null,null,null,null,null,null,"Predicted Number of Fruit Setting.  This area is used to format the numbers used in graphs.  It is not printed."]
["Target Fruit Number ",null,null,null,null,{"$f":"+TargetNum","v":40},"Target % Fruitset",null,null,null,{"$f":"TargetSet&\"%\"","v":"10.6%"}]
["Sampling",null,null,"Diameter (mm)",null,"Diameter Growth (mm)",null,"Number of Fruit",null,null,"Predicted % Setting"]
["Number","Date","Days between sample dates","Mean of 20 largest fruitlets","Mean of all fruitlets","Mean of up to 20 fastest growing fruitlets","50% fastest growing fruitlets",">50% fastest","<50% fastest","Measured","Based on Original # of Fruit",null,{"$f":"+K4","v":"Based on Original # of Fruit"},"Target % Fruitset","Target Fruit Number"]
[1,{"$f":"+Setup!A5","v":"2015-05-18"},0,{"$f":"+Diameter!B5","v":3.5339999999999989},{"$f":"+Diameter!B6","v":2.9233333333333316},null,null,null,null,{"$f":"+Diameter!B8","v":75}]
[2,{"$f":"+Setup!A6","v":"2015-05-21"},{"$f":"+B6-B5","v":3},{"$f":"+Diameter!C5","v":3.9905000000000008},{"$f":"+Diameter!C6","v":3.1657534246575354},{"$f":"+Count!B5","v":0.63800000000000001},{"$f":"+Count!B6","v":0.31900000000000001},{"$f":"+Count!B9","v":26},{"$f":"+J6-H6","v":47},{"$f":"+Diameter!C8","v":73},{"$f":"+H6/OMF*100","v":34.666666666666671},null,{"$f":"+K6","v":34.666666666666671},{"$f":"TargetSet","v":10.600000000000001},{"$f":"TargetNum","v":40}]
[3,{"$f":"+Setup!A7","v":"2015-05-25"},4,{"$f":"+Diameter!D5","v":4.8629999999999995},{"$f":"+Diameter!D6","v":3.4612962962962968},{"$f":"+Count!C5","v":1.046},{"$f":"+Count!C6","v":0.52300000000000002},{"$f":"+Count!C9","v":17},37,{"$f":"+Diameter!D8","v":54},22.666666666666664,null,22.666666666666664,10.600000000000001,40]
[4,{"$f":"+Setup!A8","v":"2015-05-28"},3,{"$f":"+Diameter!E5","v":7.7153333333333327},{"$f":"+Diameter!E6","v":7.7153333333333327},{"$f":"+Count!D5","v":2.5907142857142853},{"$f":"+Count!D6","v":1.2953571428571427},{"$f":"+Count!D9","v":12},3,{"$f":"+Diameter!E8","v":15},16,null,16,10.600000000000001,40]
[5,{"$f":"+Setup!A9","v":"2015-05-31"},3,{"$f":"+Diameter!F5","v":{"$error":"#DIV/0!"}},{"$f":"+Diameter!F6","v":{"$error":"#DIV/0!"}},{"$f":"+Count!E5","v":{"$error":"#DIV/0!"}},{"$f":"+Count!E6","v":{"$error":"#DIV/0!"}},{"$f":"+Count!E9","v":0},0,{"$f":"+Diameter!F8","v":0},0,null,0,10.600000000000001,40]
[6,{"$f":"+Setup!A10","v":"2015-06-03"},3,{"$f":"+Diameter!G5","v":{"$error":"#DIV/0!"}},{"$f":"+Diameter!G6","v":{"$error":"#DIV/0!"}},{"$f":"+Count!F5","v":{"$error":"#DIV/0!"}},{"$f":"+Count!F6","v":{"$error":"#DIV/0!"}},{"$f":"+Count!F9","v":0},0,{"$f":"+Diameter!G8","v":0},0,null,0,10.600000000000001,40]
[7,{"$f":"+Setup!A11","v":"2015-06-06"},3,{"$f":"+Diameter!H5","v":{"$error":"#DIV/0!"}},{"$f":"+Diameter!H6","v":{"$error":"#DIV/0!"}},{"$f":"+Count!G5","v":{"$error":"#DIV/0!"}},{"$f":"+Count!G6","v":{"$error":"#DIV/0!"}},{"$f":"+Count!G9","v":0},0,{"$f":"+Diameter!H8","v":0},0,null,0,10.600000000000001,40]

{"sheet":"Staging","index":3,"n_rows":513,"n_cols":10,"rows_kept":513,"cut":false,"hidden":false,"merged":[[1,3,1,9],[0,0,0,9],[1,0,1,2]]}
["Staging Sheet"]
[null,null,null,"Sampling Dates"]
["Number","Cluster","Flower",{"$f":"+Summary!B5","v":"2015-05-18"},{"$f":"+Summary!B6","v":"2015-05-21"},{"$f":"+Summary!B7","v":"2015-05-25"},{"$f":"+Summary!B8","v":"2015-05-28"},{"$f":"+Summary!B9","v":"2015-05-31"},{"$f":"+Summary!B10","v":"2015-06-03"},{"$f":"+Summary!B11","v":"2015-06-06"}]
[1,{"$f":"+Input!B4","v":1},{"$f":"+Input!C4","v":1},{"$f":"+Input!D4","v":4.8499999999999996},{"$f":"+Input!E4","v":5.76},{"$f":"+Input!F4","v":8.19},{"$f":"+Input!G4","v":12.51},{"$f":"+Input!H4","v":0},{"$f":"+Input!I4","v":0},{"$f":"+Input!J4","v":0}]
[2,{"$f":"+Input!B5","v":0},{"$f":"+Input!C5","v":2},{"$f":"+Input!D5","v":3},{"$f":"+Input!E5","v":2.99},{"$f":"+Input!F5","v":0},{"$f":"+Input!G5","v":0},{"$f":"+Input!H5","v":0},{"$f":"+Input!I5","v":0},{"$f":"+Input!J5","v":0}]
[3,{"$f":"+Input!B6","v":0},{"$f":"+Input!C6","v":3},{"$f":"+Input!D6","v":2.57},{"$f":"+Input!E6","v":3},{"$f":"+Input!F6","v":0},{"$f":"+Input!G6","v":0},{"$f":"+Input!H6","v":0},{"$f":"+Input!I6","v":0},{"$f":"+Input!J6","v":0}]
[4,{"$f":"+Input!B7","v":0},{"$f":"+Input!C7","v":4},{"$f":"+Input!D7","v":2.61},{"$f":"+Input!E7","v":2.6},{"$f":"+Input!F7","v":0},{"$f":"+Input!G7","v":0},{"$f":"+Input!H7","v":0},{"$f":"+Input!I7","v":0},{"$f":"+Input!J7","v":0}]
[5,{"$f":"+Input!B8","v":0},{"$f":"+Input!C8","v":5},{"$f":"+Input!D8","v":2.21},{"$f":"+Input!E8","v":1.89},{"$f":"+Input!F8","v":0},{"$f":"+Input!G8","v":0},{"$f":"+Input!H8","v":0},{"$f":"+Input!I8","v":0},{"$f":"+Input!J8","v":0}]
[6,{"$f":"+Input!B9","v":0},{"$f":"+Input!C9","v":0},{"$f":"+Input!D9","v":0},{"$f":"+Input!E9","v":0},{"$f":"+Input!F9","v":0},{"$f":"+Input!G9","v":0},{"$f":"+Input!H9","v":0},{"$f":"+Input!I9","v":0},{"$f":"+Input!J9","v":0}]
[7,{"$f":"+Input!B10","v":2},{"$f":"+Input!C10","v":1},{"$f":"+Input!D10","v":2.4300000000000002},{"$f":"+Input!E10","v":2.08},{"$f":"+Input!F10","v":0},{"$f":"+Input!G10","v":0},{"$f":"+Input!H10","v":0},{"$f":"+Input!I10","v":0},{"$f":"+Input!J10","v":0}]
[8,{"$f":"+Input!B11","v":0},{"$f":"+Input!C11","v":2},{"$f":"+Input!D11","v":2.21},{"$f":"+Input!E11","v":2.74},{"$f":"+Input!F11","v":0},{"$f":"+Input!G11","v":0},{"$f":"+Input!H11","v":0},{"$f":"+Input!I11","v":0},{"$f":"+Input!J11","v":0}]
[9,{"$f":"+Input!B12","v":0},{"$f":"+Input!C12","v":3},{"$f":"+Input!D12","v":2.39},{"$f":"+Input!E12","v":2.1},{"$f":"+Input!F12","v":1.78},{"$f":"+Input!G12","v":0},{"$f":"+Input!H12","v":0},{"$f":"+Input!I12","v":0},{"$f":"+Input!J12","v":0}]
[10,{"$f":"+Input!B13","v":0},{"$f":"+Input!C13","v":4},{"$f":"+Input!D13","v":2.04},{"$f":"+Input!E13","v":2.17},{"$f":"+Input!F13","v":0},{"$f":"+Input!G13","v":0},{"$f":"+Input!H13","v":0},{"$f":"+Input!I13","v":0},{"$f":"+Input!J13","v":0}]
[11,{"$f":"+Input!B14","v":0},{"$f":"+Input!C14","v":5},{"$f":"+Input!D14","v":2.4900000000000002},{"$f":"+Input!E14","v":2.59},{"$f":"+Input!F14","v":0},{"$f":"+Input!G14","v":0},{"$f":"+Input!H14","v":0},{"$f":"+Input!I14","v":0},{"$f":"+Input!J14","v":0}]
[12,{"$f":"+Input!B15","v":0},{"$f":"+Input!C15","v":0},{"$f":"+Input!D15","v":0},{"$f":"+Input!E15","v":0},{"$f":"+Input!F15","v":0},{"$f":"+Input!G15","v":0},{"$f":"+Input!H15","v":0},{"$f":"+Input!I15","v":0},{"$f":"+Input!J15","v":0}]
[13,{"$f":"+Input!B16","v":3},{"$f":"+Input!C16","v":1},{"$f":"+Input!D16","v":4.34},{"$f":"+Input!E16","v":5.3},{"$f":"+Input!F16","v":6.96},{"$f":"+Input!G16","v":10.38},{"$f":"+Input!H16","v":0},{"$f":"+Input!I16","v":0},{"$f":"+Input!J16","v":0}]
[14,{"$f":"+Input!B17","v":0},{"$f":"+Input!C17","v":2},{"$f":"+Input!D17","v":2.9},{"$f":"+Input!E17","v":2.81},{"$f":"+Input!F17","v":2.4900000000000002},{"$f":"+Input!G17","v":0},{"$f":"+Input!H17","v":0},{"$f":"+Input!I17","v":0},{"$f":"+Input!J17","v":0}]
[15,{"$f":"+Input!B18","v":0},{"$f":"+Input!C18","v":3},{"$f":"+Input!D18","v":2.8},{"$f":"+Input!E18","v":2.63},{"$f":"+Input!F18","v":2.5},{"$f":"+Input!G18","v":0},{"$f":"+Input!H18","v":0},{"$f":"+Input!I18","v":0},{"$f":"+Input!J18","v":0}]
[16,{"$f":"+Input!B19","v":0},{"$f":"+Input!C19","v":4},{"$f":"+Input!D19","v":3.05},{"$f":"+Input!E19","v":3.36},{"$f":"+Input!F19","v":0},{"$f":"+Input!G19","v":0},{"$f":"+Input!H19","v":0},{"$f":"+Input!I19","v":0},{"$f":"+Input!J19","v":0}]
[17,{"$f":"+Input!B20","v":0},{"$f":"+Input!C20","v":5},{"$f":"+Input!D20","v":2.98},{"$f":"+Input!E20","v":3.43},{"$f":"+Input!F20","v":2.9},{"$f":"+Input!G20","v":0},{"$f":"+Input!H20","v":0},{"$f":"+Input!I20","v":0},{"$f":"+Input!J20","v":0}]
[18,{"$f":"+Input!B21","v":0},{"$f":"+Input!C21","v":0},{"$f":"+Input!D21","v":0},{"$f":"+Input!E21","v":0},{"$f":"+Input!F21","v":0},{"$f":"+Input!G21","v":0},{"$f":"+Input!H21","v":0},{"$f":"+Input!I21","v":0},{"$f":"+Input!J21","v":0}]
[19,{"$f":"+Input!B22","v":4},{"$f":"+Input!C22","v":1},{"$f":"+Input!D22","v":3.76},{"$f":"+Input!E22","v":4.51},{"$f":"+Input!F22","v":5.45},{"$f":"+Input!G22","v":7.42},{"$f":"+Input!H22","v":0},{"$f":"+Input!I22","v":0},{"$f":"+Input!J22","v":0}]
[20,{"$f":"+Input!B23","v":0},{"$f":"+Input!C23","v":2},{"$f":"+Input!D23","v":2.72},{"$f":"+Input!E23","v":3.17},{"$f":"+Input!F23","v":3.27},{"$f":"+Input!G23","v":0},{"$f":"+Input!H23","v":0},{"$f":"+Input!I23","v":0},{"$f":"+Input!J23","v":0}]
[21,{"$f":"+Input!B24","v":0},{"$f":"+Input!C24","v":3},{"$f":"+Input!D24","v":2.93},{"$f":"+Input!E24","v":2.75},{"$f":"+Input!F24","v":3.02},{"$f":"+Input!G24","v":0},{"$f":"+Input!H24","v":0},{"$f":"+Input!I24","v":0},{"$f":"+Input!J24","v":0}]
[22,{"$f":"+Input!B25","v":0},{"$f":"+Input!C25","v":4},{"$f":"+Input!D25","v":2.7},{"$f":"+Input!E25","v":2.16},{"$f":"+Input!F25","v":2.75},{"$f":"+Input!G25","v":0},{"$f":"+Input!H25","v":0},{"$f":"+Input!I25","v":0},{"$f":"+Input!J25","v":0}]
[23,{"$f":"+Input!B26","v":0},{"$f":"+Input!C26","v":5},{"$f":"+Input!D26","v":2.93},{"$f":"+Input!E26","v":3.37},{"$f":"+Input!F26","v":3.27},{"$f":"+Input!G26","v":0},{"$f":"+Input!H26","v":0},{"$f":"+Input!I26","v":0},{"$f":"+Input!J26","v":0}]
[24,{"$f":"+Input!B27","v":0},{"$f":"+Input!C27","v":6},{"$f":"+Input!D27","v":3.28},{"$f":"+Input!E27","v":3.16},{"$f":"+Input!F27","v":2.83},{"$f":"+Input!G27","v":0},{"$f":"+Input!H27","v":0},{"$f":"+Input!I27","v":0},{"$f":"+Input!J27","v":0}]
[25,{"$f":"+Input!B28","v":0},{"$f":"+Input!C28","v":0},{"$f":"+Input!D28","v":0},{"$f":"+Input!E28","v":0},{"$f":"+Input!F28","v":0},{"$f":"+Input!G28","v":0},{"$f":"+Input!H28","v":0},{"$f":"+Input!I28","v":0},{"$f":"+Input!J28","v":0}]
[26,{"$f":"+B4","v":1},{"$f":"+Input!C29","v":1},{"$f":"+Input!D29","v":2.34},{"$f":"+Input!E29","v":0},{"$f":"+Input!F29","v":0},{"$f":"+Input!G29","v":0},{"$f":"+Input!H29","v":0},{"$f":"+Input!I29","v":0},{"$f":"+Input!J29","v":0}]
[27,{"$f":"+B5","v":0},{"$f":"+Input!C30","v":2},{"$f":"+Input!D30","v":2.99},{"$f":"+Input!E30","v":3.27},{"$f":"+Input!F30","v":0},{"$f":"+Input!G30","v":0},{"$f":"+Input!H30","v":0},{"$f":"+Input!I30","v":0},{"$f":"+Input!J30","v":0}]
[28,0,{"$f":"+Input!C31","v":3},{"$f":"+Input!D31","v":2.78},{"$f":"+Input!E31","v":2.76},{"$f":"+Input!F31","v":0},{"$f":"+Input!G31","v":0},{"$f":"+Input!H31","v":0},{"$f":"+Input!I31","v":0},{"$f":"+Input!J31","v":0}]
[29,0,{"$f":"+Input!C32","v":4},{"$f":"+Input!D32","v":2.87},{"$f":"+Input!E32","v":3.22},{"$f":"+Input!F32","v":2.79},{"$f":"+Input!G32","v":0},{"$f":"+Input!H32","v":0},{"$f":"+Input!I32","v":0},{"$f":"+Input!J32","v":0}]
[30,0,{"$f":"+Input!C33","v":5},{"$f":"+Input!D33","v":2.78},{"$f":"+Input!E33","v":3.02},{"$f":"+Input!F33","v":0},{"$f":"+Input!G33","v":0},{"$f":"+Input!H33","v":0},{"$f":"+Input!I33","v":0},{"$f":"+Input!J33","v":0}]
[31,0,{"$f":"+Input!C34","v":0},{"$f":"+Input!D34","v":0},{"$f":"+Input!E34","v":0},{"$f":"+Input!F34","v":0},{"$f":"+Input!G34","v":0},{"$f":"+Input!H34","v":0},{"$f":"+Input!I34","v":0},{"$f":"+Input!J34","v":0}]
[32,2,{"$f":"+Input!C35","v":1},{"$f":"+Input!D35","v":3.14},{"$f":"+Input!E35","v":3.45},{"$f":"+Input!F35","v":3.24},{"$f":"+Input!G35","v":0},{"$f":"+Input!H35","v":0},{"$f":"+Input!I35","v":0},{"$f":"+Input!J35","v":0}]
[33,0,{"$f":"+Input!C36","v":2},{"$f":"+Input!D36","v":2.63},{"$f":"+Input!E36","v":2.63},{"$f":"+Input!F36","v":2.84},{"$f":"+Input!G36","v":0},{"$f":"+Input!H36","v":0},{"$f":"+Input!I36","v":0},{"$f":"+Input!J36","v":0}]
[34,0,{"$f":"+Input!C37","v":3},{"$f":"+Input!D37","v":3},{"$f":"+Input!E37","v":2.7},{"$f":"+Input!F37","v":3.09},{"$f":"+Input!G37","v":0},{"$f":"+Input!H37","v":0},{"$f":"+Input!I37","v":0},{"$f":"+Input!J37","v":0}]
[35,0,{"$f":"+Input!C38","v":4},{"$f":"+Input!D38","v":2.41},{"$f":"+Input!E38","v":3.2},{"$f":"+Input!F38","v":1.86},{"$f":"+Input!G38","v":0},{"$f":"+Input!H38","v":0},{"$f":"+Input!I38","v":0},{"$f":"+Input!J38","v":0}]
[36,0,{"$f":"+Input!C39","v":5},{"$f":"+Input!D39","v":2.63},{"$f":"+Input!E39","v":2.84},{"$f":"+Input!F39","v":2.61},{"$f":"+Input!G39","v":0},{"$f":"+Input!H39","v":0},{"$f":"+Input!I39","v":0},{"$f":"+Input!J39","v":0}]
[37,0,{"$f":"+Input!C40","v":6},{"$f":"+Input!D40","v":2.56},{"$f":"+Input!E40","v":3.14},{"$f":"+Input!F40","v":2.36},{"$f":"+Input!G40","v":0},{"$f":"+Input!H40","v":0},{"$f":"+Input!I40","v":0},{"$f":"+Input!J40","v":0}]
[38,3,{"$f":"+Input!C41","v":0},{"$f":"+Input!D41","v":0},{"$f":"+Input!E41","v":0},{"$f":"+Input!F41","v":0},{"$f":"+Input!G41","v":0},{"$f":"+Input!H41","v":0},{"$f":"+Input!I41","v":0},{"$f":"+Input!J41","v":0}]
[39,0,{"$f":"+Input!C42","v":1},{"$f":"+Input!D42","v":3.87},{"$f":"+Input!E42","v":3.63},{"$f":"+Input!F42","v":3.45},{"$f":"+Input!G42","v":0},{"$f":"+Input!H42","v":0},{"$f":"+Input!I42","v":0},{"$f":"+Input!J42","v":0}]
[40,0,{"$f":"+Input!C43","v":2},{"$f":"+Input!D43","v":2.67},{"$f":"+Input!E43","v":3.39},{"$f":"+Input!F43","v":2.96},{"$f":"+Input!G43","v":0},{"$f":"+Input!H43","v":0},{"$f":"+Input!I43","v":0},{"$f":"+Input!J43","v":0}]
[41,0,{"$f":"+Input!C44","v":3},{"$f":"+Input!D44","v":2.4900000000000002},{"$f":"+Input!E44","v":2.84},{"$f":"+Input!F44","v":3.02},{"$f":"+Input!G44","v":0},{"$f":"+Input!H44","v":0},{"$f":"+Input!I44","v":0},{"$f":"+Input!J44","v":0}]
[42,0,{"$f":"+Input!C45","v":4},{"$f":"+Input!D45","v":3.04},{"$f":"+Input!E45","v":3.57},{"$f":"+Input!F45","v":4.95},{"$f":"+Input!G45","v":8.02},{"$f":"+Input!H45","v":0},{"$f":"+Input!I45","v":0},{"$f":"+Input!J45","v":0}]
[43,0,{"$f":"+Input!C46","v":5},{"$f":"+Input!D46","v":2.79},{"$f":"+Input!E46","v":2.99},{"$f":"+Input!F46","v":2.62},{"$f":"+Input!G46","v":0},{"$f":"+Input!H46","v":0},{"$f":"+Input!I46","v":0},{"$f":"+Input!J46","v":0}]
[44,4,{"$f":"+Input!C47","v":6},{"$f":"+Input!D47","v":2.87},{"$f":"+Input!E47","v":3},{"$f":"+Input!F47","v":2.56},{"$f":"+Input!G47","v":0},{"$f":"+Input!H47","v":0},{"$f":"+Input!I47","v":0},{"$f":"+Input!J47","v":0}]
[45,0,{"$f":"+Input!C48","v":0},{"$f":"+Input!D48","v":0},{"$f":"+Input!E48","v":0},{"$f":"+Input!F48","v":0},{"$f":"+Input!G48","v":0},{"$f":"+Input!H48","v":0},{"$f":"+Input!I48","v":0},{"$f":"+Input!J48","v":0}]
[46,0,{"$f":"+Input!C49","v":1},{"$f":"+Input!D49","v":2.86},{"$f":"+Input!E49","v":2.89},{"$f":"+Input!F49","v":2.73},{"$f":"+Input!G49","v":0},{"$f":"+Input!H49","v":0},{"$f":"+Input!I49","v":0},{"$f":"+Input!J49","v":0}]
[47,0,{"$f":"+Input!C50","v":2},{"$f":"+Input!D50","v":2.5299999999999998},{"$f":"+Input!E50","v":2.83},{"$f":"+Input!F50","v":3.72},{"$f":"+Input!G50","v":6.31},{"$f":"+Input!H50","v":0},{"$f":"+Input!I50","v":0},{"$f":"+Input!J50","v":0}]
[48,0,{"$f":"+Input!C51","v":3},{"$f":"+Input!D51","v":2.13},{"$f":"+Input!E51","v":2.72},{"$f":"+Input!F51","v":1.86},{"$f":"+Input!G51","v":0},{"$f":"+Input!H51","v":0},{"$f":"+Input!I51","v":0},{"$f":"+Input!J51","v":0}]
[49,0,{"$f":"+Input!C52","v":0},{"$f":"+Input!D52","v":0},{"$f":"+Input!E52","v":0},{"$f":"+Input!F52","v":0},{"$f":"+Input!G52","v":0},{"$f":"+Input!H52","v":0},{"$f":"+Input!I52","v":0},{"$f":"+Input!J52","v":0}]
[50,0,{"$f":"+Input!C53","v":1},{"$f":"+Input!D53","v":2.88},{"$f":"+Input!E53","v":3.08},{"$f":"+Input!F53","v":2.5499999999999998},{"$f":"+Input!G53","v":0},{"$f":"+Input!H53","v":0},{"$f":"+Input!I53","v":0},{"$f":"+Input!J53","v":0}]
[51,1,{"$f":"+Input!C54","v":2},{"$f":"+Input!D54","v":3.73},{"$f":"+Input!E54","v":3.97},{"$f":"+Input!F54","v":5.19},{"$f":"+Input!G54","v":7.99},{"$f":"+Input!H54","v":0},{"$f":"+Input!I54","v":0},{"$f":"+Input!J54","v":0}]
[52,0,{"$f":"+Input!C55","v":3},{"$f":"+Input!D55","v":2.96},{"$f":"+Input!E55","v":3.15},{"$f":"+Input!F55","v":2.82},{"$f":"+Input!G55","v":0},{"$f":"+Input!H55","v":0},{"$f":"+Input!I55","v":0},{"$f":"+Input!J55","v":0}]
[53,0,{"$f":"+Input!C56","v":4},{"$f":"+Input!D56","v":3.1},{"$f":"+Input!E56","v":3.32},{"$f":"+Input!F56","v":3.04},{"$f":"+Input!G56","v":0},{"$f":"+Input!H56","v":0},{"$f":"+Input!I56","v":0},{"$f":"+Input!J56","v":0}]
[54,0,{"$f":"+Input!C57","v":5},{"$f":"+Input!D57","v":3.21},{"$f":"+Input!E57","v":3.33},{"$f":"+Input!F57","v":3.01},{"$f":"+Input!G57","v":0},{"$f":"+Input!H57","v":0},{"$f":"+Input!I57","v":0},{"$f":"+Input!J57","v":0}]
[55,0,{"$f":"+Input!C58","v":0},{"$f":"+Input!D58","v":0},{"$f":"+Input!E58","v":0},{"$f":"+Input!F58","v":0},{"$f":"+Input!G58","v":0},{"$f":"+Input!H58","v":0},{"$f":"+Input!I58","v":0},{"$f":"+Input!J58","v":0}]
[56,0,{"$f":"+Input!C59","v":1},{"$f":"+Input!D59","v":2.82},{"$f":"+Input!E59","v":3.08},{"$f":"+Input!F59","v":0},{"$f":"+Input!G59","v":0},{"$f":"+Input!H59","v":0},{"$f":"+Input!I59","v":0},{"$f":"+Input!J59","v":0}]
[57,2,{"$f":"+Input!C60","v":2},{"$f":"+Input!D60","v":3.26},{"$f":"+Input!E60","v":3.99},{"$f":"+Input!F60","v":4.8099999999999996},{"$f":"+Input!G60","v":7.99},{"$f":"+Input!H60","v":0},{"$f":"+Input!I60","v":0},{"$f":"+Input!J60","v":0}]
[58,0,{"$f":"+Input!C61","v":3},{"$f":"+Input!D61","v":2.69},{"$f":"+Input!E61","v":2.92},{"$f":"+Input!F61","v":0},{"$f":"+Input!G61","v":0},{"$f":"+Input!H61","v":0},{"$f":"+Input!I61","v":0},{"$f":"+Input!J61","v":0}]
[59,0,{"$f":"+Input!C62","v":4},{"$f":"+Input!D62","v":3.24},{"$f":"+Input!E62","v":3.72},{"$f":"+Input!F62","v":5.1100000000000003},{"$f":"+Input!G62","v":8.0399999999999991},{"$f":"+Input!H62","v":0},{"$f":"+Input!I62","v":0},{"$f":"+Input!J62","v":0}]
[60,0,{"$f":"+Input!C63","v":5},{"$f":"+Input!D63","v":2.89},{"$f":"+Input!E63","v":3.22},{"$f":"+Input!F63","v":0},{"$f":"+Input!G63","v":0},{"$f":"+Input!H63","v":0},{"$f":"+Input!I63","v":0},{"$f":"+Input!J63","v":0}]
[61,0,{"$f":"+Input!C64","v":0},{"$f":"+Input!D64","v":0},{"$f":"+Input!E64","v":0},{"$f":"+Input!F64","v":0},{"$f":"+Input!G64","v":0},{"$f":"+Input!H64","v":0},{"$f":"+Input!I64","v":0},{"$f":"+Input!J64","v":0}]
[62,0,{"$f":"+Input!C65","v":1},{"$f":"+Input!D65","v":3.67},{"$f":"+Input!E65","v":4.7},{"$f":"+Input!F65","v":5.87},{"$f":"+Input!G65","v":9.07},{"$f":"+Input!H65","v":0},{"$f":"+Input!I65","v":0},{"$f":"+Input!J65","v":0}]
[63,3,{"$f":"+Input!C66","v":2},{"$f":"+Input!D66","v":3.04},{"$f":"+Input!E66","v":3.54},{"$f":"+Input!F66","v":4.38},{"$f":"+Input!G66","v":4.42},{"$f":"+Input!H66","v":0},{"$f":"+Input!I66","v":0},{"$f":"+Input!J66","v":0}]
[64,0,{"$f":"+Input!C67","v":3},{"$f":"+Input!D67","v":2.64},{"$f":"+Input!E67","v":2.4900000000000002},{"$f":"+Input!F67","v":0},{"$f":"+Input!G67","v":0},{"$f":"+Input!H67","v":0},{"$f":"+Input!I67","v":0},{"$f":"+Input!J67","v":0}]
[65,0,{"$f":"+Input!C68","v":4},{"$f":"+Input!D68","v":3.29},{"$f":"+Input!E68","v":4.08},{"$f":"+Input!F68","v":5.43},{"$f":"+Input!G68","v":8.11},{"$f":"+Input!H68","v":0},{"$f":"+Input!I68","v":0},{"$f":"+Input!J68","v":0}]
[66,0,{"$f":"+Input!C69","v":5},{"$f":"+Input!D69","v":2.96},{"$f":"+Input!E69","v":3.45},{"$f":"+Input!F69","v":4.24},{"$f":"+Input!G69","v":4.13},{"$f":"+Input!H69","v":0},{"$f":"+Input!I69","v":0},{"$f":"+Input!J69","v":0}]
[67,0,{"$f":"+Input!C70","v":0},{"$f":"+Input!D70","v":0},{"$f":"+Input!E70","v":0},{"$f":"+Input!F70","v":0},{"$f":"+Input!G70","v":0},{"$f":"+Input!H70","v":0},{"$f":"+Input!I70","v":0},{"$f":"+Input!J70","v":0}]
[68,0,{"$f":"+Input!C71","v":1},{"$f":"+Input!D71","v":2.79},{"$f":"+Input!E71","v":0},{"$f":"+Input!F71","v":0},{"$f":"+Input!G71","v":0},{"$f":"+Input!H71","v":0},{"$f":"+Input!I71","v":0},{"$f":"+Input!J71","v":0}]
[69,4,{"$f":"+Input!C72","v":2},{"$f":"+Input!D72","v":2.7},{"$f":"+Input!E72","v":2.77},{"$f":"+Input!F72","v":0},{"$f":"+Input!G72","v":0},{"$f":"+Input!H72","v":0},{"$f":"+Input!I72","v":0},{"$f":"+Input!J72","v":0}]
[70,0,{"$f":"+Input!C73","v":3},{"$f":"+Input!D73","v":2.64},{"$f":"+Input!E73","v":2.74},{"$f":"+Input!F73","v":2.0499999999999998},{"$f":"+Input!G73","v":0},{"$f":"+Input!H73","v":0},{"$f":"+Input!I73","v":0},{"$f":"+Input!J73","v":0}]
[71,0,{"$f":"+Input!C74","v":4},{"$f":"+Input!D74","v":2.7},{"$f":"+Input!E74","v":2.82},{"$f":"+Input!F74","v":2.4700000000000002},{"$f":"+Input!G74","v":0},{"$f":"+Input!H74","v":0},{"$f":"+Input!I74","v":0},{"$f":"+Input!J74","v":0}]
[72,0,{"$f":"+Input!C75","v":5},{"$f":"+Input!D75","v":2.72},{"$f":"+Input!E75","v":2.9},{"$f":"+Input!F75","v":2.19},{"$f":"+Input!G75","v":0},{"$f":"+Input!H75","v":0},{"$f":"+Input!I75","v":0},{"$f":"+Input!J75","v":0}]
[73,0,{"$f":"+Input!C76","v":0},{"$f":"+Input!D76","v":0},{"$f":"+Input!E76","v":0},{"$f":"+Input!F76","v":0},{"$f":"+Input!G76","v":0},{"$f":"+Input!H76","v":0},{"$f":"+Input!I76","v":0},{"$f":"+Input!J76","v":0}]
[74,0,{"$f":"+Input!C77","v":1},{"$f":"+Input!D77","v":2.75},{"$f":"+Input!E77","v":2.75},{"$f":"+Input!F77","v":2.34},{"$f":"+Input!G77","v":0},{"$f":"+Input!H77","v":0},{"$f":"+Input!I77","v":0},{"$f":"+Input!J77","v":0}]
[75,0,{"$f":"+Input!C78","v":2},{"$f":"+Input!D78","v":2.5299999999999998},{"$f":"+Input!E78","v":2.5099999999999998},{"$f":"+Input!F78","v":2.44},{"$f":"+Input!G78","v":0},{"$f":"+Input!H78","v":0},{"$f":"+Input!I78","v":0},{"$f":"+Input!J78","v":0}]
[76,1,{"$f":"+Input!C79","v":3},{"$f":"+Input!D79","v":2.82},{"$f":"+Input!E79","v":2.87},{"$f":"+Input!F79","v":4.2300000000000004},{"$f":"+Input!G79","v":0},{"$f":"+Input!H79","v":0},{"$f":"+Input!I79","v":0},{"$f":"+Input!J79","v":0}]
[77,0,{"$f":"+Input!C80","v":4},{"$f":"+Input!D80","v":2.39},{"$f":"+Input!E80","v":2.82},{"$f":"+Input!F80","v":3.47},{"$f":"+Input!G80","v":0},{"$f":"+Input!H80","v":0},{"$f":"+Input!I80","v":0},{"$f":"+Input!J80","v":0}]
[78,0,{"$f":"+Input!C81","v":5},{"$f":"+Input!D81","v":2.72},{"$f":"+Input!E81","v":2.79},{"$f":"+Input!F81","v":2.34},{"$f":"+Input!G81","v":0},{"$f":"+Input!H81","v":0},{"$f":"+Input!I81","v":0},{"$f":"+Input!J81","v":0}]
[79,0,{"$f":"+Input!C82","v":0},{"$f":"+Input!D82","v":0},{"$f":"+Input!E82","v":0},{"$f":"+Input!F82","v":0},{"$f":"+Input!G82","v":0},{"$f":"+Input!H82","v":0},{"$f":"+Input!I82","v":0},{"$f":"+Input!J82","v":0}]
[80,0,{"$f":"+Input!C83","v":1},{"$f":"+Input!D83","v":3.16},{"$f":"+Input!E83","v":3.21},{"$f":"+Input!F83","v":3.04},{"$f":"+Input!G83","v":0},{"$f":"+Input!H83","v":0},{"$f":"+Input!I83","v":0},{"$f":"+Input!J83","v":0}]
[81,0,{"$f":"+Input!C84","v":2},{"$f":"+Input!D84","v":2.8},{"$f":"+Input!E84","v":3.05},{"$f":"+Input!F84","v":0},{"$f":"+Input!G84","v":0},{"$f":"+Input!H84","v":0},{"$f":"+Input!I84","v":0},{"$f":"+Input!J84","v":0}]
[82,2,{"$f":"+Input!C85","v":3},{"$f":"+Input!D85","v":3.1},{"$f":"+Input!E85","v":3.05},{"$f":"+Input!F85","v":2.87},{"$f":"+Input!G85","v":0},{"$f":"+Input!H85","v":0},{"$f":"+Input!I85","v":0},{"$f":"+Input!J85","v":0}]
[83,0,{"$f":"+Input!C86","v":0},{"$f":"+Input!D86","v":0},{"$f":"+Input!E86","v":0},{"$f":"+Input!F86","v":0},{"$f":"+Input!G86","v":0},{"$f":"+Input!H86","v":0},{"$f":"+Input!I86","v":0},{"$f":"+Input!J86","v":0}]
[84,0,{"$f":"+Input!C87","v":1},{"$f":"+Input!D87","v":4.22},{"$f":"+Input!E87","v":4.83},{"$f":"+Input!F87","v":6.07},{"$f":"+Input!G87","v":9.31},{"$f":"+Input!H87","v":0},{"$f":"+Input!I87","v":0},{"$f":"+Input!J87","v":0}]
[85,0,{"$f":"+Input!C88","v":2},{"$f":"+Input!D88","v":3.82},{"$f":"+Input!E88","v":4.0999999999999996},{"$f":"+Input!F88","v":5.43},{"$f":"+Input!G88","v":8.14},{"$f":"+Input!H88","v":0},{"$f":"+Input!I88","v":0},{"$f":"+Input!J88","v":0}]
[86,0,{"$f":"+Input!C89","v":3},{"$f":"+Input!D89","v":2.8},{"$f":"+Input!E89","v":3.21},{"$f":"+Input!F89","v":2.98},{"$f":"+Input!G89","v":0},{"$f":"+Input!H89","v":0},{"$f":"+Input!I89","v":0},{"$f":"+Input!J89","v":0}]
[87,0,{"$f":"+Input!C90","v":4},{"$f":"+Input!D90","v":3.1},{"$f":"+Input!E90","v":3.11},{"$f":"+Input!F90","v":2.7},{"$f":"+Input!G90","v":0},{"$f":"+Input!H90","v":0},{"$f":"+Input!I90","v":0},{"$f":"+Input!J90","v":0}]
[88,3,{"$f":"+Input!C91","v":5},{"$f":"+Input!D91","v":3.32},{"$f":"+Input!E91","v":3.66},{"$f":"+Input!F91","v":3.77},{"$f":"+Input!G91","v":3.89},{"$f":"+Input!H91","v":0},{"$f":"+Input!I91","v":0},{"$f":"+Input!J91","v":0}]
[89,0,{"$f":"+Input!C92","v":6},{"$f":"+Input!D92","v":3.22},{"$f":"+Input!E92","v":3.21},{"$f":"+Input!F92","v":0},{"$f":"+Input!G92","v":0},{"$f":"+Input!H92","v":0},{"$f":"+Input!I92","v":0},{"$f":"+Input!J92","v":0}]
[90,0,{"$f":"+Input!C93","v":0},{"$f":"+Input!D93","v":0},{"$f":"+Input!E93","v":0},{"$f":"+Input!F93","v":0},{"$f":"+Input!G93","v":0},{"$f":"+Input!H93","v":0},{"$f":"+Input!I93","v":0},{"$f":"+Input!J93","v":0}]
[91,{"$f":"+B69","v":0},{"$f":"+Input!C94","v":0},{"$f":"+Input!D94","v":0},{"$f":"+Input!E94","v":0},{"$f":"+Input!F94","v":0},{"$f":"+Input!G94","v":0},{"$f":"+Input!H94","v":0},{"$f":"+Input!I94","v":0},{"$f":"+Input!J94","v":0}]
[92,0,{"$f":"+Input!C95","v":0},{"$f":"+Input!D95","v":0},{"$f":"+Input!E95","v":0},{"$f":"+Input!F95","v":0},{"$f":"+Input!G95","v":0},{"$f":"+Input!H95","v":0},{"$f":"+Input!I95","v":0},{"$f":"+Input!J95","v":0}]
[93,0,{"$f":"+Input!C96","v":0},{"$f":"+Input!D96","v":0},{"$f":"+Input!E96","v":0},{"$f":"+Input!F96","v":0},{"$f":"+Input!G96","v":0},{"$f":"+Input!H96","v":0},{"$f":"+Input!I96","v":0},{"$f":"+Input!J96","v":0}]
[94,4,{"$f":"+Input!C97","v":0},{"$f":"+Input!D97","v":0},{"$f":"+Input!E97","v":0},{"$f":"+Input!F97","v":0},{"$f":"+Input!G97","v":0},{"$f":"+Input!H97","v":0},{"$f":"+Input!I97","v":0},{"$f":"+Input!J97","v":0}]
[95,0,{"$f":"+Input!C98","v":0},{"$f":"+Input!D98","v":0},{"$f":"+Input!E98","v":0},{"$f":"+Input!F98","v":0},{"$f":"+Input!G98","v":0},{"$f":"+Input!H98","v":0},{"$f":"+Input!I98","v":0},{"$f":"+Input!J98","v":0}]
[96,0,{"$f":"+Input!C99","v":0},{"$f":"+Input!D99","v":0},{"$f":"+Input!E99","v":0},{"$f":"+Input!F99","v":0},{"$f":"+Input!G99","v":0},{"$f":"+Input!H99","v":0},{"$f":"+Input!I99","v":0},{"$f":"+Input!J99","v":0}]
[97,0,{"$f":"+Input!C100","v":0},{"$f":"+Input!D100","v":0},{"$f":"+Input!E100","v":0},{"$f":"+Input!F100","v":0},{"$f":"+Input!G100","v":0},{"$f":"+Input!H100","v":0},{"$f":"+Input!I100","v":0},{"$f":"+Input!J100","v":0}]
[98,0,{"$f":"+Input!C101","v":0},{"$f":"+Input!D101","v":0},{"$f":"+Input!E101","v":0},{"$f":"+Input!F101","v":0},{"$f":"+Input!G101","v":0},{"$f":"+Input!H101","v":0},{"$f":"+Input!I101","v":0},{"$f":"+Input!J101","v":0}]
[99,0,{"$f":"+Input!C102","v":0},{"$f":"+Input!D102","v":0},{"$f":"+Input!E102","v":0},{"$f":"+Input!F102","v":0},{"$f":"+Input!G102","v":0},{"$f":"+Input!H102","v":0},{"$f":"+Input!I102","v":0},{"$f":"+Input!J102","v":0}]
[100,0,{"$f":"+Input!C103","v":0},{"$f":"+Input!D103","v":0},{"$f":"+Input!E103","v":0},{"$f":"+Input!F103","v":0},{"$f":"+Input!G103","v":0},{"$f":"+Input!H103","v":0},{"$f":"+Input!I103","v":0},{"$f":"+Input!J103","v":0}]
[101,1,{"$f":"+Input!C104","v":0},{"$f":"+Input!D104","v":0},{"$f":"+Input!E104","v":0},{"$f":"+Input!F104","v":0},{"$f":"+Input!G104","v":0},{"$f":"+Input!H104","v":0},{"$f":"+Input!I104","v":0},{"$f":"+Input!J104","v":0}]
[102,0,{"$f":"+Input!C105","v":0},{"$f":"+Input!D105","v":0},{"$f":"+Input!E105","v":0},{"$f":"+Input!F105","v":0},{"$f":"+Input!G105","v":0},{"$f":"+Input!H105","v":0},{"$f":"+Input!I105","v":0},{"$f":"+Input!J105","v":0}]
[103,0,{"$f":"+Input!C106","v":0},{"$f":"+Input!D106","v":0},{"$f":"+Input!E106","v":0},{"$f":"+Input!F106","v":0},{"$f":"+Input!G106","v":0},{"$f":"+Input!H106","v":0},{"$f":"+Input!I106","v":0},{"$f":"+Input!J106","v":0}]
[104,0,{"$f":"+Input!C107","v":0},{"$f":"+Input!D107","v":0},{"$f":"+Input!E107","v":0},{"$f":"+Input!F107","v":0},{"$f":"+Input!G107","v":0},{"$f":"+Input!H107","v":0},{"$f":"+Input!I107","v":0},{"$f":"+Input!J107","v":0}]
[105,0,{"$f":"+Input!C108","v":0},{"$f":"+Input!D108","v":0},{"$f":"+Input!E108","v":0},{"$f":"+Input!F108","v":0},{"$f":"+Input!G108","v":0},{"$f":"+Input!H108","v":0},{"$f":"+Input!I108","v":0},{"$f":"+Input!J108","v":0}]
[106,0,{"$f":"+Input!C109","v":0},{"$f":"+Input!D109","v":0},{"$f":"+Input!E109","v":0},{"$f":"+Input!F109","v":0},{"$f":"+Input!G109","v":0},{"$f":"+Input!H109","v":0},{"$f":"+Input!I109","v":0},{"$f":"+Input!J109","v":0}]
[107,2,{"$f":"+Input!C110","v":0},{"$f":"+Input!D110","v":0},{"$f":"+Input!E110","v":0},{"$f":"+Input!F110","v":0},{"$f":"+Input!G110","v":0},{"$f":"+Input!H110","v":0},{"$f":"+Input!I110","v":0},{"$f":"+Input!J110","v":0}]
[108,0,{"$f":"+Input!C111","v":0},{"$f":"+Input!D111","v":0},{"$f":"+Input!E111","v":0},{"$f":"+Input!F111","v":0},{"$f":"+Input!G111","v":0},{"$f":"+Input!H111","v":0},{"$f":"+Input!I111","v":0},{"$f":"+Input!J111","v":0}]
[109,0,{"$f":"+Input!C112","v":0},{"$f":"+Input!D112","v":0},{"$f":"+Input!E112","v":0},{"$f":"+Input!F112","v":0},{"$f":"+Input!G112","v":0},{"$f":"+Input!H112","v":0},{"$f":"+Input!I112","v":0},{"$f":"+Input!J112","v":0}]
[110,0,{"$f":"+Input!C113","v":0},{"$f":"+Input!D113","v":0},{"$f":"+Input!E113","v":0},{"$f":"+Input!F113","v":0},{"$f":"+Input!G113","v":0},{"$f":"+Input!H113","v":0},{"$f":"+Input!I113","v":0},{"$f":"+Input!J113","v":0}]
[111,0,{"$f":"+Input!C114","v":0},{"$f":"+Input!D114","v":0},{"$f":"+Input!E114","v":0},{"$f":"+Input!F114","v":0},{"$f":"+Input!G114","v":0},{"$f":"+Input!H114","v":0},{"$f":"+Input!I114","v":0},{"$f":"+Input!J114","v":0}]
[112,0,{"$f":"+Input!C115","v":0},{"$f":"+Input!D115","v":0},{"$f":"+Input!E115","v":0},{"$f":"+Input!F115","v":0},{"$f":"+Input!G115","v":0},{"$f":"+Input!H115","v":0},{"$f":"+Input!I115","v":0},{"$f":"+Input!J115","v":0}]
[113,3,{"$f":"+Input!C116","v":0},{"$f":"+Input!D116","v":0},{"$f":"+Input!E116","v":0},{"$f":"+Input!F116","v":0},{"$f":"+Input!G116","v":0},{"$f":"+Input!H116","v":0},{"$f":"+Input!I116","v":0},{"$f":"+Input!J116","v":0}]
[114,0,{"$f":"+Input!C117","v":0},{"$f":"+Input!D117","v":0},{"$f":"+Input!E117","v":0},{"$f":"+Input!F117","v":0},{"$f":"+Input!G117","v":0},{"$f":"+Input!H117","v":0},{"$f":"+Input!I117","v":0},{"$f":"+Input!J117","v":0}]
[115,0,{"$f":"+Input!C118","v":0},{"$f":"+Input!D118","v":0},{"$f":"+Input!E118","v":0},{"$f":"+Input!F118","v":0},{"$f":"+Input!G118","v":0},{"$f":"+Input!H118","v":0},{"$f":"+Input!I118","v":0},{"$f":"+Input!J118","v":0}]
[116,0,{"$f":"+Input!C119","v":0},{"$f":"+Input!D119","v":0},{"$f":"+Input!E119","v":0},{"$f":"+Input!F119","v":0},{"$f":"+Input!G119","v":0},{"$f":"+Input!H119","v":0},{"$f":"+Input!I119","v":0},{"$f":"+Input!J119","v":0}]
[117,0,{"$f":"+Input!C120","v":0},{"$f":"+Input!D120","v":0},{"$f":"+Input!E120","v":0},{"$f":"+Input!F120","v":0},{"$f":"+Input!G120","v":0},{"$f":"+Input!H120","v":0},{"$f":"+Input!I120","v":0},{"$f":"+Input!J120","v":0}]
[118,0,{"$f":"+Input!C121","v":0},{"$f":"+Input!D121","v":0},{"$f":"+Input!E121","v":0},{"$f":"+Input!F121","v":0},{"$f":"+Input!G121","v":0},{"$f":"+Input!H121","v":0},{"$f":"+Input!I121","v":0},{"$f":"+Input!J121","v":0}]
[119,4,{"$f":"+Input!C122","v":0},{"$f":"+Input!D122","v":0},{"$f":"+Input!E122","v":0},{"$f":"+Input!F122","v":0},{"$f":"+Input!G122","v":0},{"$f":"+Input!H122","v":0},{"$f":"+Input!I122","v":0},{"$f":"+Input!J122","v":0}]
[120,0,{"$f":"+Input!C123","v":0},{"$f":"+Input!D123","v":0},{"$f":"+Input!E123","v":0},{"$f":"+Input!F123","v":0},{"$f":"+Input!G123","v":0},{"$f":"+Input!H123","v":0},{"$f":"+Input!I123","v":0},{"$f":"+Input!J123","v":0}]
[121,0,{"$f":"+Input!C124","v":0},{"$f":"+Input!D124","v":0},{"$f":"+Input!E124","v":0},{"$f":"+Input!F124","v":0},{"$f":"+Input!G124","v":0},{"$f":"+Input!H124","v":0},{"$f":"+Input!I124","v":0},{"$f":"+Input!J124","v":0}]
[122,0,{"$f":"+Input!C125","v":0},{"$f":"+Input!D125","v":0},{"$f":"+Input!E125","v":0},{"$f":"+Input!F125","v":0},{"$f":"+Input!G125","v":0},{"$f":"+Input!H125","v":0},{"$f":"+Input!I125","v":0},{"$f":"+Input!J125","v":0}]
[123,0,{"$f":"+Input!C126","v":0},{"$f":"+Input!D126","v":0},{"$f":"+Input!E126","v":0},{"$f":"+Input!F126","v":0},{"$f":"+Input!G126","v":0},{"$f":"+Input!H126","v":0},{"$f":"+Input!I126","v":0},{"$f":"+Input!J126","v":0}]
[124,0,{"$f":"+Input!C127","v":0},{"$f":"+Input!D127","v":0},{"$f":"+Input!E127","v":0},{"$f":"+Input!F127","v":0},{"$f":"+Input!G127","v":0},{"$f":"+Input!H127","v":0},{"$f":"+Input!I127","v":0},{"$f":"+Input!J127","v":0}]
[125,0,{"$f":"+Input!C128","v":0},{"$f":"+Input!D128","v":0},{"$f":"+Input!E128","v":0},{"$f":"+Input!F128","v":0},{"$f":"+Input!G128","v":0},{"$f":"+Input!H128","v":0},{"$f":"+Input!I128","v":0},{"$f":"+Input!J128","v":0}]
[126,1,{"$f":"+Input!C129","v":0},{"$f":"+Input!D129","v":0},{"$f":"+Input!E129","v":0},{"$f":"+Input!F129","v":0},{"$f":"+Input!G129","v":0},{"$f":"+Input!H129","v":0},{"$f":"+Input!I129","v":0},{"$f":"+Input!J129","v":0}]
[127,0,{"$f":"+Input!C130","v":0},{"$f":"+Input!D130","v":0},{"$f":"+Input!E130","v":0},{"$f":"+Input!F130","v":0},{"$f":"+Input!G130","v":0},{"$f":"+Input!H130","v":0},{"$f":"+Input!I130","v":0},{"$f":"+Input!J130","v":0}]
[128,0,{"$f":"+Input!C131","v":0},{"$f":"+Input!D131","v":0},{"$f":"+Input!E131","v":0},{"$f":"+Input!F131","v":0},{"$f":"+Input!G131","v":0},{"$f":"+Input!H131","v":0},{"$f":"+Input!I131","v":0},{"$f":"+Input!J131","v":0}]
[129,0,{"$f":"+Input!C132","v":0},{"$f":"+Input!D132","v":0},{"$f":"+Input!E132","v":0},{"$f":"+Input!F132","v":0},{"$f":"+Input!G132","v":0},{"$f":"+Input!H132","v":0},{"$f":"+Input!I132","v":0},{"$f":"+Input!J132","v":0}]
[130,0,{"$f":"+Input!C133","v":0},{"$f":"+Input!D133","v":0},{"$f":"+Input!E133","v":0},{"$f":"+Input!F133","v":0},{"$f":"+Input!G133","v":0},{"$f":"+Input!H133","v":0},{"$f":"+Input!I133","v":0},{"$f":"+Input!J133","v":0}]
[131,0,{"$f":"+Input!C134","v":0},{"$f":"+Input!D134","v":0},{"$f":"+Input!E134","v":0},{"$f":"+Input!F134","v":0},{"$f":"+Input!G134","v":0},{"$f":"+Input!H134","v":0},{"$f":"+Input!I134","v":0},{"$f":"+Input!J134","v":0}]
[132,2,{"$f":"+Input!C135","v":0},{"$f":"+Input!D135","v":0},{"$f":"+Input!E135","v":0},{"$f":"+Input!F135","v":0},{"$f":"+Input!G135","v":0},{"$f":"+Input!H135","v":0},{"$f":"+Input!I135","v":0},{"$f":"+Input!J135","v":0}]
[133,0,{"$f":"+Input!C136","v":0},{"$f":"+Input!D136","v":0},{"$f":"+Input!E136","v":0},{"$f":"+Input!F136","v":0},{"$f":"+Input!G136","v":0},{"$f":"+Input!H136","v":0},{"$f":"+Input!I136","v":0},{"$f":"+Input!J136","v":0}]
[134,0,{"$f":"+Input!C137","v":0},{"$f":"+Input!D137","v":0},{"$f":"+Input!E137","v":0},{"$f":"+Input!F137","v":0},{"$f":"+Input!G137","v":0},{"$f":"+Input!H137","v":0},{"$f":"+Input!I137","v":0},{"$f":"+Input!J137","v":0}]
[135,0,{"$f":"+Input!C138","v":0},{"$f":"+Input!D138","v":0},{"$f":"+Input!E138","v":0},{"$f":"+Input!F138","v":0},{"$f":"+Input!G138","v":0},{"$f":"+Input!H138","v":0},{"$f":"+Input!I138","v":0},{"$f":"+Input!J138","v":0}]
[136,0,{"$f":"+Input!C139","v":0},{"$f":"+Input!D139","v":0},{"$f":"+Input!E139","v":0},{"$f":"+Input!F139","v":0},{"$f":"+Input!G139","v":0},{"$f":"+Input!H139","v":0},{"$f":"+Input!I139","v":0},{"$f":"+Input!J139","v":0}]
[137,0,{"$f":"+Input!C140","v":0},{"$f":"+Input!D140","v":0},{"$f":"+Input!E140","v":0},{"$f":"+Input!F140","v":0},{"$f":"+Input!G140","v":0},{"$f":"+Input!H140","v":0},{"$f":"+Input!I140","v":0},{"$f":"+Input!J140","v":0}]
[138,3,{"$f":"+Input!C141","v":0},{"$f":"+Input!D141","v":0},{"$f":"+Input!E141","v":0},{"$f":"+Input!F141","v":0},{"$f":"+Input!G141","v":0},{"$f":"+Input!H141","v":0},{"$f":"+Input!I141","v":0},{"$f":"+Input!J141","v":0}]
[139,0,{"$f":"+Input!C142","v":0},{"$f":"+Input!D142","v":0},{"$f":"+Input!E142","v":0},{"$f":"+Input!F142","v":0},{"$f":"+Input!G142","v":0},{"$f":"+Input!H142","v":0},{"$f":"+Input!I142","v":0},{"$f":"+Input!J142","v":0}]
[140,0,{"$f":"+Input!C143","v":0},{"$f":"+Input!D143","v":0},{"$f":"+Input!E143","v":0},{"$f":"+Input!F143","v":0},{"$f":"+Input!G143","v":0},{"$f":"+Input!H143","v":0},{"$f":"+Input!I143","v":0},{"$f":"+Input!J143","v":0}]
[141,0,{"$f":"+Input!C144","v":0},{"$f":"+Input!D144","v":0},{"$f":"+Input!E144","v":0},{"$f":"+Input!F144","v":0},{"$f":"+Input!G144","v":0},{"$f":"+Input!H144","v":0},{"$f":"+Input!I144","v":0},{"$f":"+Input!J144","v":0}]
[142,0,{"$f":"+Input!C145","v":0},{"$f":"+Input!D145","v":0},{"$f":"+Input!E145","v":0},{"$f":"+Input!F145","v":0},{"$f":"+Input!G145","v":0},{"$f":"+Input!H145","v":0},{"$f":"+Input!I145","v":0},{"$f":"+Input!J145","v":0}]
[143,0,{"$f":"+Input!C146","v":0},{"$f":"+Input!D146","v":0},{"$f":"+Input!E146","v":0},{"$f":"+Input!F146","v":0},{"$f":"+Input!G146","v":0},{"$f":"+Input!H146","v":0},{"$f":"+Input!I146","v":0},{"$f":"+Input!J146","v":0}]
[144,4,{"$f":"+Input!C147","v":0},{"$f":"+Input!D147","v":0},{"$f":"+Input!E147","v":0},{"$f":"+Input!F147","v":0},{"$f":"+Input!G147","v":0},{"$f":"+Input!H147","v":0},{"$f":"+Input!I147","v":0},{"$f":"+Input!J147","v":0}]
[145,0,{"$f":"+Input!C148","v":0},{"$f":"+Input!D148","v":0},{"$f":"+Input!E148","v":0},{"$f":"+Input!F148","v":0},{"$f":"+Input!G148","v":0},{"$f":"+Input!H148","v":0},{"$f":"+Input!I148","v":0},{"$f":"+Input!J148","v":0}]
[146,0,{"$f":"+Input!C149","v":0},{"$f":"+Input!D149","v":0},{"$f":"+Input!E149","v":0},{"$f":"+Input!F149","v":0},{"$f":"+Input!G149","v":0},{"$f":"+Input!H149","v":0},{"$f":"+Input!I149","v":0},{"$f":"+Input!J149","v":0}]
[147,0,{"$f":"+Input!C150","v":0},{"$f":"+Input!D150","v":0},{"$f":"+Input!E150","v":0},{"$f":"+Input!F150","v":0},{"$f":"+Input!G150","v":0},{"$f":"+Input!H150","v":0},{"$f":"+Input!I150","v":0},{"$f":"+Input!J150","v":0}]
[148,0,{"$f":"+Input!C151","v":0},{"$f":"+Input!D151","v":0},{"$f":"+Input!E151","v":0},{"$f":"+Input!F151","v":0},{"$f":"+Input!G151","v":0},{"$f":"+Input!H151","v":0},{"$f":"+Input!I151","v":0},{"$f":"+Input!J151","v":0}]
[149,0,{"$f":"+Input!C152","v":0},{"$f":"+Input!D152","v":0},{"$f":"+Input!E152","v":0},{"$f":"+Input!F152","v":0},{"$f":"+Input!G152","v":0},{"$f":"+Input!H152","v":0},{"$f":"+Input!I152","v":0},{"$f":"+Input!J152","v":0}]
[150,0,{"$f":"+Input!C153","v":0},{"$f":"+Input!D153","v":0},{"$f":"+Input!E153","v":0},{"$f":"+Input!F153","v":0},{"$f":"+Input!G153","v":0},{"$f":"+Input!H153","v":0},{"$f":"+Input!I153","v":0},{"$f":"+Input!J153","v":0}]
[151,1,{"$f":"+Input!C154","v":0},{"$f":"+Input!D154","v":0},{"$f":"+Input!E154","v":0},{"$f":"+Input!F154","v":0},{"$f":"+Input!G154","v":0},{"$f":"+Input!H154","v":0},{"$f":"+Input!I154","v":0},{"$f":"+Input!J154","v":0}]
[152,0,{"$f":"+Input!C155","v":0},{"$f":"+Input!D155","v":0},{"$f":"+Input!E155","v":0},{"$f":"+Input!F155","v":0},{"$f":"+Input!G155","v":0},{"$f":"+Input!H155","v":0},{"$f":"+Input!I155","v":0},{"$f":"+Input!J155","v":0}]
[153,0,{"$f":"+Input!C156","v":0},{"$f":"+Input!D156","v":0},{"$f":"+Input!E156","v":0},{"$f":"+Input!F156","v":0},{"$f":"+Input!G156","v":0},{"$f":"+Input!H156","v":0},{"$f":"+Input!I156","v":0},{"$f":"+Input!J156","v":0}]
[154,0,{"$f":"+Input!C157","v":0},{"$f":"+Input!D157","v":0},{"$f":"+Input!E157","v":0},{"$f":"+Input!F157","v":0},{"$f":"+Input!G157","v":0},{"$f":"+Input!H157","v":0},{"$f":"+Input!I157","v":0},{"$f":"+Input!J157","v":0}]
[155,{"$f":"+B133","v":0},{"$f":"+Input!C158","v":0},{"$f":"+Input!D158","v":0},{"$f":"+Input!E158","v":0},{"$f":"+Input!F158","v":0},{"$f":"+Input!G158","v":0},{"$f":"+Input!H158","v":0},{"$f":"+Input!I158","v":0},{"$f":"+Input!J158","v":0}]
[156,0,{"$f":"+Input!C159","v":0},{"$f":"+Input!D159","v":0},{"$f":"+Input!E159","v":0},{"$f":"+Input!F159","v":0},{"$f":"+Input!G159","v":0},{"$f":"+Input!H159","v":0},{"$f":"+Input!I159","v":0},{"$f":"+Input!J159","v":0}]
[157,2,{"$f":"+Input!C160","v":0},{"$f":"+Input!D160","v":0},{"$f":"+Input!E160","v":0},{"$f":"+Input!F160","v":0},{"$f":"+Input!G160","v":0},{"$f":"+Input!H160","v":0},{"$f":"+Input!I160","v":0},{"$f":"+Input!J160","v":0}]
[158,0,{"$f":"+Input!C161","v":0},{"$f":"+Input!D161","v":0},{"$f":"+Input!E161","v":0},{"$f":"+Input!F161","v":0},{"$f":"+Input!G161","v":0},{"$f":"+Input!H161","v":0},{"$f":"+Input!I161","v":0},{"$f":"+Input!J161","v":0}]
[159,0,{"$f":"+Input!C162","v":0},{"$f":"+Input!D162","v":0},{"$f":"+Input!E162","v":0},{"$f":"+Input!F162","v":0},{"$f":"+Input!G162","v":0},{"$f":"+Input!H162","v":0},{"$f":"+Input!I162","v":0},{"$f":"+Input!J162","v":0}]
[160,0,{"$f":"+Input!C163","v":0},{"$f":"+Input!D163","v":0},{"$f":"+Input!E163","v":0},{"$f":"+Input!F163","v":0},{"$f":"+Input!G163","v":0},{"$f":"+Input!H163","v":0},{"$f":"+Input!I163","v":0},{"$f":"+Input!J163","v":0}]
[161,0,{"$f":"+Input!C164","v":0},{"$f":"+Input!D164","v":0},{"$f":"+Input!E164","v":0},{"$f":"+Input!F164","v":0},{"$f":"+Input!G164","v":0},{"$f":"+Input!H164","v":0},{"$f":"+Input!I164","v":0},{"$f":"+Input!J164","v":0}]
[162,0,{"$f":"+Input!C165","v":0},{"$f":"+Input!D165","v":0},{"$f":"+Input!E165","v":0},{"$f":"+Input!F165","v":0},{"$f":"+Input!G165","v":0},{"$f":"+Input!H165","v":0},{"$f":"+Input!I165","v":0},{"$f":"+Input!J165","v":0}]
[163,3,{"$f":"+Input!C166","v":0},{"$f":"+Input!D166","v":0},{"$f":"+Input!E166","v":0},{"$f":"+Input!F166","v":0},{"$f":"+Input!G166","v":0},{"$f":"+Input!H166","v":0},{"$f":"+Input!I166","v":0},{"$f":"+Input!J166","v":0}]
[164,0,{"$f":"+Input!C167","v":0},{"$f":"+Input!D167","v":0},{"$f":"+Input!E167","v":0},{"$f":"+Input!F167","v":0},{"$f":"+Input!G167","v":0},{"$f":"+Input!H167","v":0},{"$f":"+Input!I167","v":0},{"$f":"+Input!J167","v":0}]
[165,0,{"$f":"+Input!C168","v":0},{"$f":"+Input!D168","v":0},{"$f":"+Input!E168","v":0},{"$f":"+Input!F168","v":0},{"$f":"+Input!G168","v":0},{"$f":"+Input!H168","v":0},{"$f":"+Input!I168","v":0},{"$f":"+Input!J168","v":0}]
[166,0,{"$f":"+Input!C169","v":0},{"$f":"+Input!D169","v":0},{"$f":"+Input!E169","v":0},{"$f":"+Input!F169","v":0},{"$f":"+Input!G169","v":0},{"$f":"+Input!H169","v":0},{"$f":"+Input!I169","v":0},{"$f":"+Input!J169","v":0}]
[167,0,{"$f":"+Input!C170","v":0},{"$f":"+Input!D170","v":0},{"$f":"+Input!E170","v":0},{"$f":"+Input!F170","v":0},{"$f":"+Input!G170","v":0},{"$f":"+Input!H170","v":0},{"$f":"+Input!I170","v":0},{"$f":"+Input!J170","v":0}]
[168,0,{"$f":"+Input!C171","v":0},{"$f":"+Input!D171","v":0},{"$f":"+Input!E171","v":0},{"$f":"+Input!F171","v":0},{"$f":"+Input!G171","v":0},{"$f":"+Input!H171","v":0},{"$f":"+Input!I171","v":0},{"$f":"+Input!J171","v":0}]
[169,4,{"$f":"+Input!C172","v":0},{"$f":"+Input!D172","v":0},{"$f":"+Input!E172","v":0},{"$f":"+Input!F172","v":0},{"$f":"+Input!G172","v":0},{"$f":"+Input!H172","v":0},{"$f":"+Input!I172","v":0},{"$f":"+Input!J172","v":0}]
[170,0,{"$f":"+Input!C173","v":0},{"$f":"+Input!D173","v":0},{"$f":"+Input!E173","v":0},{"$f":"+Input!F173","v":0},{"$f":"+Input!G173","v":0},{"$f":"+Input!H173","v":0},{"$f":"+Input!I173","v":0},{"$f":"+Input!J173","v":0}]
[171,0,{"$f":"+Input!C174","v":0},{"$f":"+Input!D174","v":0},{"$f":"+Input!E174","v":0},{"$f":"+Input!F174","v":0},{"$f":"+Input!G174","v":0},{"$f":"+Input!H174","v":0},{"$f":"+Input!I174","v":0},{"$f":"+Input!J174","v":0}]
[172,0,{"$f":"+Input!C175","v":0},{"$f":"+Input!D175","v":0},{"$f":"+Input!E175","v":0},{"$f":"+Input!F175","v":0},{"$f":"+Input!G175","v":0},{"$f":"+Input!H175","v":0},{"$f":"+Input!I175","v":0},{"$f":"+Input!J175","v":0}]
[173,0,{"$f":"+Input!C176","v":0},{"$f":"+Input!D176","v":0},{"$f":"+Input!E176","v":0},{"$f":"+Input!F176","v":0},{"$f":"+Input!G176","v":0},{"$f":"+Input!H176","v":0},{"$f":"+Input!I176","v":0},{"$f":"+Input!J176","v":0}]
[174,0,{"$f":"+Input!C177","v":0},{"$f":"+Input!D177","v":0},{"$f":"+Input!E177","v":0},{"$f":"+Input!F177","v":0},{"$f":"+Input!G177","v":0},{"$f":"+Input!H177","v":0},{"$f":"+Input!I177","v":0},{"$f":"+Input!J177","v":0}]
[175,0,{"$f":"+Input!C178","v":0},{"$f":"+Input!D178","v":0},{"$f":"+Input!E178","v":0},{"$f":"+Input!F178","v":0},{"$f":"+Input!G178","v":0},{"$f":"+Input!H178","v":0},{"$f":"+Input!I178","v":0},{"$f":"+Input!J178","v":0}]
[176,1,{"$f":"+Input!C179","v":0},{"$f":"+Input!D179","v":0},{"$f":"+Input!E179","v":0},{"$f":"+Input!F179","v":0},{"$f":"+Input!G179","v":0},{"$f":"+Input!H179","v":0},{"$f":"+Input!I179","v":0},{"$f":"+Input!J179","v":0}]
[177,0,{"$f":"+Input!C180","v":0},{"$f":"+Input!D180","v":0},{"$f":"+Input!E180","v":0},{"$f":"+Input!F180","v":0},{"$f":"+Input!G180","v":0},{"$f":"+Input!H180","v":0},{"$f":"+Input!I180","v":0},{"$f":"+Input!J180","v":0}]
[178,0,{"$f":"+Input!C181","v":0},{"$f":"+Input!D181","v":0},{"$f":"+Input!E181","v":0},{"$f":"+Input!F181","v":0},{"$f":"+Input!G181","v":0},{"$f":"+Input!H181","v":0},{"$f":"+Input!I181","v":0},{"$f":"+Input!J181","v":0}]
[179,0,{"$f":"+Input!C182","v":0},{"$f":"+Input!D182","v":0},{"$f":"+Input!E182","v":0},{"$f":"+Input!F182","v":0},{"$f":"+Input!G182","v":0},{"$f":"+Input!H182","v":0},{"$f":"+Input!I182","v":0},{"$f":"+Input!J182","v":0}]
[180,0,{"$f":"+Input!C183","v":0},{"$f":"+Input!D183","v":0},{"$f":"+Input!E183","v":0},{"$f":"+Input!F183","v":0},{"$f":"+Input!G183","v":0},{"$f":"+Input!H183","v":0},{"$f":"+Input!I183","v":0},{"$f":"+Input!J183","v":0}]
[181,0,{"$f":"+Input!C184","v":0},{"$f":"+Input!D184","v":0},{"$f":"+Input!E184","v":0},{"$f":"+Input!F184","v":0},{"$f":"+Input!G184","v":0},{"$f":"+Input!H184","v":0},{"$f":"+Input!I184","v":0},{"$f":"+Input!J184","v":0}]
[182,2,{"$f":"+Input!C185","v":0},{"$f":"+Input!D185","v":0},{"$f":"+Input!E185","v":0},{"$f":"+Input!F185","v":0},{"$f":"+Input!G185","v":0},{"$f":"+Input!H185","v":0},{"$f":"+Input!I185","v":0},{"$f":"+Input!J185","v":0}]
[183,0,{"$f":"+Input!C186","v":0},{"$f":"+Input!D186","v":0},{"$f":"+Input!E186","v":0},{"$f":"+Input!F186","v":0},{"$f":"+Input!G186","v":0},{"$f":"+Input!H186","v":0},{"$f":"+Input!I186","v":0},{"$f":"+Input!J186","v":0}]
[184,0,{"$f":"+Input!C187","v":0},{"$f":"+Input!D187","v":0},{"$f":"+Input!E187","v":0},{"$f":"+Input!F187","v":0},{"$f":"+Input!G187","v":0},{"$f":"+Input!H187","v":0},{"$f":"+Input!I187","v":0},{"$f":"+Input!J187","v":0}]
[185,0,{"$f":"+Input!C188","v":0},{"$f":"+Input!D188","v":0},{"$f":"+Input!E188","v":0},{"$f":"+Input!F188","v":0},{"$f":"+Input!G188","v":0},{"$f":"+Input!H188","v":0},{"$f":"+Input!I188","v":0},{"$f":"+Input!J188","v":0}]
[186,0,{"$f":"+Input!C189","v":0},{"$f":"+Input!D189","v":0},{"$f":"+Input!E189","v":0},{"$f":"+Input!F189","v":0},{"$f":"+Input!G189","v":0},{"$f":"+Input!H189","v":0},{"$f":"+Input!I189","v":0},{"$f":"+Input!J189","v":0}]
[187,0,{"$f":"+Input!C190","v":0},{"$f":"+Input!D190","v":0},{"$f":"+Input!E190","v":0},{"$f":"+Input!F190","v":0},{"$f":"+Input!G190","v":0},{"$f":"+Input!H190","v":0},{"$f":"+Input!I190","v":0},{"$f":"+Input!J190","v":0}]
[188,3,{"$f":"+Input!C191","v":0},{"$f":"+Input!D191","v":0},{"$f":"+Input!E191","v":0},{"$f":"+Input!F191","v":0},{"$f":"+Input!G191","v":0},{"$f":"+Input!H191","v":0},{"$f":"+Input!I191","v":0},{"$f":"+Input!J191","v":0}]
[189,0,{"$f":"+Input!C192","v":0},{"$f":"+Input!D192","v":0},{"$f":"+Input!E192","v":0},{"$f":"+Input!F192","v":0},{"$f":"+Input!G192","v":0},{"$f":"+Input!H192","v":0},{"$f":"+Input!I192","v":0},{"$f":"+Input!J192","v":0}]
[190,0,{"$f":"+Input!C193","v":0},{"$f":"+Input!D193","v":0},{"$f":"+Input!E193","v":0},{"$f":"+Input!F193","v":0},{"$f":"+Input!G193","v":0},{"$f":"+Input!H193","v":0},{"$f":"+Input!I193","v":0},{"$f":"+Input!J193","v":0}]
[191,0,{"$f":"+Input!C194","v":0},{"$f":"+Input!D194","v":0},{"$f":"+Input!E194","v":0},{"$f":"+Input!F194","v":0},{"$f":"+Input!G194","v":0},{"$f":"+Input!H194","v":0},{"$f":"+Input!I194","v":0},{"$f":"+Input!J194","v":0}]
[192,0,{"$f":"+Input!C195","v":0},{"$f":"+Input!D195","v":0},{"$f":"+Input!E195","v":0},{"$f":"+Input!F195","v":0},{"$f":"+Input!G195","v":0},{"$f":"+Input!H195","v":0},{"$f":"+Input!I195","v":0},{"$f":"+Input!J195","v":0}]
[193,0,{"$f":"+Input!C196","v":0},{"$f":"+Input!D196","v":0},{"$f":"+Input!E196","v":0},{"$f":"+Input!F196","v":0},{"$f":"+Input!G196","v":0},{"$f":"+Input!H196","v":0},{"$f":"+Input!I196","v":0},{"$f":"+Input!J196","v":0}]
[194,4,{"$f":"+Input!C197","v":0},{"$f":"+Input!D197","v":0},{"$f":"+Input!E197","v":0},{"$f":"+Input!F197","v":0},{"$f":"+Input!G197","v":0},{"$f":"+Input!H197","v":0},{"$f":"+Input!I197","v":0},{"$f":"+Input!J197","v":0}]
[195,0,{"$f":"+Input!C198","v":0},{"$f":"+Input!D198","v":0},{"$f":"+Input!E198","v":0},{"$f":"+Input!F198","v":0},{"$f":"+Input!G198","v":0},{"$f":"+Input!H198","v":0},{"$f":"+Input!I198","v":0},{"$f":"+Input!J198","v":0}]
[196,0,{"$f":"+Input!C199","v":0},{"$f":"+Input!D199","v":0},{"$f":"+Input!E199","v":0},{"$f":"+Input!F199","v":0},{"$f":"+Input!G199","v":0},{"$f":"+Input!H199","v":0},{"$f":"+Input!I199","v":0},{"$f":"+Input!J199","v":0}]
[197,0,{"$f":"+Input!C200","v":0},{"$f":"+Input!D200","v":0},{"$f":"+Input!E200","v":0},{"$f":"+Input!F200","v":0},{"$f":"+Input!G200","v":0},{"$f":"+Input!H200","v":0},{"$f":"+Input!I200","v":0},{"$f":"+Input!J200","v":0}]
[198,0,{"$f":"+Input!C201","v":0},{"$f":"+Input!D201","v":0},{"$f":"+Input!E201","v":0},{"$f":"+Input!F201","v":0},{"$f":"+Input!G201","v":0},{"$f":"+Input!H201","v":0},{"$f":"+Input!I201","v":0},{"$f":"+Input!J201","v":0}]
[199,0,{"$f":"+Input!C202","v":0},{"$f":"+Input!D202","v":0},{"$f":"+Input!E202","v":0},{"$f":"+Input!F202","v":0},{"$f":"+Input!G202","v":0},{"$f":"+Input!H202","v":0},{"$f":"+Input!I202","v":0},{"$f":"+Input!J202","v":0}]
[200,0,{"$f":"+Input!C203","v":0},{"$f":"+Input!D203","v":0},{"$f":"+Input!E203","v":0},{"$f":"+Input!F203","v":0},{"$f":"+Input!G203","v":0},{"$f":"+Input!H203","v":0},{"$f":"+Input!I203","v":0},{"$f":"+Input!J203","v":0}]
[201,1,{"$f":"+Input!C204","v":0},{"$f":"+Input!D204","v":0},{"$f":"+Input!E204","v":0},{"$f":"+Input!F204","v":0},{"$f":"+Input!G204","v":0},{"$f":"+Input!H204","v":0},{"$f":"+Input!I204","v":0},{"$f":"+Input!J204","v":0}]
[202,0,{"$f":"+Input!C205","v":0},{"$f":"+Input!D205","v":0},{"$f":"+Input!E205","v":0},{"$f":"+Input!F205","v":0},{"$f":"+Input!G205","v":0},{"$f":"+Input!H205","v":0},{"$f":"+Input!I205","v":0},{"$f":"+Input!J205","v":0}]
[203,0,{"$f":"+Input!C206","v":0},{"$f":"+Input!D206","v":0},{"$f":"+Input!E206","v":0},{"$f":"+Input!F206","v":0},{"$f":"+Input!G206","v":0},{"$f":"+Input!H206","v":0},{"$f":"+Input!I206","v":0},{"$f":"+Input!J206","v":0}]
[204,0,{"$f":"+Input!C207","v":0},{"$f":"+Input!D207","v":0},{"$f":"+Input!E207","v":0},{"$f":"+Input!F207","v":0},{"$f":"+Input!G207","v":0},{"$f":"+Input!H207","v":0},{"$f":"+Input!I207","v":0},{"$f":"+Input!J207","v":0}]
[205,0,{"$f":"+Input!C208","v":0},{"$f":"+Input!D208","v":0},{"$f":"+Input!E208","v":0},{"$f":"+Input!F208","v":0},{"$f":"+Input!G208","v":0},{"$f":"+Input!H208","v":0},{"$f":"+Input!I208","v":0},{"$f":"+Input!J208","v":0}]
[206,0,{"$f":"+Input!C209","v":0},{"$f":"+Input!D209","v":0},{"$f":"+Input!E209","v":0},{"$f":"+Input!F209","v":0},{"$f":"+Input!G209","v":0},{"$f":"+Input!H209","v":0},{"$f":"+Input!I209","v":0},{"$f":"+Input!J209","v":0}]
[207,2,{"$f":"+Input!C210","v":0},{"$f":"+Input!D210","v":0},{"$f":"+Input!E210","v":0},{"$f":"+Input!F210","v":0},{"$f":"+Input!G210","v":0},{"$f":"+Input!H210","v":0},{"$f":"+Input!I210","v":0},{"$f":"+Input!J210","v":0}]
[208,0,{"$f":"+Input!C211","v":0},{"$f":"+Input!D211","v":0},{"$f":"+Input!E211","v":0},{"$f":"+Input!F211","v":0},{"$f":"+Input!G211","v":0},{"$f":"+Input!H211","v":0},{"$f":"+Input!I211","v":0},{"$f":"+Input!J211","v":0}]
[209,0,{"$f":"+Input!C212","v":0},{"$f":"+Input!D212","v":0},{"$f":"+Input!E212","v":0},{"$f":"+Input!F212","v":0},{"$f":"+Input!G212","v":0},{"$f":"+Input!H212","v":0},{"$f":"+Input!I212","v":0},{"$f":"+Input!J212","v":0}]
[210,0,{"$f":"+Input!C213","v":0},{"$f":"+Input!D213","v":0},{"$f":"+Input!E213","v":0},{"$f":"+Input!F213","v":0},{"$f":"+Input!G213","v":0},{"$f":"+Input!H213","v":0},{"$f":"+Input!I213","v":0},{"$f":"+Input!J213","v":0}]
[211,0,{"$f":"+Input!C214","v":0},{"$f":"+Input!D214","v":0},{"$f":"+Input!E214","v":0},{"$f":"+Input!F214","v":0},{"$f":"+Input!G214","v":0},{"$f":"+Input!H214","v":0},{"$f":"+Input!I214","v":0},{"$f":"+Input!J214","v":0}]
[212,0,{"$f":"+Input!C215","v":0},{"$f":"+Input!D215","v":0},{"$f":"+Input!E215","v":0},{"$f":"+Input!F215","v":0},{"$f":"+Input!G215","v":0},{"$f":"+Input!H215","v":0},{"$f":"+Input!I215","v":0},{"$f":"+Input!J215","v":0}]
[213,3,{"$f":"+Input!C216","v":0},{"$f":"+Input!D216","v":0},{"$f":"+Input!E216","v":0},{"$f":"+Input!F216","v":0},{"$f":"+Input!G216","v":0},{"$f":"+Input!H216","v":0},{"$f":"+Input!I216","v":0},{"$f":"+Input!J216","v":0}]
[214,0,{"$f":"+Input!C217","v":0},{"$f":"+Input!D217","v":0},{"$f":"+Input!E217","v":0},{"$f":"+Input!F217","v":0},{"$f":"+Input!G217","v":0},{"$f":"+Input!H217","v":0},{"$f":"+Input!I217","v":0},{"$f":"+Input!J217","v":0}]
[215,0,{"$f":"+Input!C218","v":0},{"$f":"+Input!D218","v":0},{"$f":"+Input!E218","v":0},{"$f":"+Input!F218","v":0},{"$f":"+Input!G218","v":0},{"$f":"+Input!H218","v":0},{"$f":"+Input!I218","v":0},{"$f":"+Input!J218","v":0}]
[216,0,{"$f":"+Input!C219","v":0},{"$f":"+Input!D219","v":0},{"$f":"+Input!E219","v":0},{"$f":"+Input!F219","v":0},{"$f":"+Input!G219","v":0},{"$f":"+Input!H219","v":0},{"$f":"+Input!I219","v":0},{"$f":"+Input!J219","v":0}]
[217,0,{"$f":"+Input!C220","v":0},{"$f":"+Input!D220","v":0},{"$f":"+Input!E220","v":0},{"$f":"+Input!F220","v":0},{"$f":"+Input!G220","v":0},{"$f":"+Input!H220","v":0},{"$f":"+Input!I220","v":0},{"$f":"+Input!J220","v":0}]
[218,0,{"$f":"+Input!C221","v":0},{"$f":"+Input!D221","v":0},{"$f":"+Input!E221","v":0},{"$f":"+Input!F221","v":0},{"$f":"+Input!G221","v":0},{"$f":"+Input!H221","v":0},{"$f":"+Input!I221","v":0},{"$f":"+Input!J221","v":0}]
[219,{"$f":"+B197","v":4},{"$f":"+Input!C222","v":0},{"$f":"+Input!D222","v":0},{"$f":"+Input!E222","v":0},{"$f":"+Input!F222","v":0},{"$f":"+Input!G222","v":0},{"$f":"+Input!H222","v":0},{"$f":"+Input!I222","v":0},{"$f":"+Input!J222","v":0}]
[220,0,{"$f":"+Input!C223","v":0},{"$f":"+Input!D223","v":0},{"$f":"+Input!E223","v":0},{"$f":"+Input!F223","v":0},{"$f":"+Input!G223","v":0},{"$f":"+Input!H223","v":0},{"$f":"+Input!I223","v":0},{"$f":"+Input!J223","v":0}]
[221,0,{"$f":"+Input!C224","v":0},{"$f":"+Input!D224","v":0},{"$f":"+Input!E224","v":0},{"$f":"+Input!F224","v":0},{"$f":"+Input!G224","v":0},{"$f":"+Input!H224","v":0},{"$f":"+Input!I224","v":0},{"$f":"+Input!J224","v":0}]
[222,0,{"$f":"+Input!C225","v":0},{"$f":"+Input!D225","v":0},{"$f":"+Input!E225","v":0},{"$f":"+Input!F225","v":0},{"$f":"+Input!G225","v":0},{"$f":"+Input!H225","v":0},{"$f":"+Input!I225","v":0},{"$f":"+Input!J225","v":0}]
[223,0,{"$f":"+Input!C226","v":0},{"$f":"+Input!D226","v":0},{"$f":"+Input!E226","v":0},{"$f":"+Input!F226","v":0},{"$f":"+Input!G226","v":0},{"$f":"+Input!H226","v":0},{"$f":"+Input!I226","v":0},{"$f":"+Input!J226","v":0}]
[224,0,{"$f":"+Input!C227","v":0},{"$f":"+Input!D227","v":0},{"$f":"+Input!E227","v":0},{"$f":"+Input!F227","v":0},{"$f":"+Input!G227","v":0},{"$f":"+Input!H227","v":0},{"$f":"+Input!I227","v":0},{"$f":"+Input!J227","v":0}]
[225,0,{"$f":"+Input!C228","v":0},{"$f":"+Input!D228","v":0},{"$f":"+Input!E228","v":0},{"$f":"+Input!F228","v":0},{"$f":"+Input!G228","v":0},{"$f":"+Input!H228","v":0},{"$f":"+Input!I228","v":0},{"$f":"+Input!J228","v":0}]
[226,1,{"$f":"+Input!C229","v":0},{"$f":"+Input!D229","v":0},{"$f":"+Input!E229","v":0},{"$f":"+Input!F229","v":0},{"$f":"+Input!G229","v":0},{"$f":"+Input!H229","v":0},{"$f":"+Input!I229","v":0},{"$f":"+Input!J229","v":0}]
[227,0,{"$f":"+Input!C230","v":0},{"$f":"+Input!D230","v":0},{"$f":"+Input!E230","v":0},{"$f":"+Input!F230","v":0},{"$f":"+Input!G230","v":0},{"$f":"+Input!H230","v":0},{"$f":"+Input!I230","v":0},{"$f":"+Input!J230","v":0}]
[228,0,{"$f":"+Input!C231","v":0},{"$f":"+Input!D231","v":0},{"$f":"+Input!E231","v":0},{"$f":"+Input!F231","v":0},{"$f":"+Input!G231","v":0},{"$f":"+Input!H231","v":0},{"$f":"+Input!I231","v":0},{"$f":"+Input!J231","v":0}]
[229,0,{"$f":"+Input!C232","v":0},{"$f":"+Input!D232","v":0},{"$f":"+Input!E232","v":0},{"$f":"+Input!F232","v":0},{"$f":"+Input!G232","v":0},{"$f":"+Input!H232","v":0},{"$f":"+Input!I232","v":0},{"$f":"+Input!J232","v":0}]
[230,0,{"$f":"+Input!C233","v":0},{"$f":"+Input!D233","v":0},{"$f":"+Input!E233","v":0},{"$f":"+Input!F233","v":0},{"$f":"+Input!G233","v":0},{"$f":"+Input!H233","v":0},{"$f":"+Input!I233","v":0},{"$f":"+Input!J233","v":0}]
[231,0,{"$f":"+Input!C234","v":0},{"$f":"+Input!D234","v":0},{"$f":"+Input!E234","v":0},{"$f":"+Input!F234","v":0},{"$f":"+Input!G234","v":0},{"$f":"+Input!H234","v":0},{"$f":"+Input!I234","v":0},{"$f":"+Input!J234","v":0}]
[232,2,{"$f":"+Input!C235","v":0},{"$f":"+Input!D235","v":0},{"$f":"+Input!E235","v":0},{"$f":"+Input!F235","v":0},{"$f":"+Input!G235","v":0},{"$f":"+Input!H235","v":0},{"$f":"+Input!I235","v":0},{"$f":"+Input!J235","v":0}]
[233,0,{"$f":"+Input!C236","v":0},{"$f":"+Input!D236","v":0},{"$f":"+Input!E236","v":0},{"$f":"+Input!F236","v":0},{"$f":"+Input!G236","v":0},{"$f":"+Input!H236","v":0},{"$f":"+Input!I236","v":0},{"$f":"+Input!J236","v":0}]
[234,0,{"$f":"+Input!C237","v":0},{"$f":"+Input!D237","v":0},{"$f":"+Input!E237","v":0},{"$f":"+Input!F237","v":0},{"$f":"+Input!G237","v":0},{"$f":"+Input!H237","v":0},{"$f":"+Input!I237","v":0},{"$f":"+Input!J237","v":0}]
[235,0,{"$f":"+Input!C238","v":0},{"$f":"+Input!D238","v":0},{"$f":"+Input!E238","v":0},{"$f":"+Input!F238","v":0},{"$f":"+Input!G238","v":0},{"$f":"+Input!H238","v":0},{"$f":"+Input!I238","v":0},{"$f":"+Input!J238","v":0}]
[236,0,{"$f":"+Input!C239","v":0},{"$f":"+Input!D239","v":0},{"$f":"+Input!E239","v":0},{"$f":"+Input!F239","v":0},{"$f":"+Input!G239","v":0},{"$f":"+Input!H239","v":0},{"$f":"+Input!I239","v":0},{"$f":"+Input!J239","v":0}]
[237,0,{"$f":"+Input!C240","v":0},{"$f":"+Input!D240","v":0},{"$f":"+Input!E240","v":0},{"$f":"+Input!F240","v":0},{"$f":"+Input!G240","v":0},{"$f":"+Input!H240","v":0},{"$f":"+Input!I240","v":0},{"$f":"+Input!J240","v":0}]
[238,3,{"$f":"+Input!C241","v":0},{"$f":"+Input!D241","v":0},{"$f":"+Input!E241","v":0},{"$f":"+Input!F241","v":0},{"$f":"+Input!G241","v":0},{"$f":"+Input!H241","v":0},{"$f":"+Input!I241","v":0},{"$f":"+Input!J241","v":0}]
[239,0,{"$f":"+Input!C242","v":0},{"$f":"+Input!D242","v":0},{"$f":"+Input!E242","v":0},{"$f":"+Input!F242","v":0},{"$f":"+Input!G242","v":0},{"$f":"+Input!H242","v":0},{"$f":"+Input!I242","v":0},{"$f":"+Input!J242","v":0}]
[240,0,{"$f":"+Input!C243","v":0},{"$f":"+Input!D243","v":0},{"$f":"+Input!E243","v":0},{"$f":"+Input!F243","v":0},{"$f":"+Input!G243","v":0},{"$f":"+Input!H243","v":0},{"$f":"+Input!I243","v":0},{"$f":"+Input!J243","v":0}]
[241,0,{"$f":"+Input!C244","v":0},{"$f":"+Input!D244","v":0},{"$f":"+Input!E244","v":0},{"$f":"+Input!F244","v":0},{"$f":"+Input!G244","v":0},{"$f":"+Input!H244","v":0},{"$f":"+Input!I244","v":0},{"$f":"+Input!J244","v":0}]
[242,0,{"$f":"+Input!C245","v":0},{"$f":"+Input!D245","v":0},{"$f":"+Input!E245","v":0},{"$f":"+Input!F245","v":0},{"$f":"+Input!G245","v":0},{"$f":"+Input!H245","v":0},{"$f":"+Input!I245","v":0},{"$f":"+Input!J245","v":0}]
[243,0,{"$f":"+Input!C246","v":0},{"$f":"+Input!D246","v":0},{"$f":"+Input!E246","v":0},{"$f":"+Input!F246","v":0},{"$f":"+Input!G246","v":0},{"$f":"+Input!H246","v":0},{"$f":"+Input!I246","v":0},{"$f":"+Input!J246","v":0}]
[244,4,{"$f":"+Input!C247","v":0},{"$f":"+Input!D247","v":0},{"$f":"+Input!E247","v":0},{"$f":"+Input!F247","v":0},{"$f":"+Input!G247","v":0},{"$f":"+Input!H247","v":0},{"$f":"+Input!I247","v":0},{"$f":"+Input!J247","v":0}]
[245,0,{"$f":"+Input!C248","v":0},{"$f":"+Input!D248","v":0},{"$f":"+Input!E248","v":0},{"$f":"+Input!F248","v":0},{"$f":"+Input!G248","v":0},{"$f":"+Input!H248","v":0},{"$f":"+Input!I248","v":0},{"$f":"+Input!J248","v":0}]
[246,0,{"$f":"+Input!C249","v":0},{"$f":"+Input!D249","v":0},{"$f":"+Input!E249","v":0},{"$f":"+Input!F249","v":0},{"$f":"+Input!G249","v":0},{"$f":"+Input!H249","v":0},{"$f":"+Input!I249","v":0},{"$f":"+Input!J249","v":0}]
[247,0,{"$f":"+Input!C250","v":0},{"$f":"+Input!D250","v":0},{"$f":"+Input!E250","v":0},{"$f":"+Input!F250","v":0},{"$f":"+Input!G250","v":0},{"$f":"+Input!H250","v":0},{"$f":"+Input!I250","v":0},{"$f":"+Input!J250","v":0}]
[248,0,{"$f":"+Input!C251","v":0},{"$f":"+Input!D251","v":0},{"$f":"+Input!E251","v":0},{"$f":"+Input!F251","v":0},{"$f":"+Input!G251","v":0},{"$f":"+Input!H251","v":0},{"$f":"+Input!I251","v":0},{"$f":"+Input!J251","v":0}]
[249,0,{"$f":"+Input!C252","v":0},{"$f":"+Input!D252","v":0},{"$f":"+Input!E252","v":0},{"$f":"+Input!F252","v":0},{"$f":"+Input!G252","v":0},{"$f":"+Input!H252","v":0},{"$f":"+Input!I252","v":0},{"$f":"+Input!J252","v":0}]
[250,0,{"$f":"+Input!C253","v":0},{"$f":"+Input!D253","v":0},{"$f":"+Input!E253","v":0},{"$f":"+Input!F253","v":0},{"$f":"+Input!G253","v":0},{"$f":"+Input!H253","v":0},{"$f":"+Input!I253","v":0},{"$f":"+Input!J253","v":0}]
[251,1,{"$f":"+Input!C254","v":0},{"$f":"+Input!D254","v":0},{"$f":"+Input!E254","v":0},{"$f":"+Input!F254","v":0},{"$f":"+Input!G254","v":0},{"$f":"+Input!H254","v":0},{"$f":"+Input!I254","v":0},{"$f":"+Input!J254","v":0}]
[252,0,{"$f":"+Input!C255","v":0},{"$f":"+Input!D255","v":0},{"$f":"+Input!E255","v":0},{"$f":"+Input!F255","v":0},{"$f":"+Input!G255","v":0},{"$f":"+Input!H255","v":0},{"$f":"+Input!I255","v":0},{"$f":"+Input!J255","v":0}]
[253,0,{"$f":"+Input!C256","v":0},{"$f":"+Input!D256","v":0},{"$f":"+Input!E256","v":0},{"$f":"+Input!F256","v":0},{"$f":"+Input!G256","v":0},{"$f":"+Input!H256","v":0},{"$f":"+Input!I256","v":0},{"$f":"+Input!J256","v":0}]
[254,0,{"$f":"+Input!C257","v":0},{"$f":"+Input!D257","v":0},{"$f":"+Input!E257","v":0},{"$f":"+Input!F257","v":0},{"$f":"+Input!G257","v":0},{"$f":"+Input!H257","v":0},{"$f":"+Input!I257","v":0},{"$f":"+Input!J257","v":0}]
[255,0,{"$f":"+Input!C258","v":0},{"$f":"+Input!D258","v":0},{"$f":"+Input!E258","v":0},{"$f":"+Input!F258","v":0},{"$f":"+Input!G258","v":0},{"$f":"+Input!H258","v":0},{"$f":"+Input!I258","v":0},{"$f":"+Input!J258","v":0}]
[256,0,{"$f":"+Input!C259","v":0},{"$f":"+Input!D259","v":0},{"$f":"+Input!E259","v":0},{"$f":"+Input!F259","v":0},{"$f":"+Input!G259","v":0},{"$f":"+Input!H259","v":0},{"$f":"+Input!I259","v":0},{"$f":"+Input!J259","v":0}]
[257,2,{"$f":"+Input!C260","v":0},{"$f":"+Input!D260","v":0},{"$f":"+Input!E260","v":0},{"$f":"+Input!F260","v":0},{"$f":"+Input!G260","v":0},{"$f":"+Input!H260","v":0},{"$f":"+Input!I260","v":0},{"$f":"+Input!J260","v":0}]
[258,0,{"$f":"+Input!C261","v":0},{"$f":"+Input!D261","v":0},{"$f":"+Input!E261","v":0},{"$f":"+Input!F261","v":0},{"$f":"+Input!G261","v":0},{"$f":"+Input!H261","v":0},{"$f":"+Input!I261","v":0},{"$f":"+Input!J261","v":0}]
[259,0,{"$f":"+Input!C262","v":0},{"$f":"+Input!D262","v":0},{"$f":"+Input!E262","v":0},{"$f":"+Input!F262","v":0},{"$f":"+Input!G262","v":0},{"$f":"+Input!H262","v":0},{"$f":"+Input!I262","v":0},{"$f":"+Input!J262","v":0}]
[260,0,{"$f":"+Input!C263","v":0},{"$f":"+Input!D263","v":0},{"$f":"+Input!E263","v":0},{"$f":"+Input!F263","v":0},{"$f":"+Input!G263","v":0},{"$f":"+Input!H263","v":0},{"$f":"+Input!I263","v":0},{"$f":"+Input!J263","v":0}]
[261,0,{"$f":"+Input!C264","v":0},{"$f":"+Input!D264","v":0},{"$f":"+Input!E264","v":0},{"$f":"+Input!F264","v":0},{"$f":"+Input!G264","v":0},{"$f":"+Input!H264","v":0},{"$f":"+Input!I264","v":0},{"$f":"+Input!J264","v":0}]
[262,0,{"$f":"+Input!C265","v":0},{"$f":"+Input!D265","v":0},{"$f":"+Input!E265","v":0},{"$f":"+Input!F265","v":0},{"$f":"+Input!G265","v":0},{"$f":"+Input!H265","v":0},{"$f":"+Input!I265","v":0},{"$f":"+Input!J265","v":0}]
[263,3,{"$f":"+Input!C266","v":0},{"$f":"+Input!D266","v":0},{"$f":"+Input!E266","v":0},{"$f":"+Input!F266","v":0},{"$f":"+Input!G266","v":0},{"$f":"+Input!H266","v":0},{"$f":"+Input!I266","v":0},{"$f":"+Input!J266","v":0}]
[264,0,{"$f":"+Input!C267","v":0},{"$f":"+Input!D267","v":0},{"$f":"+Input!E267","v":0},{"$f":"+Input!F267","v":0},{"$f":"+Input!G267","v":0},{"$f":"+Input!H267","v":0},{"$f":"+Input!I267","v":0},{"$f":"+Input!J267","v":0}]
[265,0,{"$f":"+Input!C268","v":0},{"$f":"+Input!D268","v":0},{"$f":"+Input!E268","v":0},{"$f":"+Input!F268","v":0},{"$f":"+Input!G268","v":0},{"$f":"+Input!H268","v":0},{"$f":"+Input!I268","v":0},{"$f":"+Input!J268","v":0}]
[266,0,{"$f":"+Input!C269","v":0},{"$f":"+Input!D269","v":0},{"$f":"+Input!E269","v":0},{"$f":"+Input!F269","v":0},{"$f":"+Input!G269","v":0},{"$f":"+Input!H269","v":0},{"$f":"+Input!I269","v":0},{"$f":"+Input!J269","v":0}]
[267,0,{"$f":"+Input!C270","v":0},{"$f":"+Input!D270","v":0},{"$f":"+Input!E270","v":0},{"$f":"+Input!F270","v":0},{"$f":"+Input!G270","v":0},{"$f":"+Input!H270","v":0},{"$f":"+Input!I270","v":0},{"$f":"+Input!J270","v":0}]
[268,0,{"$f":"+Input!C271","v":0},{"$f":"+Input!D271","v":0},{"$f":"+Input!E271","v":0},{"$f":"+Input!F271","v":0},{"$f":"+Input!G271","v":0},{"$f":"+Input!H271","v":0},{"$f":"+Input!I271","v":0},{"$f":"+Input!J271","v":0}]
[269,4,{"$f":"+Input!C272","v":0},{"$f":"+Input!D272","v":0},{"$f":"+Input!E272","v":0},{"$f":"+Input!F272","v":0},{"$f":"+Input!G272","v":0},{"$f":"+Input!H272","v":0},{"$f":"+Input!I272","v":0},{"$f":"+Input!J272","v":0}]
[270,0,{"$f":"+Input!C273","v":0},{"$f":"+Input!D273","v":0},{"$f":"+Input!E273","v":0},{"$f":"+Input!F273","v":0},{"$f":"+Input!G273","v":0},{"$f":"+Input!H273","v":0},{"$f":"+Input!I273","v":0},{"$f":"+Input!J273","v":0}]
[271,0,{"$f":"+Input!C274","v":0},{"$f":"+Input!D274","v":0},{"$f":"+Input!E274","v":0},{"$f":"+Input!F274","v":0},{"$f":"+Input!G274","v":0},{"$f":"+Input!H274","v":0},{"$f":"+Input!I274","v":0},{"$f":"+Input!J274","v":0}]
[272,0,{"$f":"+Input!C275","v":0},{"$f":"+Input!D275","v":0},{"$f":"+Input!E275","v":0},{"$f":"+Input!F275","v":0},{"$f":"+Input!G275","v":0},{"$f":"+Input!H275","v":0},{"$f":"+Input!I275","v":0},{"$f":"+Input!J275","v":0}]
[273,0,{"$f":"+Input!C276","v":0},{"$f":"+Input!D276","v":0},{"$f":"+Input!E276","v":0},{"$f":"+Input!F276","v":0},{"$f":"+Input!G276","v":0},{"$f":"+Input!H276","v":0},{"$f":"+Input!I276","v":0},{"$f":"+Input!J276","v":0}]
[274,0,{"$f":"+Input!C277","v":0},{"$f":"+Input!D277","v":0},{"$f":"+Input!E277","v":0},{"$f":"+Input!F277","v":0},{"$f":"+Input!G277","v":0},{"$f":"+Input!H277","v":0},{"$f":"+Input!I277","v":0},{"$f":"+Input!J277","v":0}]
[275,0,{"$f":"+Input!C278","v":0},{"$f":"+Input!D278","v":0},{"$f":"+Input!E278","v":0},{"$f":"+Input!F278","v":0},{"$f":"+Input!G278","v":0},{"$f":"+Input!H278","v":0},{"$f":"+Input!I278","v":0},{"$f":"+Input!J278","v":0}]
[276,1,{"$f":"+Input!C279","v":0},{"$f":"+Input!D279","v":0},{"$f":"+Input!E279","v":0},{"$f":"+Input!F279","v":0},{"$f":"+Input!G279","v":0},{"$f":"+Input!H279","v":0},{"$f":"+Input!I279","v":0},{"$f":"+Input!J279","v":0}]
[277,0,{"$f":"+Input!C280","v":0},{"$f":"+Input!D280","v":0},{"$f":"+Input!E280","v":0},{"$f":"+Input!F280","v":0},{"$f":"+Input!G280","v":0},{"$f":"+Input!H280","v":0},{"$f":"+Input!I280","v":0},{"$f":"+Input!J280","v":0}]
[278,0,{"$f":"+Input!C281","v":0},{"$f":"+Input!D281","v":0},{"$f":"+Input!E281","v":0},{"$f":"+Input!F281","v":0},{"$f":"+Input!G281","v":0},{"$f":"+Input!H281","v":0},{"$f":"+Input!I281","v":0},{"$f":"+Input!J281","v":0}]
[279,0,{"$f":"+Input!C282","v":0},{"$f":"+Input!D282","v":0},{"$f":"+Input!E282","v":0},{"$f":"+Input!F282","v":0},{"$f":"+Input!G282","v":0},{"$f":"+Input!H282","v":0},{"$f":"+Input!I282","v":0},{"$f":"+Input!J282","v":0}]
[280,0,{"$f":"+Input!C283","v":0},{"$f":"+Input!D283","v":0},{"$f":"+Input!E283","v":0},{"$f":"+Input!F283","v":0},{"$f":"+Input!G283","v":0},{"$f":"+Input!H283","v":0},{"$f":"+Input!I283","v":0},{"$f":"+Input!J283","v":0}]
[281,0,{"$f":"+Input!C284","v":0},{"$f":"+Input!D284","v":0},{"$f":"+Input!E284","v":0},{"$f":"+Input!F284","v":0},{"$f":"+Input!G284","v":0},{"$f":"+Input!H284","v":0},{"$f":"+Input!I284","v":0},{"$f":"+Input!J284","v":0}]
[282,2,{"$f":"+Input!C285","v":0},{"$f":"+Input!D285","v":0},{"$f":"+Input!E285","v":0},{"$f":"+Input!F285","v":0},{"$f":"+Input!G285","v":0},{"$f":"+Input!H285","v":0},{"$f":"+Input!I285","v":0},{"$f":"+Input!J285","v":0}]
[283,{"$f":"+B261","v":0},{"$f":"+Input!C286","v":0},{"$f":"+Input!D286","v":0},{"$f":"+Input!E286","v":0},{"$f":"+Input!F286","v":0},{"$f":"+Input!G286","v":0},{"$f":"+Input!H286","v":0},{"$f":"+Input!I286","v":0},{"$f":"+Input!J286","v":0}]
[284,0,{"$f":"+Input!C287","v":0},{"$f":"+Input!D287","v":0},{"$f":"+Input!E287","v":0},{"$f":"+Input!F287","v":0},{"$f":"+Input!G287","v":0},{"$f":"+Input!H287","v":0},{"$f":"+Input!I287","v":0},{"$f":"+Input!J287","v":0}]
[285,0,{"$f":"+Input!C288","v":0},{"$f":"+Input!D288","v":0},{"$f":"+Input!E288","v":0},{"$f":"+Input!F288","v":0},{"$f":"+Input!G288","v":0},{"$f":"+Input!H288","v":0},{"$f":"+Input!I288","v":0},{"$f":"+Input!J288","v":0}]
[286,0,{"$f":"+Input!C289","v":0},{"$f":"+Input!D289","v":0},{"$f":"+Input!E289","v":0},{"$f":"+Input!F289","v":0},{"$f":"+Input!G289","v":0},{"$f":"+Input!H289","v":0},{"$f":"+Input!I289","v":0},{"$f":"+Input!J289","v":0}]
[287,0,{"$f":"+Input!C290","v":0},{"$f":"+Input!D290","v":0},{"$f":"+Input!E290","v":0},{"$f":"+Input!F290","v":0},{"$f":"+Input!G290","v":0},{"$f":"+Input!H290","v":0},{"$f":"+Input!I290","v":0},{"$f":"+Input!J290","v":0}]
[288,3,{"$f":"+Input!C291","v":0},{"$f":"+Input!D291","v":0},{"$f":"+Input!E291","v":0},{"$f":"+Input!F291","v":0},{"$f":"+Input!G291","v":0},{"$f":"+Input!H291","v":0},{"$f":"+Input!I291","v":0},{"$f":"+Input!J291","v":0}]
[289,0,{"$f":"+Input!C292","v":0},{"$f":"+Input!D292","v":0},{"$f":"+Input!E292","v":0},{"$f":"+Input!F292","v":0},{"$f":"+Input!G292","v":0},{"$f":"+Input!H292","v":0},{"$f":"+Input!I292","v":0},{"$f":"+Input!J292","v":0}]
[290,0,{"$f":"+Input!C293","v":0},{"$f":"+Input!D293","v":0},{"$f":"+Input!E293","v":0},{"$f":"+Input!F293","v":0},{"$f":"+Input!G293","v":0},{"$f":"+Input!H293","v":0},{"$f":"+Input!I293","v":0},{"$f":"+Input!J293","v":0}]
[291,0,{"$f":"+Input!C294","v":0},{"$f":"+Input!D294","v":0},{"$f":"+Input!E294","v":0},{"$f":"+Input!F294","v":0},{"$f":"+Input!G294","v":0},{"$f":"+Input!H294","v":0},{"$f":"+Input!I294","v":0},{"$f":"+Input!J294","v":0}]
[292,0,{"$f":"+Input!C295","v":0},{"$f":"+Input!D295","v":0},{"$f":"+Input!E295","v":0},{"$f":"+Input!F295","v":0},{"$f":"+Input!G295","v":0},{"$f":"+Input!H295","v":0},{"$f":"+Input!I295","v":0},{"$f":"+Input!J295","v":0}]
[293,0,{"$f":"+Input!C296","v":0},{"$f":"+Input!D296","v":0},{"$f":"+Input!E296","v":0},{"$f":"+Input!F296","v":0},{"$f":"+Input!G296","v":0},{"$f":"+Input!H296","v":0},{"$f":"+Input!I296","v":0},{"$f":"+Input!J296","v":0}]
[294,4,{"$f":"+Input!C297","v":0},{"$f":"+Input!D297","v":0},{"$f":"+Input!E297","v":0},{"$f":"+Input!F297","v":0},{"$f":"+Input!G297","v":0},{"$f":"+Input!H297","v":0},{"$f":"+Input!I297","v":0},{"$f":"+Input!J297","v":0}]
[295,0,{"$f":"+Input!C298","v":0},{"$f":"+Input!D298","v":0},{"$f":"+Input!E298","v":0},{"$f":"+Input!F298","v":0},{"$f":"+Input!G298","v":0},{"$f":"+Input!H298","v":0},{"$f":"+Input!I298","v":0},{"$f":"+Input!J298","v":0}]
[296,0,{"$f":"+Input!C299","v":0},{"$f":"+Input!D299","v":0},{"$f":"+Input!E299","v":0},{"$f":"+Input!F299","v":0},{"$f":"+Input!G299","v":0},{"$f":"+Input!H299","v":0},{"$f":"+Input!I299","v":0},{"$f":"+Input!J299","v":0}]
[297,0,{"$f":"+Input!C300","v":0},{"$f":"+Input!D300","v":0},{"$f":"+Input!E300","v":0},{"$f":"+Input!F300","v":0},{"$f":"+Input!G300","v":0},{"$f":"+Input!H300","v":0},{"$f":"+Input!I300","v":0},{"$f":"+Input!J300","v":0}]
[298,0,{"$f":"+Input!C301","v":0},{"$f":"+Input!D301","v":0},{"$f":"+Input!E301","v":0},{"$f":"+Input!F301","v":0},{"$f":"+Input!G301","v":0},{"$f":"+Input!H301","v":0},{"$f":"+Input!I301","v":0},{"$f":"+Input!J301","v":0}]
[299,0,{"$f":"+Input!C302","v":0},{"$f":"+Input!D302","v":0},{"$f":"+Input!E302","v":0},{"$f":"+Input!F302","v":0},{"$f":"+Input!G302","v":0},{"$f":"+Input!H302","v":0},{"$f":"+Input!I302","v":0},{"$f":"+Input!J302","v":0}]
[300,0,{"$f":"+Input!C303","v":0},{"$f":"+Input!D303","v":0},{"$f":"+Input!E303","v":0},{"$f":"+Input!F303","v":0},{"$f":"+Input!G303","v":0},{"$f":"+Input!H303","v":0},{"$f":"+Input!I303","v":0},{"$f":"+Input!J303","v":0}]
[301,1,{"$f":"+Input!C304","v":0},{"$f":"+Input!D304","v":0},{"$f":"+Input!E304","v":0},{"$f":"+Input!F304","v":0},{"$f":"+Input!G304","v":0},{"$f":"+Input!H304","v":0},{"$f":"+Input!I304","v":0},{"$f":"+Input!J304","v":0}]
[302,0,{"$f":"+Input!C305","v":0},{"$f":"+Input!D305","v":0},{"$f":"+Input!E305","v":0},{"$f":"+Input!F305","v":0},{"$f":"+Input!G305","v":0},{"$f":"+Input!H305","v":0},{"$f":"+Input!I305","v":0},{"$f":"+Input!J305","v":0}]
[303,0,{"$f":"+Input!C306","v":0},{"$f":"+Input!D306","v":0},{"$f":"+Input!E306","v":0},{"$f":"+Input!F306","v":0},{"$f":"+Input!G306","v":0},{"$f":"+Input!H306","v":0},{"$f":"+Input!I306","v":0},{"$f":"+Input!J306","v":0}]
[304,0,{"$f":"+Input!C307","v":0},{"$f":"+Input!D307","v":0},{"$f":"+Input!E307","v":0},{"$f":"+Input!F307","v":0},{"$f":"+Input!G307","v":0},{"$f":"+Input!H307","v":0},{"$f":"+Input!I307","v":0},{"$f":"+Input!J307","v":0}]
[305,0,{"$f":"+Input!C308","v":0},{"$f":"+Input!D308","v":0},{"$f":"+Input!E308","v":0},{"$f":"+Input!F308","v":0},{"$f":"+Input!G308","v":0},{"$f":"+Input!H308","v":0},{"$f":"+Input!I308","v":0},{"$f":"+Input!J308","v":0}]
[306,0,{"$f":"+Input!C309","v":0},{"$f":"+Input!D309","v":0},{"$f":"+Input!E309","v":0},{"$f":"+Input!F309","v":0},{"$f":"+Input!G309","v":0},{"$f":"+Input!H309","v":0},{"$f":"+Input!I309","v":0},{"$f":"+Input!J309","v":0}]
[307,2,{"$f":"+Input!C310","v":0},{"$f":"+Input!D310","v":0},{"$f":"+Input!E310","v":0},{"$f":"+Input!F310","v":0},{"$f":"+Input!G310","v":0},{"$f":"+Input!H310","v":0},{"$f":"+Input!I310","v":0},{"$f":"+Input!J310","v":0}]
[308,0,{"$f":"+Input!C311","v":0},{"$f":"+Input!D311","v":0},{"$f":"+Input!E311","v":0},{"$f":"+Input!F311","v":0},{"$f":"+Input!G311","v":0},{"$f":"+Input!H311","v":0},{"$f":"+Input!I311","v":0},{"$f":"+Input!J311","v":0}]
[309,0,{"$f":"+Input!C312","v":0},{"$f":"+Input!D312","v":0},{"$f":"+Input!E312","v":0},{"$f":"+Input!F312","v":0},{"$f":"+Input!G312","v":0},{"$f":"+Input!H312","v":0},{"$f":"+Input!I312","v":0},{"$f":"+Input!J312","v":0}]
[310,0,{"$f":"+Input!C313","v":0},{"$f":"+Input!D313","v":0},{"$f":"+Input!E313","v":0},{"$f":"+Input!F313","v":0},{"$f":"+Input!G313","v":0},{"$f":"+Input!H313","v":0},{"$f":"+Input!I313","v":0},{"$f":"+Input!J313","v":0}]
[311,0,{"$f":"+Input!C314","v":0},{"$f":"+Input!D314","v":0},{"$f":"+Input!E314","v":0},{"$f":"+Input!F314","v":0},{"$f":"+Input!G314","v":0},{"$f":"+Input!H314","v":0},{"$f":"+Input!I314","v":0},{"$f":"+Input!J314","v":0}]
[312,0,{"$f":"+Input!C315","v":0},{"$f":"+Input!D315","v":0},{"$f":"+Input!E315","v":0},{"$f":"+Input!F315","v":0},{"$f":"+Input!G315","v":0},{"$f":"+Input!H315","v":0},{"$f":"+Input!I315","v":0},{"$f":"+Input!J315","v":0}]
[313,3,{"$f":"+Input!C316","v":0},{"$f":"+Input!D316","v":0},{"$f":"+Input!E316","v":0},{"$f":"+Input!F316","v":0},{"$f":"+Input!G316","v":0},{"$f":"+Input!H316","v":0},{"$f":"+Input!I316","v":0},{"$f":"+Input!J316","v":0}]
[314,0,{"$f":"+Input!C317","v":0},{"$f":"+Input!D317","v":0},{"$f":"+Input!E317","v":0},{"$f":"+Input!F317","v":0},{"$f":"+Input!G317","v":0},{"$f":"+Input!H317","v":0},{"$f":"+Input!I317","v":0},{"$f":"+Input!J317","v":0}]
[315,0,{"$f":"+Input!C318","v":0},{"$f":"+Input!D318","v":0},{"$f":"+Input!E318","v":0},{"$f":"+Input!F318","v":0},{"$f":"+Input!G318","v":0},{"$f":"+Input!H318","v":0},{"$f":"+Input!I318","v":0},{"$f":"+Input!J318","v":0}]
[316,0,{"$f":"+Input!C319","v":0},{"$f":"+Input!D319","v":0},{"$f":"+Input!E319","v":0},{"$f":"+Input!F319","v":0},{"$f":"+Input!G319","v":0},{"$f":"+Input!H319","v":0},{"$f":"+Input!I319","v":0},{"$f":"+Input!J319","v":0}]
[317,0,{"$f":"+Input!C320","v":0},{"$f":"+Input!D320","v":0},{"$f":"+Input!E320","v":0},{"$f":"+Input!F320","v":0},{"$f":"+Input!G320","v":0},{"$f":"+Input!H320","v":0},{"$f":"+Input!I320","v":0},{"$f":"+Input!J320","v":0}]
[318,0,{"$f":"+Input!C321","v":0},{"$f":"+Input!D321","v":0},{"$f":"+Input!E321","v":0},{"$f":"+Input!F321","v":0},{"$f":"+Input!G321","v":0},{"$f":"+Input!H321","v":0},{"$f":"+Input!I321","v":0},{"$f":"+Input!J321","v":0}]
[319,4,{"$f":"+Input!C322","v":0},{"$f":"+Input!D322","v":0},{"$f":"+Input!E322","v":0},{"$f":"+Input!F322","v":0},{"$f":"+Input!G322","v":0},{"$f":"+Input!H322","v":0},{"$f":"+Input!I322","v":0},{"$f":"+Input!J322","v":0}]
[320,0,{"$f":"+Input!C323","v":0},{"$f":"+Input!D323","v":0},{"$f":"+Input!E323","v":0},{"$f":"+Input!F323","v":0},{"$f":"+Input!G323","v":0},{"$f":"+Input!H323","v":0},{"$f":"+Input!I323","v":0},{"$f":"+Input!J323","v":0}]
[321,0,{"$f":"+Input!C324","v":0},{"$f":"+Input!D324","v":0},{"$f":"+Input!E324","v":0},{"$f":"+Input!F324","v":0},{"$f":"+Input!G324","v":0},{"$f":"+Input!H324","v":0},{"$f":"+Input!I324","v":0},{"$f":"+Input!J324","v":0}]
[322,0,{"$f":"+Input!C325","v":0},{"$f":"+Input!D325","v":0},{"$f":"+Input!E325","v":0},{"$f":"+Input!F325","v":0},{"$f":"+Input!G325","v":0},{"$f":"+Input!H325","v":0},{"$f":"+Input!I325","v":0},{"$f":"+Input!J325","v":0}]
[323,0,{"$f":"+Input!C326","v":0},{"$f":"+Input!D326","v":0},{"$f":"+Input!E326","v":0},{"$f":"+Input!F326","v":0},{"$f":"+Input!G326","v":0},{"$f":"+Input!H326","v":0},{"$f":"+Input!I326","v":0},{"$f":"+Input!J326","v":0}]
[324,0,{"$f":"+Input!C327","v":0},{"$f":"+Input!D327","v":0},{"$f":"+Input!E327","v":0},{"$f":"+Input!F327","v":0},{"$f":"+Input!G327","v":0},{"$f":"+Input!H327","v":0},{"$f":"+Input!I327","v":0},{"$f":"+Input!J327","v":0}]
[325,0,{"$f":"+Input!C328","v":0},{"$f":"+Input!D328","v":0},{"$f":"+Input!E328","v":0},{"$f":"+Input!F328","v":0},{"$f":"+Input!G328","v":0},{"$f":"+Input!H328","v":0},{"$f":"+Input!I328","v":0},{"$f":"+Input!J328","v":0}]
[326,1,{"$f":"+Input!C329","v":0},{"$f":"+Input!D329","v":0},{"$f":"+Input!E329","v":0},{"$f":"+Input!F329","v":0},{"$f":"+Input!G329","v":0},{"$f":"+Input!H329","v":0},{"$f":"+Input!I329","v":0},{"$f":"+Input!J329","v":0}]
[327,0,{"$f":"+Input!C330","v":0},{"$f":"+Input!D330","v":0},{"$f":"+Input!E330","v":0},{"$f":"+Input!F330","v":0},{"$f":"+Input!G330","v":0},{"$f":"+Input!H330","v":0},{"$f":"+Input!I330","v":0},{"$f":"+Input!J330","v":0}]
[328,0,{"$f":"+Input!C331","v":0},{"$f":"+Input!D331","v":0},{"$f":"+Input!E331","v":0},{"$f":"+Input!F331","v":0},{"$f":"+Input!G331","v":0},{"$f":"+Input!H331","v":0},{"$f":"+Input!I331","v":0},{"$f":"+Input!J331","v":0}]
[329,0,{"$f":"+Input!C332","v":0},{"$f":"+Input!D332","v":0},{"$f":"+Input!E332","v":0},{"$f":"+Input!F332","v":0},{"$f":"+Input!G332","v":0},{"$f":"+Input!H332","v":0},{"$f":"+Input!I332","v":0},{"$f":"+Input!J332","v":0}]
[330,0,{"$f":"+Input!C333","v":0},{"$f":"+Input!D333","v":0},{"$f":"+Input!E333","v":0},{"$f":"+Input!F333","v":0},{"$f":"+Input!G333","v":0},{"$f":"+Input!H333","v":0},{"$f":"+Input!I333","v":0},{"$f":"+Input!J333","v":0}]
[331,0,{"$f":"+Input!C334","v":0},{"$f":"+Input!D334","v":0},{"$f":"+Input!E334","v":0},{"$f":"+Input!F334","v":0},{"$f":"+Input!G334","v":0},{"$f":"+Input!H334","v":0},{"$f":"+Input!I334","v":0},{"$f":"+Input!J334","v":0}]
[332,2,{"$f":"+Input!C335","v":0},{"$f":"+Input!D335","v":0},{"$f":"+Input!E335","v":0},{"$f":"+Input!F335","v":0},{"$f":"+Input!G335","v":0},{"$f":"+Input!H335","v":0},{"$f":"+Input!I335","v":0},{"$f":"+Input!J335","v":0}]
[333,0,{"$f":"+Input!C336","v":0},{"$f":"+Input!D336","v":0},{"$f":"+Input!E336","v":0},{"$f":"+Input!F336","v":0},{"$f":"+Input!G336","v":0},{"$f":"+Input!H336","v":0},{"$f":"+Input!I336","v":0},{"$f":"+Input!J336","v":0}]
[334,0,{"$f":"+Input!C337","v":0},{"$f":"+Input!D337","v":0},{"$f":"+Input!E337","v":0},{"$f":"+Input!F337","v":0},{"$f":"+Input!G337","v":0},{"$f":"+Input!H337","v":0},{"$f":"+Input!I337","v":0},{"$f":"+Input!J337","v":0}]
[335,0,{"$f":"+Input!C338","v":0},{"$f":"+Input!D338","v":0},{"$f":"+Input!E338","v":0},{"$f":"+Input!F338","v":0},{"$f":"+Input!G338","v":0},{"$f":"+Input!H338","v":0},{"$f":"+Input!I338","v":0},{"$f":"+Input!J338","v":0}]
[336,0,{"$f":"+Input!C339","v":0},{"$f":"+Input!D339","v":0},{"$f":"+Input!E339","v":0},{"$f":"+Input!F339","v":0},{"$f":"+Input!G339","v":0},{"$f":"+Input!H339","v":0},{"$f":"+Input!I339","v":0},{"$f":"+Input!J339","v":0}]
[337,0,{"$f":"+Input!C340","v":0},{"$f":"+Input!D340","v":0},{"$f":"+Input!E340","v":0},{"$f":"+Input!F340","v":0},{"$f":"+Input!G340","v":0},{"$f":"+Input!H340","v":0},{"$f":"+Input!I340","v":0},{"$f":"+Input!J340","v":0}]
[338,3,{"$f":"+Input!C341","v":0},{"$f":"+Input!D341","v":0},{"$f":"+Input!E341","v":0},{"$f":"+Input!F341","v":0},{"$f":"+Input!G341","v":0},{"$f":"+Input!H341","v":0},{"$f":"+Input!I341","v":0},{"$f":"+Input!J341","v":0}]
[339,0,{"$f":"+Input!C342","v":0},{"$f":"+Input!D342","v":0},{"$f":"+Input!E342","v":0},{"$f":"+Input!F342","v":0},{"$f":"+Input!G342","v":0},{"$f":"+Input!H342","v":0},{"$f":"+Input!I342","v":0},{"$f":"+Input!J342","v":0}]
[340,0,{"$f":"+Input!C343","v":0},{"$f":"+Input!D343","v":0},{"$f":"+Input!E343","v":0},{"$f":"+Input!F343","v":0},{"$f":"+Input!G343","v":0},{"$f":"+Input!H343","v":0},{"$f":"+Input!I343","v":0},{"$f":"+Input!J343","v":0}]
[341,0,{"$f":"+Input!C344","v":0},{"$f":"+Input!D344","v":0},{"$f":"+Input!E344","v":0},{"$f":"+Input!F344","v":0},{"$f":"+Input!G344","v":0},{"$f":"+Input!H344","v":0},{"$f":"+Input!I344","v":0},{"$f":"+Input!J344","v":0}]
[342,0,{"$f":"+Input!C345","v":0},{"$f":"+Input!D345","v":0},{"$f":"+Input!E345","v":0},{"$f":"+Input!F345","v":0},{"$f":"+Input!G345","v":0},{"$f":"+Input!H345","v":0},{"$f":"+Input!I345","v":0},{"$f":"+Input!J345","v":0}]
[343,0,{"$f":"+Input!C346","v":0},{"$f":"+Input!D346","v":0},{"$f":"+Input!E346","v":0},{"$f":"+Input!F346","v":0},{"$f":"+Input!G346","v":0},{"$f":"+Input!H346","v":0},{"$f":"+Input!I346","v":0},{"$f":"+Input!J346","v":0}]
[344,4,{"$f":"+Input!C347","v":0},{"$f":"+Input!D347","v":0},{"$f":"+Input!E347","v":0},{"$f":"+Input!F347","v":0},{"$f":"+Input!G347","v":0},{"$f":"+Input!H347","v":0},{"$f":"+Input!I347","v":0},{"$f":"+Input!J347","v":0}]
[345,0,{"$f":"+Input!C348","v":0},{"$f":"+Input!D348","v":0},{"$f":"+Input!E348","v":0},{"$f":"+Input!F348","v":0},{"$f":"+Input!G348","v":0},{"$f":"+Input!H348","v":0},{"$f":"+Input!I348","v":0},{"$f":"+Input!J348","v":0}]
[346,0,{"$f":"+Input!C349","v":0},{"$f":"+Input!D349","v":0},{"$f":"+Input!E349","v":0},{"$f":"+Input!F349","v":0},{"$f":"+Input!G349","v":0},{"$f":"+Input!H349","v":0},{"$f":"+Input!I349","v":0},{"$f":"+Input!J349","v":0}]
[347,{"$f":"+B325","v":0},{"$f":"+Input!C350","v":0},{"$f":"+Input!D350","v":0},{"$f":"+Input!E350","v":0},{"$f":"+Input!F350","v":0},{"$f":"+Input!G350","v":0},{"$f":"+Input!H350","v":0},{"$f":"+Input!I350","v":0},{"$f":"+Input!J350","v":0}]
[348,0,{"$f":"+Input!C351","v":0},{"$f":"+Input!D351","v":0},{"$f":"+Input!E351","v":0},{"$f":"+Input!F351","v":0},{"$f":"+Input!G351","v":0},{"$f":"+Input!H351","v":0},{"$f":"+Input!I351","v":0},{"$f":"+Input!J351","v":0}]
[349,0,{"$f":"+Input!C352","v":0},{"$f":"+Input!D352","v":0},{"$f":"+Input!E352","v":0},{"$f":"+Input!F352","v":0},{"$f":"+Input!G352","v":0},{"$f":"+Input!H352","v":0},{"$f":"+Input!I352","v":0},{"$f":"+Input!J352","v":0}]
[350,0,{"$f":"+Input!C353","v":0},{"$f":"+Input!D353","v":0},{"$f":"+Input!E353","v":0},{"$f":"+Input!F353","v":0},{"$f":"+Input!G353","v":0},{"$f":"+Input!H353","v":0},{"$f":"+Input!I353","v":0},{"$f":"+Input!J353","v":0}]
[351,1,{"$f":"+Input!C354","v":0},{"$f":"+Input!D354","v":0},{"$f":"+Input!E354","v":0},{"$f":"+Input!F354","v":0},{"$f":"+Input!G354","v":0},{"$f":"+Input!H354","v":0},{"$f":"+Input!I354","v":0},{"$f":"+Input!J354","v":0}]
[352,0,{"$f":"+Input!C355","v":0},{"$f":"+Input!D355","v":0},{"$f":"+Input!E355","v":0},{"$f":"+Input!F355","v":0},{"$f":"+Input!G355","v":0},{"$f":"+Input!H355","v":0},{"$f":"+Input!I355","v":0},{"$f":"+Input!J355","v":0}]
[353,0,{"$f":"+Input!C356","v":0},{"$f":"+Input!D356","v":0},{"$f":"+Input!E356","v":0},{"$f":"+Input!F356","v":0},{"$f":"+Input!G356","v":0},{"$f":"+Input!H356","v":0},{"$f":"+Input!I356","v":0},{"$f":"+Input!J356","v":0}]
[354,0,{"$f":"+Input!C357","v":0},{"$f":"+Input!D357","v":0},{"$f":"+Input!E357","v":0},{"$f":"+Input!F357","v":0},{"$f":"+Input!G357","v":0},{"$f":"+Input!H357","v":0},{"$f":"+Input!I357","v":0},{"$f":"+Input!J357","v":0}]
[355,0,{"$f":"+Input!C358","v":0},{"$f":"+Input!D358","v":0},{"$f":"+Input!E358","v":0},{"$f":"+Input!F358","v":0},{"$f":"+Input!G358","v":0},{"$f":"+Input!H358","v":0},{"$f":"+Input!I358","v":0},{"$f":"+Input!J358","v":0}]
[356,0,{"$f":"+Input!C359","v":0},{"$f":"+Input!D359","v":0},{"$f":"+Input!E359","v":0},{"$f":"+Input!F359","v":0},{"$f":"+Input!G359","v":0},{"$f":"+Input!H359","v":0},{"$f":"+Input!I359","v":0},{"$f":"+Input!J359","v":0}]
[357,2,{"$f":"+Input!C360","v":0},{"$f":"+Input!D360","v":0},{"$f":"+Input!E360","v":0},{"$f":"+Input!F360","v":0},{"$f":"+Input!G360","v":0},{"$f":"+Input!H360","v":0},{"$f":"+Input!I360","v":0},{"$f":"+Input!J360","v":0}]
[358,0,{"$f":"+Input!C361","v":0},{"$f":"+Input!D361","v":0},{"$f":"+Input!E361","v":0},{"$f":"+Input!F361","v":0},{"$f":"+Input!G361","v":0},{"$f":"+Input!H361","v":0},{"$f":"+Input!I361","v":0},{"$f":"+Input!J361","v":0}]
[359,0,{"$f":"+Input!C362","v":0},{"$f":"+Input!D362","v":0},{"$f":"+Input!E362","v":0},{"$f":"+Input!F362","v":0},{"$f":"+Input!G362","v":0},{"$f":"+Input!H362","v":0},{"$f":"+Input!I362","v":0},{"$f":"+Input!J362","v":0}]
[360,0,{"$f":"+Input!C363","v":0},{"$f":"+Input!D363","v":0},{"$f":"+Input!E363","v":0},{"$f":"+Input!F363","v":0},{"$f":"+Input!G363","v":0},{"$f":"+Input!H363","v":0},{"$f":"+Input!I363","v":0},{"$f":"+Input!J363","v":0}]
[361,0,{"$f":"+Input!C364","v":0},{"$f":"+Input!D364","v":0},{"$f":"+Input!E364","v":0},{"$f":"+Input!F364","v":0},{"$f":"+Input!G364","v":0},{"$f":"+Input!H364","v":0},{"$f":"+Input!I364","v":0},{"$f":"+Input!J364","v":0}]
[362,0,{"$f":"+Input!C365","v":0},{"$f":"+Input!D365","v":0},{"$f":"+Input!E365","v":0},{"$f":"+Input!F365","v":0},{"$f":"+Input!G365","v":0},{"$f":"+Input!H365","v":0},{"$f":"+Input!I365","v":0},{"$f":"+Input!J365","v":0}]
[363,3,{"$f":"+Input!C366","v":0},{"$f":"+Input!D366","v":0},{"$f":"+Input!E366","v":0},{"$f":"+Input!F366","v":0},{"$f":"+Input!G366","v":0},{"$f":"+Input!H366","v":0},{"$f":"+Input!I366","v":0},{"$f":"+Input!J366","v":0}]
[364,0,{"$f":"+Input!C367","v":0},{"$f":"+Input!D367","v":0},{"$f":"+Input!E367","v":0},{"$f":"+Input!F367","v":0},{"$f":"+Input!G367","v":0},{"$f":"+Input!H367","v":0},{"$f":"+Input!I367","v":0},{"$f":"+Input!J367","v":0}]
[365,0,{"$f":"+Input!C368","v":0},{"$f":"+Input!D368","v":0},{"$f":"+Input!E368","v":0},{"$f":"+Input!F368","v":0},{"$f":"+Input!G368","v":0},{"$f":"+Input!H368","v":0},{"$f":"+Input!I368","v":0},{"$f":"+Input!J368","v":0}]
[366,0,{"$f":"+Input!C369","v":0},{"$f":"+Input!D369","v":0},{"$f":"+Input!E369","v":0},{"$f":"+Input!F369","v":0},{"$f":"+Input!G369","v":0},{"$f":"+Input!H369","v":0},{"$f":"+Input!I369","v":0},{"$f":"+Input!J369","v":0}]
[367,0,{"$f":"+Input!C370","v":0},{"$f":"+Input!D370","v":0},{"$f":"+Input!E370","v":0},{"$f":"+Input!F370","v":0},{"$f":"+Input!G370","v":0},{"$f":"+Input!H370","v":0},{"$f":"+Input!I370","v":0},{"$f":"+Input!J370","v":0}]
[368,0,{"$f":"+Input!C371","v":0},{"$f":"+Input!D371","v":0},{"$f":"+Input!E371","v":0},{"$f":"+Input!F371","v":0},{"$f":"+Input!G371","v":0},{"$f":"+Input!H371","v":0},{"$f":"+Input!I371","v":0},{"$f":"+Input!J371","v":0}]
[369,4,{"$f":"+Input!C372","v":0},{"$f":"+Input!D372","v":0},{"$f":"+Input!E372","v":0},{"$f":"+Input!F372","v":0},{"$f":"+Input!G372","v":0},{"$f":"+Input!H372","v":0},{"$f":"+Input!I372","v":0},{"$f":"+Input!J372","v":0}]
[370,0,{"$f":"+Input!C373","v":0},{"$f":"+Input!D373","v":0},{"$f":"+Input!E373","v":0},{"$f":"+Input!F373","v":0},{"$f":"+Input!G373","v":0},{"$f":"+Input!H373","v":0},{"$f":"+Input!I373","v":0},{"$f":"+Input!J373","v":0}]
[371,0,{"$f":"+Input!C374","v":0},{"$f":"+Input!D374","v":0},{"$f":"+Input!E374","v":0},{"$f":"+Input!F374","v":0},{"$f":"+Input!G374","v":0},{"$f":"+Input!H374","v":0},{"$f":"+Input!I374","v":0},{"$f":"+Input!J374","v":0}]
[372,0,{"$f":"+Input!C375","v":0},{"$f":"+Input!D375","v":0},{"$f":"+Input!E375","v":0},{"$f":"+Input!F375","v":0},{"$f":"+Input!G375","v":0},{"$f":"+Input!H375","v":0},{"$f":"+Input!I375","v":0},{"$f":"+Input!J375","v":0}]
[373,0,{"$f":"+Input!C376","v":0},{"$f":"+Input!D376","v":0},{"$f":"+Input!E376","v":0},{"$f":"+Input!F376","v":0},{"$f":"+Input!G376","v":0},{"$f":"+Input!H376","v":0},{"$f":"+Input!I376","v":0},{"$f":"+Input!J376","v":0}]
[374,0,{"$f":"+Input!C377","v":0},{"$f":"+Input!D377","v":0},{"$f":"+Input!E377","v":0},{"$f":"+Input!F377","v":0},{"$f":"+Input!G377","v":0},{"$f":"+Input!H377","v":0},{"$f":"+Input!I377","v":0},{"$f":"+Input!J377","v":0}]
[375,0,{"$f":"+Input!C378","v":0},{"$f":"+Input!D378","v":0},{"$f":"+Input!E378","v":0},{"$f":"+Input!F378","v":0},{"$f":"+Input!G378","v":0},{"$f":"+Input!H378","v":0},{"$f":"+Input!I378","v":0},{"$f":"+Input!J378","v":0}]
[376,1,{"$f":"+Input!C379","v":0},{"$f":"+Input!D379","v":0},{"$f":"+Input!E379","v":0},{"$f":"+Input!F379","v":0},{"$f":"+Input!G379","v":0},{"$f":"+Input!H379","v":0},{"$f":"+Input!I379","v":0},{"$f":"+Input!J379","v":0}]
[377,0,{"$f":"+Input!C380","v":0},{"$f":"+Input!D380","v":0},{"$f":"+Input!E380","v":0},{"$f":"+Input!F380","v":0},{"$f":"+Input!G380","v":0},{"$f":"+Input!H380","v":0},{"$f":"+Input!I380","v":0},{"$f":"+Input!J380","v":0}]
[378,0,{"$f":"+Input!C381","v":0},{"$f":"+Input!D381","v":0},{"$f":"+Input!E381","v":0},{"$f":"+Input!F381","v":0},{"$f":"+Input!G381","v":0},{"$f":"+Input!H381","v":0},{"$f":"+Input!I381","v":0},{"$f":"+Input!J381","v":0}]
[379,0,{"$f":"+Input!C382","v":0},{"$f":"+Input!D382","v":0},{"$f":"+Input!E382","v":0},{"$f":"+Input!F382","v":0},{"$f":"+Input!G382","v":0},{"$f":"+Input!H382","v":0},{"$f":"+Input!I382","v":0},{"$f":"+Input!J382","v":0}]
[380,0,{"$f":"+Input!C383","v":0},{"$f":"+Input!D383","v":0},{"$f":"+Input!E383","v":0},{"$f":"+Input!F383","v":0},{"$f":"+Input!G383","v":0},{"$f":"+Input!H383","v":0},{"$f":"+Input!I383","v":0},{"$f":"+Input!J383","v":0}]
[381,0,{"$f":"+Input!C384","v":0},{"$f":"+Input!D384","v":0},{"$f":"+Input!E384","v":0},{"$f":"+Input!F384","v":0},{"$f":"+Input!G384","v":0},{"$f":"+Input!H384","v":0},{"$f":"+Input!I384","v":0},{"$f":"+Input!J384","v":0}]
[382,2,{"$f":"+Input!C385","v":0},{"$f":"+Input!D385","v":0},{"$f":"+Input!E385","v":0},{"$f":"+Input!F385","v":0},{"$f":"+Input!G385","v":0},{"$f":"+Input!H385","v":0},{"$f":"+Input!I385","v":0},{"$f":"+Input!J385","v":0}]
[383,0,{"$f":"+Input!C386","v":0},{"$f":"+Input!D386","v":0},{"$f":"+Input!E386","v":0},{"$f":"+Input!F386","v":0},{"$f":"+Input!G386","v":0},{"$f":"+Input!H386","v":0},{"$f":"+Input!I386","v":0},{"$f":"+Input!J386","v":0}]
[384,0,{"$f":"+Input!C387","v":0},{"$f":"+Input!D387","v":0},{"$f":"+Input!E387","v":0},{"$f":"+Input!F387","v":0},{"$f":"+Input!G387","v":0},{"$f":"+Input!H387","v":0},{"$f":"+Input!I387","v":0},{"$f":"+Input!J387","v":0}]
[385,0,{"$f":"+Input!C388","v":0},{"$f":"+Input!D388","v":0},{"$f":"+Input!E388","v":0},{"$f":"+Input!F388","v":0},{"$f":"+Input!G388","v":0},{"$f":"+Input!H388","v":0},{"$f":"+Input!I388","v":0},{"$f":"+Input!J388","v":0}]
[386,0,{"$f":"+Input!C389","v":0},{"$f":"+Input!D389","v":0},{"$f":"+Input!E389","v":0},{"$f":"+Input!F389","v":0},{"$f":"+Input!G389","v":0},{"$f":"+Input!H389","v":0},{"$f":"+Input!I389","v":0},{"$f":"+Input!J389","v":0}]
[387,0,{"$f":"+Input!C390","v":0},{"$f":"+Input!D390","v":0},{"$f":"+Input!E390","v":0},{"$f":"+Input!F390","v":0},{"$f":"+Input!G390","v":0},{"$f":"+Input!H390","v":0},{"$f":"+Input!I390","v":0},{"$f":"+Input!J390","v":0}]
[388,3,{"$f":"+Input!C391","v":0},{"$f":"+Input!D391","v":0},{"$f":"+Input!E391","v":0},{"$f":"+Input!F391","v":0},{"$f":"+Input!G391","v":0},{"$f":"+Input!H391","v":0},{"$f":"+Input!I391","v":0},{"$f":"+Input!J391","v":0}]
[389,0,{"$f":"+Input!C392","v":0},{"$f":"+Input!D392","v":0},{"$f":"+Input!E392","v":0},{"$f":"+Input!F392","v":0},{"$f":"+Input!G392","v":0},{"$f":"+Input!H392","v":0},{"$f":"+Input!I392","v":0},{"$f":"+Input!J392","v":0}]
[390,0,{"$f":"+Input!C393","v":0},{"$f":"+Input!D393","v":0},{"$f":"+Input!E393","v":0},{"$f":"+Input!F393","v":0},{"$f":"+Input!G393","v":0},{"$f":"+Input!H393","v":0},{"$f":"+Input!I393","v":0},{"$f":"+Input!J393","v":0}]
[391,0,{"$f":"+Input!C394","v":0},{"$f":"+Input!D394","v":0},{"$f":"+Input!E394","v":0},{"$f":"+Input!F394","v":0},{"$f":"+Input!G394","v":0},{"$f":"+Input!H394","v":0},{"$f":"+Input!I394","v":0},{"$f":"+Input!J394","v":0}]
[392,0,{"$f":"+Input!C395","v":0},{"$f":"+Input!D395","v":0},{"$f":"+Input!E395","v":0},{"$f":"+Input!F395","v":0},{"$f":"+Input!G395","v":0},{"$f":"+Input!H395","v":0},{"$f":"+Input!I395","v":0},{"$f":"+Input!J395","v":0}]
[393,0,{"$f":"+Input!C396","v":0},{"$f":"+Input!D396","v":0},{"$f":"+Input!E396","v":0},{"$f":"+Input!F396","v":0},{"$f":"+Input!G396","v":0},{"$f":"+Input!H396","v":0},{"$f":"+Input!I396","v":0},{"$f":"+Input!J396","v":0}]
[394,4,{"$f":"+Input!C397","v":0},{"$f":"+Input!D397","v":0},{"$f":"+Input!E397","v":0},{"$f":"+Input!F397","v":0},{"$f":"+Input!G397","v":0},{"$f":"+Input!H397","v":0},{"$f":"+Input!I397","v":0},{"$f":"+Input!J397","v":0}]
[395,0,{"$f":"+Input!C398","v":0},{"$f":"+Input!D398","v":0},{"$f":"+Input!E398","v":0},{"$f":"+Input!F398","v":0},{"$f":"+Input!G398","v":0},{"$f":"+Input!H398","v":0},{"$f":"+Input!I398","v":0},{"$f":"+Input!J398","v":0}]
[396,0,{"$f":"+Input!C399","v":0},{"$f":"+Input!D399","v":0},{"$f":"+Input!E399","v":0},{"$f":"+Input!F399","v":0},{"$f":"+Input!G399","v":0},{"$f":"+Input!H399","v":0},{"$f":"+Input!I399","v":0},{"$f":"+Input!J399","v":0}]
[397,0,{"$f":"+Input!C400","v":0},{"$f":"+Input!D400","v":0},{"$f":"+Input!E400","v":0},{"$f":"+Input!F400","v":0},{"$f":"+Input!G400","v":0},{"$f":"+Input!H400","v":0},{"$f":"+Input!I400","v":0},{"$f":"+Input!J400","v":0}]
[398,0,{"$f":"+Input!C401","v":0},{"$f":"+Input!D401","v":0},{"$f":"+Input!E401","v":0},{"$f":"+Input!F401","v":0},{"$f":"+Input!G401","v":0},{"$f":"+Input!H401","v":0},{"$f":"+Input!I401","v":0},{"$f":"+Input!J401","v":0}]
[399,0,{"$f":"+Input!C402","v":0},{"$f":"+Input!D402","v":0},{"$f":"+Input!E402","v":0},{"$f":"+Input!F402","v":0},{"$f":"+Input!G402","v":0},{"$f":"+Input!H402","v":0},{"$f":"+Input!I402","v":0},{"$f":"+Input!J402","v":0}]
[400,0,{"$f":"+Input!C403","v":0},{"$f":"+Input!D403","v":0},{"$f":"+Input!E403","v":0},{"$f":"+Input!F403","v":0},{"$f":"+Input!G403","v":0},{"$f":"+Input!H403","v":0},{"$f":"+Input!I403","v":0},{"$f":"+Input!J403","v":0}]
[401,1,{"$f":"+Input!C404","v":0},{"$f":"+Input!D404","v":0},{"$f":"+Input!E404","v":0},{"$f":"+Input!F404","v":0},{"$f":"+Input!G404","v":0},{"$f":"+Input!H404","v":0},{"$f":"+Input!I404","v":0},{"$f":"+Input!J404","v":0}]
[402,0,{"$f":"+Input!C405","v":0},{"$f":"+Input!D405","v":0},{"$f":"+Input!E405","v":0},{"$f":"+Input!F405","v":0},{"$f":"+Input!G405","v":0},{"$f":"+Input!H405","v":0},{"$f":"+Input!I405","v":0},{"$f":"+Input!J405","v":0}]
[403,0,{"$f":"+Input!C406","v":0},{"$f":"+Input!D406","v":0},{"$f":"+Input!E406","v":0},{"$f":"+Input!F406","v":0},{"$f":"+Input!G406","v":0},{"$f":"+Input!H406","v":0},{"$f":"+Input!I406","v":0},{"$f":"+Input!J406","v":0}]
[404,0,{"$f":"+Input!C407","v":0},{"$f":"+Input!D407","v":0},{"$f":"+Input!E407","v":0},{"$f":"+Input!F407","v":0},{"$f":"+Input!G407","v":0},{"$f":"+Input!H407","v":0},{"$f":"+Input!I407","v":0},{"$f":"+Input!J407","v":0}]
[405,0,{"$f":"+Input!C408","v":0},{"$f":"+Input!D408","v":0},{"$f":"+Input!E408","v":0},{"$f":"+Input!F408","v":0},{"$f":"+Input!G408","v":0},{"$f":"+Input!H408","v":0},{"$f":"+Input!I408","v":0},{"$f":"+Input!J408","v":0}]
[406,0,{"$f":"+Input!C409","v":0},{"$f":"+Input!D409","v":0},{"$f":"+Input!E409","v":0},{"$f":"+Input!F409","v":0},{"$f":"+Input!G409","v":0},{"$f":"+Input!H409","v":0},{"$f":"+Input!I409","v":0},{"$f":"+Input!J409","v":0}]
[407,2,{"$f":"+Input!C410","v":0},{"$f":"+Input!D410","v":0},{"$f":"+Input!E410","v":0},{"$f":"+Input!F410","v":0},{"$f":"+Input!G410","v":0},{"$f":"+Input!H410","v":0},{"$f":"+Input!I410","v":0},{"$f":"+Input!J410","v":0}]
[408,0,{"$f":"+Input!C411","v":0},{"$f":"+Input!D411","v":0},{"$f":"+Input!E411","v":0},{"$f":"+Input!F411","v":0},{"$f":"+Input!G411","v":0},{"$f":"+Input!H411","v":0},{"$f":"+Input!I411","v":0},{"$f":"+Input!J411","v":0}]
[409,0,{"$f":"+Input!C412","v":0},{"$f":"+Input!D412","v":0},{"$f":"+Input!E412","v":0},{"$f":"+Input!F412","v":0},{"$f":"+Input!G412","v":0},{"$f":"+Input!H412","v":0},{"$f":"+Input!I412","v":0},{"$f":"+Input!J412","v":0}]
[410,0,{"$f":"+Input!C413","v":0},{"$f":"+Input!D413","v":0},{"$f":"+Input!E413","v":0},{"$f":"+Input!F413","v":0},{"$f":"+Input!G413","v":0},{"$f":"+Input!H413","v":0},{"$f":"+Input!I413","v":0},{"$f":"+Input!J413","v":0}]
[411,{"$f":"+B389","v":0},{"$f":"+Input!C414","v":0},{"$f":"+Input!D414","v":0},{"$f":"+Input!E414","v":0},{"$f":"+Input!F414","v":0},{"$f":"+Input!G414","v":0},{"$f":"+Input!H414","v":0},{"$f":"+Input!I414","v":0},{"$f":"+Input!J414","v":0}]
[412,0,{"$f":"+Input!C415","v":0},{"$f":"+Input!D415","v":0},{"$f":"+Input!E415","v":0},{"$f":"+Input!F415","v":0},{"$f":"+Input!G415","v":0},{"$f":"+Input!H415","v":0},{"$f":"+Input!I415","v":0},{"$f":"+Input!J415","v":0}]
[413,3,{"$f":"+Input!C416","v":0},{"$f":"+Input!D416","v":0},{"$f":"+Input!E416","v":0},{"$f":"+Input!F416","v":0},{"$f":"+Input!G416","v":0},{"$f":"+Input!H416","v":0},{"$f":"+Input!I416","v":0},{"$f":"+Input!J416","v":0}]
[414,0,{"$f":"+Input!C417","v":0},{"$f":"+Input!D417","v":0},{"$f":"+Input!E417","v":0},{"$f":"+Input!F417","v":0},{"$f":"+Input!G417","v":0},{"$f":"+Input!H417","v":0},{"$f":"+Input!I417","v":0},{"$f":"+Input!J417","v":0}]
[415,0,{"$f":"+Input!C418","v":0},{"$f":"+Input!D418","v":0},{"$f":"+Input!E418","v":0},{"$f":"+Input!F418","v":0},{"$f":"+Input!G418","v":0},{"$f":"+Input!H418","v":0},{"$f":"+Input!I418","v":0},{"$f":"+Input!J418","v":0}]
[416,0,{"$f":"+Input!C419","v":0},{"$f":"+Input!D419","v":0},{"$f":"+Input!E419","v":0},{"$f":"+Input!F419","v":0},{"$f":"+Input!G419","v":0},{"$f":"+Input!H419","v":0},{"$f":"+Input!I419","v":0},{"$f":"+Input!J419","v":0}]
[417,0,{"$f":"+Input!C420","v":0},{"$f":"+Input!D420","v":0},{"$f":"+Input!E420","v":0},{"$f":"+Input!F420","v":0},{"$f":"+Input!G420","v":0},{"$f":"+Input!H420","v":0},{"$f":"+Input!I420","v":0},{"$f":"+Input!J420","v":0}]
[418,0,{"$f":"+Input!C421","v":0},{"$f":"+Input!D421","v":0},{"$f":"+Input!E421","v":0},{"$f":"+Input!F421","v":0},{"$f":"+Input!G421","v":0},{"$f":"+Input!H421","v":0},{"$f":"+Input!I421","v":0},{"$f":"+Input!J421","v":0}]
[419,4,{"$f":"+Input!C422","v":0},{"$f":"+Input!D422","v":0},{"$f":"+Input!E422","v":0},{"$f":"+Input!F422","v":0},{"$f":"+Input!G422","v":0},{"$f":"+Input!H422","v":0},{"$f":"+Input!I422","v":0},{"$f":"+Input!J422","v":0}]
[420,0,{"$f":"+Input!C423","v":0},{"$f":"+Input!D423","v":0},{"$f":"+Input!E423","v":0},{"$f":"+Input!F423","v":0},{"$f":"+Input!G423","v":0},{"$f":"+Input!H423","v":0},{"$f":"+Input!I423","v":0},{"$f":"+Input!J423","v":0}]
[421,0,{"$f":"+Input!C424","v":0},{"$f":"+Input!D424","v":0},{"$f":"+Input!E424","v":0},{"$f":"+Input!F424","v":0},{"$f":"+Input!G424","v":0},{"$f":"+Input!H424","v":0},{"$f":"+Input!I424","v":0},{"$f":"+Input!J424","v":0}]
[422,0,{"$f":"+Input!C425","v":0},{"$f":"+Input!D425","v":0},{"$f":"+Input!E425","v":0},{"$f":"+Input!F425","v":0},{"$f":"+Input!G425","v":0},{"$f":"+Input!H425","v":0},{"$f":"+Input!I425","v":0},{"$f":"+Input!J425","v":0}]
[423,0,{"$f":"+Input!C426","v":0},{"$f":"+Input!D426","v":0},{"$f":"+Input!E426","v":0},{"$f":"+Input!F426","v":0},{"$f":"+Input!G426","v":0},{"$f":"+Input!H426","v":0},{"$f":"+Input!I426","v":0},{"$f":"+Input!J426","v":0}]
[424,0,{"$f":"+Input!C427","v":0},{"$f":"+Input!D427","v":0},{"$f":"+Input!E427","v":0},{"$f":"+Input!F427","v":0},{"$f":"+Input!G427","v":0},{"$f":"+Input!H427","v":0},{"$f":"+Input!I427","v":0},{"$f":"+Input!J427","v":0}]
[425,0,{"$f":"+Input!C428","v":0},{"$f":"+Input!D428","v":0},{"$f":"+Input!E428","v":0},{"$f":"+Input!F428","v":0},{"$f":"+Input!G428","v":0},{"$f":"+Input!H428","v":0},{"$f":"+Input!I428","v":0},{"$f":"+Input!J428","v":0}]
[426,1,{"$f":"+Input!C429","v":0},{"$f":"+Input!D429","v":0},{"$f":"+Input!E429","v":0},{"$f":"+Input!F429","v":0},{"$f":"+Input!G429","v":0},{"$f":"+Input!H429","v":0},{"$f":"+Input!I429","v":0},{"$f":"+Input!J429","v":0}]
[427,0,{"$f":"+Input!C430","v":0},{"$f":"+Input!D430","v":0},{"$f":"+Input!E430","v":0},{"$f":"+Input!F430","v":0},{"$f":"+Input!G430","v":0},{"$f":"+Input!H430","v":0},{"$f":"+Input!I430","v":0},{"$f":"+Input!J430","v":0}]
[428,0,{"$f":"+Input!C431","v":0},{"$f":"+Input!D431","v":0},{"$f":"+Input!E431","v":0},{"$f":"+Input!F431","v":0},{"$f":"+Input!G431","v":0},{"$f":"+Input!H431","v":0},{"$f":"+Input!I431","v":0},{"$f":"+Input!J431","v":0}]
[429,0,{"$f":"+Input!C432","v":0},{"$f":"+Input!D432","v":0},{"$f":"+Input!E432","v":0},{"$f":"+Input!F432","v":0},{"$f":"+Input!G432","v":0},{"$f":"+Input!H432","v":0},{"$f":"+Input!I432","v":0},{"$f":"+Input!J432","v":0}]
[430,0,{"$f":"+Input!C433","v":0},{"$f":"+Input!D433","v":0},{"$f":"+Input!E433","v":0},{"$f":"+Input!F433","v":0},{"$f":"+Input!G433","v":0},{"$f":"+Input!H433","v":0},{"$f":"+Input!I433","v":0},{"$f":"+Input!J433","v":0}]
[431,0,{"$f":"+Input!C434","v":0},{"$f":"+Input!D434","v":0},{"$f":"+Input!E434","v":0},{"$f":"+Input!F434","v":0},{"$f":"+Input!G434","v":0},{"$f":"+Input!H434","v":0},{"$f":"+Input!I434","v":0},{"$f":"+Input!J434","v":0}]
[432,2,{"$f":"+Input!C435","v":0},{"$f":"+Input!D435","v":0},{"$f":"+Input!E435","v":0},{"$f":"+Input!F435","v":0},{"$f":"+Input!G435","v":0},{"$f":"+Input!H435","v":0},{"$f":"+Input!I435","v":0},{"$f":"+Input!J435","v":0}]
[433,0,{"$f":"+Input!C436","v":0},{"$f":"+Input!D436","v":0},{"$f":"+Input!E436","v":0},{"$f":"+Input!F436","v":0},{"$f":"+Input!G436","v":0},{"$f":"+Input!H436","v":0},{"$f":"+Input!I436","v":0},{"$f":"+Input!J436","v":0}]
[434,0,{"$f":"+Input!C437","v":0},{"$f":"+Input!D437","v":0},{"$f":"+Input!E437","v":0},{"$f":"+Input!F437","v":0},{"$f":"+Input!G437","v":0},{"$f":"+Input!H437","v":0},{"$f":"+Input!I437","v":0},{"$f":"+Input!J437","v":0}]
[435,0,{"$f":"+Input!C438","v":0},{"$f":"+Input!D438","v":0},{"$f":"+Input!E438","v":0},{"$f":"+Input!F438","v":0},{"$f":"+Input!G438","v":0},{"$f":"+Input!H438","v":0},{"$f":"+Input!I438","v":0},{"$f":"+Input!J438","v":0}]
[436,0,{"$f":"+Input!C439","v":0},{"$f":"+Input!D439","v":0},{"$f":"+Input!E439","v":0},{"$f":"+Input!F439","v":0},{"$f":"+Input!G439","v":0},{"$f":"+Input!H439","v":0},{"$f":"+Input!I439","v":0},{"$f":"+Input!J439","v":0}]
[437,0,{"$f":"+Input!C440","v":0},{"$f":"+Input!D440","v":0},{"$f":"+Input!E440","v":0},{"$f":"+Input!F440","v":0},{"$f":"+Input!G440","v":0},{"$f":"+Input!H440","v":0},{"$f":"+Input!I440","v":0},{"$f":"+Input!J440","v":0}]
[438,3,{"$f":"+Input!C441","v":0},{"$f":"+Input!D441","v":0},{"$f":"+Input!E441","v":0},{"$f":"+Input!F441","v":0},{"$f":"+Input!G441","v":0},{"$f":"+Input!H441","v":0},{"$f":"+Input!I441","v":0},{"$f":"+Input!J441","v":0}]
[439,0,{"$f":"+Input!C442","v":0},{"$f":"+Input!D442","v":0},{"$f":"+Input!E442","v":0},{"$f":"+Input!F442","v":0},{"$f":"+Input!G442","v":0},{"$f":"+Input!H442","v":0},{"$f":"+Input!I442","v":0},{"$f":"+Input!J442","v":0}]
[440,0,{"$f":"+Input!C443","v":0},{"$f":"+Input!D443","v":0},{"$f":"+Input!E443","v":0},{"$f":"+Input!F443","v":0},{"$f":"+Input!G443","v":0},{"$f":"+Input!H443","v":0},{"$f":"+Input!I443","v":0},{"$f":"+Input!J443","v":0}]
[441,0,{"$f":"+Input!C444","v":0},{"$f":"+Input!D444","v":0},{"$f":"+Input!E444","v":0},{"$f":"+Input!F444","v":0},{"$f":"+Input!G444","v":0},{"$f":"+Input!H444","v":0},{"$f":"+Input!I444","v":0},{"$f":"+Input!J444","v":0}]
[442,0,{"$f":"+Input!C445","v":0},{"$f":"+Input!D445","v":0},{"$f":"+Input!E445","v":0},{"$f":"+Input!F445","v":0},{"$f":"+Input!G445","v":0},{"$f":"+Input!H445","v":0},{"$f":"+Input!I445","v":0},{"$f":"+Input!J445","v":0}]
[443,0,{"$f":"+Input!C446","v":0},{"$f":"+Input!D446","v":0},{"$f":"+Input!E446","v":0},{"$f":"+Input!F446","v":0},{"$f":"+Input!G446","v":0},{"$f":"+Input!H446","v":0},{"$f":"+Input!I446","v":0},{"$f":"+Input!J446","v":0}]
[444,4,{"$f":"+Input!C447","v":0},{"$f":"+Input!D447","v":0},{"$f":"+Input!E447","v":0},{"$f":"+Input!F447","v":0},{"$f":"+Input!G447","v":0},{"$f":"+Input!H447","v":0},{"$f":"+Input!I447","v":0},{"$f":"+Input!J447","v":0}]
[445,0,{"$f":"+Input!C448","v":0},{"$f":"+Input!D448","v":0},{"$f":"+Input!E448","v":0},{"$f":"+Input!F448","v":0},{"$f":"+Input!G448","v":0},{"$f":"+Input!H448","v":0},{"$f":"+Input!I448","v":0},{"$f":"+Input!J448","v":0}]
[446,0,{"$f":"+Input!C449","v":0},{"$f":"+Input!D449","v":0},{"$f":"+Input!E449","v":0},{"$f":"+Input!F449","v":0},{"$f":"+Input!G449","v":0},{"$f":"+Input!H449","v":0},{"$f":"+Input!I449","v":0},{"$f":"+Input!J449","v":0}]
[447,0,{"$f":"+Input!C450","v":0},{"$f":"+Input!D450","v":0},{"$f":"+Input!E450","v":0},{"$f":"+Input!F450","v":0},{"$f":"+Input!G450","v":0},{"$f":"+Input!H450","v":0},{"$f":"+Input!I450","v":0},{"$f":"+Input!J450","v":0}]
[448,0,{"$f":"+Input!C451","v":0},{"$f":"+Input!D451","v":0},{"$f":"+Input!E451","v":0},{"$f":"+Input!F451","v":0},{"$f":"+Input!G451","v":0},{"$f":"+Input!H451","v":0},{"$f":"+Input!I451","v":0},{"$f":"+Input!J451","v":0}]
[449,0,{"$f":"+Input!C452","v":0},{"$f":"+Input!D452","v":0},{"$f":"+Input!E452","v":0},{"$f":"+Input!F452","v":0},{"$f":"+Input!G452","v":0},{"$f":"+Input!H452","v":0},{"$f":"+Input!I452","v":0},{"$f":"+Input!J452","v":0}]
[450,0,{"$f":"+Input!C453","v":0},{"$f":"+Input!D453","v":0},{"$f":"+Input!E453","v":0},{"$f":"+Input!F453","v":0},{"$f":"+Input!G453","v":0},{"$f":"+Input!H453","v":0},{"$f":"+Input!I453","v":0},{"$f":"+Input!J453","v":0}]
[451,1,{"$f":"+Input!C454","v":0},{"$f":"+Input!D454","v":0},{"$f":"+Input!E454","v":0},{"$f":"+Input!F454","v":0},{"$f":"+Input!G454","v":0},{"$f":"+Input!H454","v":0},{"$f":"+Input!I454","v":0},{"$f":"+Input!J454","v":0}]
[452,0,{"$f":"+Input!C455","v":0},{"$f":"+Input!D455","v":0},{"$f":"+Input!E455","v":0},{"$f":"+Input!F455","v":0},{"$f":"+Input!G455","v":0},{"$f":"+Input!H455","v":0},{"$f":"+Input!I455","v":0},{"$f":"+Input!J455","v":0}]
[453,0,{"$f":"+Input!C456","v":0},{"$f":"+Input!D456","v":0},{"$f":"+Input!E456","v":0},{"$f":"+Input!F456","v":0},{"$f":"+Input!G456","v":0},{"$f":"+Input!H456","v":0},{"$f":"+Input!I456","v":0},{"$f":"+Input!J456","v":0}]
[454,0,{"$f":"+Input!C457","v":0},{"$f":"+Input!D457","v":0},{"$f":"+Input!E457","v":0},{"$f":"+Input!F457","v":0},{"$f":"+Input!G457","v":0},{"$f":"+Input!H457","v":0},{"$f":"+Input!I457","v":0},{"$f":"+Input!J457","v":0}]
[455,0,{"$f":"+Input!C458","v":0},{"$f":"+Input!D458","v":0},{"$f":"+Input!E458","v":0},{"$f":"+Input!F458","v":0},{"$f":"+Input!G458","v":0},{"$f":"+Input!H458","v":0},{"$f":"+Input!I458","v":0},{"$f":"+Input!J458","v":0}]
[456,0,{"$f":"+Input!C459","v":0},{"$f":"+Input!D459","v":0},{"$f":"+Input!E459","v":0},{"$f":"+Input!F459","v":0},{"$f":"+Input!G459","v":0},{"$f":"+Input!H459","v":0},{"$f":"+Input!I459","v":0},{"$f":"+Input!J459","v":0}]
[457,2,{"$f":"+Input!C460","v":0},{"$f":"+Input!D460","v":0},{"$f":"+Input!E460","v":0},{"$f":"+Input!F460","v":0},{"$f":"+Input!G460","v":0},{"$f":"+Input!H460","v":0},{"$f":"+Input!I460","v":0},{"$f":"+Input!J460","v":0}]
[458,0,{"$f":"+Input!C461","v":0},{"$f":"+Input!D461","v":0},{"$f":"+Input!E461","v":0},{"$f":"+Input!F461","v":0},{"$f":"+Input!G461","v":0},{"$f":"+Input!H461","v":0},{"$f":"+Input!I461","v":0},{"$f":"+Input!J461","v":0}]
[459,0,{"$f":"+Input!C462","v":0},{"$f":"+Input!D462","v":0},{"$f":"+Input!E462","v":0},{"$f":"+Input!F462","v":0},{"$f":"+Input!G462","v":0},{"$f":"+Input!H462","v":0},{"$f":"+Input!I462","v":0},{"$f":"+Input!J462","v":0}]
[460,0,{"$f":"+Input!C463","v":0},{"$f":"+Input!D463","v":0},{"$f":"+Input!E463","v":0},{"$f":"+Input!F463","v":0},{"$f":"+Input!G463","v":0},{"$f":"+Input!H463","v":0},{"$f":"+Input!I463","v":0},{"$f":"+Input!J463","v":0}]
[461,0,{"$f":"+Input!C464","v":0},{"$f":"+Input!D464","v":0},{"$f":"+Input!E464","v":0},{"$f":"+Input!F464","v":0},{"$f":"+Input!G464","v":0},{"$f":"+Input!H464","v":0},{"$f":"+Input!I464","v":0},{"$f":"+Input!J464","v":0}]
[462,0,{"$f":"+Input!C465","v":0},{"$f":"+Input!D465","v":0},{"$f":"+Input!E465","v":0},{"$f":"+Input!F465","v":0},{"$f":"+Input!G465","v":0},{"$f":"+Input!H465","v":0},{"$f":"+Input!I465","v":0},{"$f":"+Input!J465","v":0}]
[463,3,{"$f":"+Input!C466","v":0},{"$f":"+Input!D466","v":0},{"$f":"+Input!E466","v":0},{"$f":"+Input!F466","v":0},{"$f":"+Input!G466","v":0},{"$f":"+Input!H466","v":0},{"$f":"+Input!I466","v":0},{"$f":"+Input!J466","v":0}]
[464,0,{"$f":"+Input!C467","v":0},{"$f":"+Input!D467","v":0},{"$f":"+Input!E467","v":0},{"$f":"+Input!F467","v":0},{"$f":"+Input!G467","v":0},{"$f":"+Input!H467","v":0},{"$f":"+Input!I467","v":0},{"$f":"+Input!J467","v":0}]
[465,0,{"$f":"+Input!C468","v":0},{"$f":"+Input!D468","v":0},{"$f":"+Input!E468","v":0},{"$f":"+Input!F468","v":0},{"$f":"+Input!G468","v":0},{"$f":"+Input!H468","v":0},{"$f":"+Input!I468","v":0},{"$f":"+Input!J468","v":0}]
[466,0,{"$f":"+Input!C469","v":0},{"$f":"+Input!D469","v":0},{"$f":"+Input!E469","v":0},{"$f":"+Input!F469","v":0},{"$f":"+Input!G469","v":0},{"$f":"+Input!H469","v":0},{"$f":"+Input!I469","v":0},{"$f":"+Input!J469","v":0}]
[467,0,{"$f":"+Input!C470","v":0},{"$f":"+Input!D470","v":0},{"$f":"+Input!E470","v":0},{"$f":"+Input!F470","v":0},{"$f":"+Input!G470","v":0},{"$f":"+Input!H470","v":0},{"$f":"+Input!I470","v":0},{"$f":"+Input!J470","v":0}]
[468,0,{"$f":"+Input!C471","v":0},{"$f":"+Input!D471","v":0},{"$f":"+Input!E471","v":0},{"$f":"+Input!F471","v":0},{"$f":"+Input!G471","v":0},{"$f":"+Input!H471","v":0},{"$f":"+Input!I471","v":0},{"$f":"+Input!J471","v":0}]
[469,4,{"$f":"+Input!C472","v":0},{"$f":"+Input!D472","v":0},{"$f":"+Input!E472","v":0},{"$f":"+Input!F472","v":0},{"$f":"+Input!G472","v":0},{"$f":"+Input!H472","v":0},{"$f":"+Input!I472","v":0},{"$f":"+Input!J472","v":0}]
[470,0,{"$f":"+Input!C473","v":0},{"$f":"+Input!D473","v":0},{"$f":"+Input!E473","v":0},{"$f":"+Input!F473","v":0},{"$f":"+Input!G473","v":0},{"$f":"+Input!H473","v":0},{"$f":"+Input!I473","v":0},{"$f":"+Input!J473","v":0}]
[471,0,{"$f":"+Input!C474","v":0},{"$f":"+Input!D474","v":0},{"$f":"+Input!E474","v":0},{"$f":"+Input!F474","v":0},{"$f":"+Input!G474","v":0},{"$f":"+Input!H474","v":0},{"$f":"+Input!I474","v":0},{"$f":"+Input!J474","v":0}]
[472,0,{"$f":"+Input!C475","v":0},{"$f":"+Input!D475","v":0},{"$f":"+Input!E475","v":0},{"$f":"+Input!F475","v":0},{"$f":"+Input!G475","v":0},{"$f":"+Input!H475","v":0},{"$f":"+Input!I475","v":0},{"$f":"+Input!J475","v":0}]
[473,0,{"$f":"+Input!C476","v":0},{"$f":"+Input!D476","v":0},{"$f":"+Input!E476","v":0},{"$f":"+Input!F476","v":0},{"$f":"+Input!G476","v":0},{"$f":"+Input!H476","v":0},{"$f":"+Input!I476","v":0},{"$f":"+Input!J476","v":0}]
[474,0,{"$f":"+Input!C477","v":0},{"$f":"+Input!D477","v":0},{"$f":"+Input!E477","v":0},{"$f":"+Input!F477","v":0},{"$f":"+Input!G477","v":0},{"$f":"+Input!H477","v":0},{"$f":"+Input!I477","v":0},{"$f":"+Input!J477","v":0}]
[475,{"$f":"+B453","v":0},{"$f":"+Input!C478","v":0},{"$f":"+Input!D478","v":0},{"$f":"+Input!E478","v":0},{"$f":"+Input!F478","v":0},{"$f":"+Input!G478","v":0},{"$f":"+Input!H478","v":0},{"$f":"+Input!I478","v":0},{"$f":"+Input!J478","v":0}]
[476,1,{"$f":"+Input!C479","v":0},{"$f":"+Input!D479","v":0},{"$f":"+Input!E479","v":0},{"$f":"+Input!F479","v":0},{"$f":"+Input!G479","v":0},{"$f":"+Input!H479","v":0},{"$f":"+Input!I479","v":0},{"$f":"+Input!J479","v":0}]
[477,0,{"$f":"+Input!C480","v":0},{"$f":"+Input!D480","v":0},{"$f":"+Input!E480","v":0},{"$f":"+Input!F480","v":0},{"$f":"+Input!G480","v":0},{"$f":"+Input!H480","v":0},{"$f":"+Input!I480","v":0},{"$f":"+Input!J480","v":0}]
[478,0,{"$f":"+Input!C481","v":0},{"$f":"+Input!D481","v":0},{"$f":"+Input!E481","v":0},{"$f":"+Input!F481","v":0},{"$f":"+Input!G481","v":0},{"$f":"+Input!H481","v":0},{"$f":"+Input!I481","v":0},{"$f":"+Input!J481","v":0}]
[479,0,{"$f":"+Input!C482","v":0},{"$f":"+Input!D482","v":0},{"$f":"+Input!E482","v":0},{"$f":"+Input!F482","v":0},{"$f":"+Input!G482","v":0},{"$f":"+Input!H482","v":0},{"$f":"+Input!I482","v":0},{"$f":"+Input!J482","v":0}]
[480,0,{"$f":"+Input!C483","v":0},{"$f":"+Input!D483","v":0},{"$f":"+Input!E483","v":0},{"$f":"+Input!F483","v":0},{"$f":"+Input!G483","v":0},{"$f":"+Input!H483","v":0},{"$f":"+Input!I483","v":0},{"$f":"+Input!J483","v":0}]
[481,0,{"$f":"+Input!C484","v":0},{"$f":"+Input!D484","v":0},{"$f":"+Input!E484","v":0},{"$f":"+Input!F484","v":0},{"$f":"+Input!G484","v":0},{"$f":"+Input!H484","v":0},{"$f":"+Input!I484","v":0},{"$f":"+Input!J484","v":0}]
[482,2,{"$f":"+Input!C485","v":0},{"$f":"+Input!D485","v":0},{"$f":"+Input!E485","v":0},{"$f":"+Input!F485","v":0},{"$f":"+Input!G485","v":0},{"$f":"+Input!H485","v":0},{"$f":"+Input!I485","v":0},{"$f":"+Input!J485","v":0}]
[483,0,{"$f":"+Input!C486","v":0},{"$f":"+Input!D486","v":0},{"$f":"+Input!E486","v":0},{"$f":"+Input!F486","v":0},{"$f":"+Input!G486","v":0},{"$f":"+Input!H486","v":0},{"$f":"+Input!I486","v":0},{"$f":"+Input!J486","v":0}]
[484,0,{"$f":"+Input!C487","v":0},{"$f":"+Input!D487","v":0},{"$f":"+Input!E487","v":0},{"$f":"+Input!F487","v":0},{"$f":"+Input!G487","v":0},{"$f":"+Input!H487","v":0},{"$f":"+Input!I487","v":0},{"$f":"+Input!J487","v":0}]
[485,0,{"$f":"+Input!C488","v":0},{"$f":"+Input!D488","v":0},{"$f":"+Input!E488","v":0},{"$f":"+Input!F488","v":0},{"$f":"+Input!G488","v":0},{"$f":"+Input!H488","v":0},{"$f":"+Input!I488","v":0},{"$f":"+Input!J488","v":0}]
[486,0,{"$f":"+Input!C489","v":0},{"$f":"+Input!D489","v":0},{"$f":"+Input!E489","v":0},{"$f":"+Input!F489","v":0},{"$f":"+Input!G489","v":0},{"$f":"+Input!H489","v":0},{"$f":"+Input!I489","v":0},{"$f":"+Input!J489","v":0}]
[487,0,{"$f":"+Input!C490","v":0},{"$f":"+Input!D490","v":0},{"$f":"+Input!E490","v":0},{"$f":"+Input!F490","v":0},{"$f":"+Input!G490","v":0},{"$f":"+Input!H490","v":0},{"$f":"+Input!I490","v":0},{"$f":"+Input!J490","v":0}]
[488,3,{"$f":"+Input!C491","v":0},{"$f":"+Input!D491","v":0},{"$f":"+Input!E491","v":0},{"$f":"+Input!F491","v":0},{"$f":"+Input!G491","v":0},{"$f":"+Input!H491","v":0},{"$f":"+Input!I491","v":0},{"$f":"+Input!J491","v":0}]
[489,0,{"$f":"+Input!C492","v":0},{"$f":"+Input!D492","v":0},{"$f":"+Input!E492","v":0},{"$f":"+Input!F492","v":0},{"$f":"+Input!G492","v":0},{"$f":"+Input!H492","v":0},{"$f":"+Input!I492","v":0},{"$f":"+Input!J492","v":0}]
[490,0,{"$f":"+Input!C493","v":0},{"$f":"+Input!D493","v":0},{"$f":"+Input!E493","v":0},{"$f":"+Input!F493","v":0},{"$f":"+Input!G493","v":0},{"$f":"+Input!H493","v":0},{"$f":"+Input!I493","v":0},{"$f":"+Input!J493","v":0}]
[491,0,{"$f":"+Input!C494","v":0},{"$f":"+Input!D494","v":0},{"$f":"+Input!E494","v":0},{"$f":"+Input!F494","v":0},{"$f":"+Input!G494","v":0},{"$f":"+Input!H494","v":0},{"$f":"+Input!I494","v":0},{"$f":"+Input!J494","v":0}]
[492,0,{"$f":"+Input!C495","v":0},{"$f":"+Input!D495","v":0},{"$f":"+Input!E495","v":0},{"$f":"+Input!F495","v":0},{"$f":"+Input!G495","v":0},{"$f":"+Input!H495","v":0},{"$f":"+Input!I495","v":0},{"$f":"+Input!J495","v":0}]
[493,0,{"$f":"+Input!C496","v":0},{"$f":"+Input!D496","v":0},{"$f":"+Input!E496","v":0},{"$f":"+Input!F496","v":0},{"$f":"+Input!G496","v":0},{"$f":"+Input!H496","v":0},{"$f":"+Input!I496","v":0},{"$f":"+Input!J496","v":0}]
[494,4,{"$f":"+Input!C497","v":0},{"$f":"+Input!D497","v":0},{"$f":"+Input!E497","v":0},{"$f":"+Input!F497","v":0},{"$f":"+Input!G497","v":0},{"$f":"+Input!H497","v":0},{"$f":"+Input!I497","v":0},{"$f":"+Input!J497","v":0}]
[495,0,{"$f":"+Input!C498","v":0},{"$f":"+Input!D498","v":0},{"$f":"+Input!E498","v":0},{"$f":"+Input!F498","v":0},{"$f":"+Input!G498","v":0},{"$f":"+Input!H498","v":0},{"$f":"+Input!I498","v":0},{"$f":"+Input!J498","v":0}]
[496,0,{"$f":"+Input!C499","v":0},{"$f":"+Input!D499","v":0},{"$f":"+Input!E499","v":0},{"$f":"+Input!F499","v":0},{"$f":"+Input!G499","v":0},{"$f":"+Input!H499","v":0},{"$f":"+Input!I499","v":0},{"$f":"+Input!J499","v":0}]
[497,0,{"$f":"+Input!C500","v":0},{"$f":"+Input!D500","v":0},{"$f":"+Input!E500","v":0},{"$f":"+Input!F500","v":0},{"$f":"+Input!G500","v":0},{"$f":"+Input!H500","v":0},{"$f":"+Input!I500","v":0},{"$f":"+Input!J500","v":0}]
[498,0,{"$f":"+Input!C501","v":0},{"$f":"+Input!D501","v":0},{"$f":"+Input!E501","v":0},{"$f":"+Input!F501","v":0},{"$f":"+Input!G501","v":0},{"$f":"+Input!H501","v":0},{"$f":"+Input!I501","v":0},{"$f":"+Input!J501","v":0}]
[499,0,{"$f":"+Input!C502","v":0},{"$f":"+Input!D502","v":0},{"$f":"+Input!E502","v":0},{"$f":"+Input!F502","v":0},{"$f":"+Input!G502","v":0},{"$f":"+Input!H502","v":0},{"$f":"+Input!I502","v":0},{"$f":"+Input!J502","v":0}]
[500,0,{"$f":"+Input!C503","v":0},{"$f":"+Input!D503","v":0},{"$f":"+Input!E503","v":0},{"$f":"+Input!F503","v":0},{"$f":"+Input!G503","v":0},{"$f":"+Input!H503","v":0},{"$f":"+Input!I503","v":0},{"$f":"+Input!J503","v":0}]
[501,1,{"$f":"+Input!C504","v":0},{"$f":"+Input!D504","v":0},{"$f":"+Input!E504","v":0},{"$f":"+Input!F504","v":0},{"$f":"+Input!G504","v":0},{"$f":"+Input!H504","v":0},{"$f":"+Input!I504","v":0},{"$f":"+Input!J504","v":0}]
[502,0,{"$f":"+Input!C505","v":0},{"$f":"+Input!D505","v":0},{"$f":"+Input!E505","v":0},{"$f":"+Input!F505","v":0},{"$f":"+Input!G505","v":0},{"$f":"+Input!H505","v":0},{"$f":"+Input!I505","v":0},{"$f":"+Input!J505","v":0}]
[503,0,{"$f":"+Input!C506","v":0},{"$f":"+Input!D506","v":0},{"$f":"+Input!E506","v":0},{"$f":"+Input!F506","v":0},{"$f":"+Input!G506","v":0},{"$f":"+Input!H506","v":0},{"$f":"+Input!I506","v":0},{"$f":"+Input!J506","v":0}]
[504,0,{"$f":"+Input!C507","v":0},{"$f":"+Input!D507","v":0},{"$f":"+Input!E507","v":0},{"$f":"+Input!F507","v":0},{"$f":"+Input!G507","v":0},{"$f":"+Input!H507","v":0},{"$f":"+Input!I507","v":0},{"$f":"+Input!J507","v":0}]
[505,0,{"$f":"+Input!C508","v":0},{"$f":"+Input!D508","v":0},{"$f":"+Input!E508","v":0},{"$f":"+Input!F508","v":0},{"$f":"+Input!G508","v":0},{"$f":"+Input!H508","v":0},{"$f":"+Input!I508","v":0},{"$f":"+Input!J508","v":0}]
[506,0,{"$f":"+Input!C509","v":0},{"$f":"+Input!D509","v":0},{"$f":"+Input!E509","v":0},{"$f":"+Input!F509","v":0},{"$f":"+Input!G509","v":0},{"$f":"+Input!H509","v":0},{"$f":"+Input!I509","v":0},{"$f":"+Input!J509","v":0}]
[507,2,{"$f":"+Input!C510","v":0},{"$f":"+Input!D510","v":0},{"$f":"+Input!E510","v":0},{"$f":"+Input!F510","v":0},{"$f":"+Input!G510","v":0},{"$f":"+Input!H510","v":0},{"$f":"+Input!I510","v":0},{"$f":"+Input!J510","v":0}]
[508,0,{"$f":"+Input!C511","v":0},{"$f":"+Input!D511","v":0},{"$f":"+Input!E511","v":0},{"$f":"+Input!F511","v":0},{"$f":"+Input!G511","v":0},{"$f":"+Input!H511","v":0},{"$f":"+Input!I511","v":0},{"$f":"+Input!J511","v":0}]
[509,0,{"$f":"+Input!C512","v":0},{"$f":"+Input!D512","v":0},{"$f":"+Input!E512","v":0},{"$f":"+Input!F512","v":0},{"$f":"+Input!G512","v":0},{"$f":"+Input!H512","v":0},{"$f":"+Input!I512","v":0},{"$f":"+Input!J512","v":0}]
[510,0,{"$f":"+Input!C513","v":0},{"$f":"+Input!D513","v":0},{"$f":"+Input!E513","v":0},{"$f":"+Input!F513","v":0},{"$f":"+Input!G513","v":0},{"$f":"+Input!H513","v":0},{"$f":"+Input!I513","v":0},{"$f":"+Input!J513","v":0}]

{"sheet":"Diameter","index":4,"n_rows":1034,"n_cols":9,"rows_kept":1034,"cut":false,"hidden":false,"merged":[[0,0,0,7],[3,0,3,7],[6,0,6,7]]}
["Diameter (mm)"]
["Dates",{"$f":"+Summary!B5","v":"2015-05-18"},{"$f":"+Summary!B6","v":"2015-05-21"},{"$f":"+Summary!B7","v":"2015-05-25"},{"$f":"+Summary!B8","v":"2015-05-28"},{"$f":"+Summary!B9","v":"2015-05-31"},{"$f":"+Summary!B10","v":"2015-06-03"},{"$f":"+Summary!B11","v":"2015-06-06"}]
["Number  ",{"$f":"+Summary!A5","v":1},{"$f":"+Summary!A6","v":2},{"$f":"+C3+1","v":3},{"$f":"+D3+1","v":4},{"$f":"+E3+1","v":5},{"$f":"+F3+1","v":6},{"$f":"+G3+1","v":7}]
["Diameter (mm)"]
["Mean Largest 20 Fruitlets",{"$f":"+DAVERAGE(Large20,\"1Size\",B10:B11)","v":3.5339999999999989},{"$f":"+DAVERAGE(Large20,\"2Size\",C10:C11)","v":3.9905000000000008},{"$f":"+DAVERAGE(Large20,\"3Size\",D10:D11)","v":4.8629999999999995},{"$f":"+DAVERAGE(Large20,\"4Size\",E10:E11)","v":7.7153333333333327},{"$f":"+DAVERAGE(Large20,\"5Size\",F10:F11)","v":{"$error":"#DIV/0!"}},{"$f":"+DAVERAGE(Large20,\"6Size\",G10:G11)","v":{"$error":"#DIV/0!"}},{"$f":"+DAVERAGE(Large20,\"7Size\",H10:H11)","v":{"$error":"#DIV/0!"}}]
["Mean all Fruitlet Diameter",{"$f":"+SUM(Staging!D4:D513)/COUNTIF(Staging!D4:D513,\">0\")","v":2.9233333333333316},{"$f":"+SUM(Staging!E4:E513)/COUNTIF(Staging!E4:E513,\">0\")","v":3.1657534246575354},{"$f":"+SUM(Staging!F4:F513)/COUNTIF(Staging!F4:F513,\">0\")","v":3.4612962962962968},{"$f":"+SUM(Staging!G4:G513)/COUNTIF(Staging!G4:G513,\">0\")","v":7.7153333333333327},{"$f":"+SUM(Staging!H4:H513)/COUNTIF(Staging!H4:H513,\">0\")","v":{"$error":"#DIV/0!"}},{"$f":"+SUM(Staging!I4:I513)/COUNTIF(Staging!I4:I513,\">0\")","v":{"$error":"#DIV/0!"}},{"$f":"+SUM(Staging!J4:J513)/COUNTIF(Staging!J4:J513,\">0\")","v":{"$error":"#DIV/0!"}}]
["Number of Fruit"]
["Measured",{"$f":"+DCOUNT(DiaSorted,\"1Size\",B10:B11)","v":75},{"$f":"+DCOUNT(DiaSorted,\"2Size\",C10:C11)","v":73},{"$f":"+DCOUNT(DiaSorted,\"3Size\",D10:D11)","v":54},{"$f":"+DCOUNT(DiaSorted,\"4Size\",E10:E11)","v":15},{"$f":"+DCOUNT(DiaSorted,\"5Size\",F10:F11)","v":0},{"$f":"+DCOUNT(DiaSorted,\"6Size\",G10:G11)","v":0},{"$f":"+DCOUNT(DiaSorted,\"7Size\",H10:H11)","v":0}]
[]
["Apple","1Size","2Size","3Size","4Size","5Size","6Size","7Size"]
[">0",">0",">0",">0",">0",">0",">0",">0"]
["Apple","1Size","2Size","3Size","4Size","5Size","6Size","7Size"]
[1,4.8499999999999996,5.76,8.19,12.51,0,0,0]
[2,4.34,5.3,6.96,10.38,0,0,0]
[3,4.22,4.83,6.07,9.31,0,0,0]
[4,3.87,4.7,5.87,9.07,0,0,0]
[5,3.82,4.51,5.45,8.14,0,0,0,""]
[6,3.76,4.0999999999999996,5.43,8.11,0,0,0,""]
[7,3.73,4.08,5.43,8.0399999999999991,0,0,0,""]
[8,3.67,3.99,5.19,8.02,0,0,0,""]
[9,3.32,3.97,5.1100000000000003,7.99,0,0,0,""]
[10,3.29,3.72,4.95,7.99,0,0,0,""]
[11,3.28,3.66,4.8099999999999996,7.42,0,0,0,""]
[12,3.26,3.63,4.38,6.31,0,0,0,""]
[13,3.24,3.57,4.24,4.42,0,0,0,""]
[14,3.22,3.54,4.2300000000000004,4.13,0,0,0,""]
[15,3.21,3.45,3.77,3.89,0,0,0,""]
[16,3.16,3.45,3.72,0,0,0,0,""]
[17,3.14,3.43,3.47,0,0,0,0,""]
[18,3.1,3.39,3.45,0,0,0,0,""]
[19,3.1,3.37,3.27,0,0,0,0,""]
[20,3.1,3.36,3.27,0,0,0,0,""]
[21,3.05,3.33,3.24,0,0,0,0,""]
[22,3.04,3.32,3.09,0,0,0,0,""]
[23,3.04,3.27,3.04,0,0,0,0,""]
[24,3,3.22,3.04,0,0,0,0,""]
[25,3,3.22,3.02,0,0,0,0,""]
[26,2.99,3.21,3.02,0,0,0,0,""]
[27,2.98,3.21,3.01,0,0,0,0,""]
[28,2.96,3.21,2.98,0,0,0,0,""]
[29,2.96,3.2,2.96,0,0,0,0,""]
[30,2.93,3.17,2.9,0,0,0,0,""]
[31,2.93,3.16,2.87,0,0,0,0,""]
[32,2.9,3.15,2.84,0,0,0,0,""]
[33,2.89,3.14,2.83,0,0,0,0,""]
[34,2.88,3.11,2.82,0,0,0,0,""]
[35,2.87,3.08,2.79,0,0,0,0,""]
[36,2.87,3.08,2.75,0,0,0,0,""]
[37,2.86,3.05,2.73,0,0,0,0,""]
[38,2.82,3.05,2.7,0,0,0,0,""]
[39,2.82,3.02,2.62,0,0,0,0,""]
[40,2.8,3,2.61,0,0,0,0,""]
[41,2.8,3,2.56,0,0,0,0,""]
[42,2.8,2.99,2.5499999999999998,0,0,0,0,""]
[43,2.79,2.99,2.5,0,0,0,0,""]
[44,2.79,2.92,2.4900000000000002,0,0,0,0,""]
[45,2.78,2.9,2.4700000000000002,0,0,0,0,""]
[46,2.78,2.89,2.44,0,0,0,0,""]
[47,2.75,2.87,2.36,0,0,0,0,""]
[48,2.72,2.84,2.34,0,0,0,0,""]
[49,2.72,2.84,2.34,0,0,0,0,""]
[50,2.72,2.83,2.19,0,0,0,0,""]
[51,2.7,2.82,2.0499999999999998,0,0,0,0,""]
[52,2.7,2.82,1.86,0,0,0,0,""]
[53,2.7,2.81,1.86,0,0,0,0,""]
[54,2.69,2.79,1.78,0,0,0,0,""]
[55,2.67,2.77,0,0,0,0,0,""]
[56,2.64,2.76,0,0,0,0,0,""]
[57,2.64,2.75,0,0,0,0,0,""]
[58,2.63,2.75,0,0,0,0,0,""]
[59,2.63,2.74,0,0,0,0,0,""]
[60,2.61,2.74,0,0,0,0,0,""]
[61,2.57,2.72,0,0,0,0,0,""]
[62,2.56,2.7,0,0,0,0,0,""]
[63,2.5299999999999998,2.63,0,0,0,0,0,""]
[64,2.5299999999999998,2.63,0,0,0,0,0,""]
[65,2.4900000000000002,2.6,0,0,0,0,0,""]
[66,2.4900000000000002,2.59,0,0,0,0,0,""]
[67,2.4300000000000002,2.5099999999999998,0,0,0,0,0,""]
[68,2.41,2.4900000000000002,0,0,0,0,0,""]
[69,2.39,2.17,0,0,0,0,0,""]
[70,2.39,2.16,0,0,0,0,0,""]
[71,2.34,2.1,0,0,0,0,0,""]
[72,2.21,2.08,0,0,0,0,0,""]
[73,2.21,1.89,0,0,0,0,0,""]
[74,2.13,0,0,0,0,0,0,""]
[75,2.04,0,0,0,0,0,0,""]
[76,0,0,0,0,0,0,0,""]
[77,0,0,0,0,0,0,0,""]
[78,0,0,0,0,0,0,0,""]
[79,0,0,0,0,0,0,0,""]
[80,0,0,0,0,0,0,0,""]
[81,0,0,0,0,0,0,0,""]
[82,0,0,0,0,0,0,0,""]
[83,0,0,0,0,0,0,0,""]
[84,0,0,0,0,0,0,0,""]
[85,0,0,0,0,0,0,0,""]
[86,0,0,0,0,0,0,0,""]
[87,0,0,0,0,0,0,0,""]
[88,0,0,0,0,0,0,0,""]
[89,0,0,0,0,0,0,0,""]
[90,0,0,0,0,0,0,0,""]
[91,0,0,0,0,0,0,0,""]
[92,0,0,0,0,0,0,0,""]
[93,0,0,0,0,0,0,0,""]
[94,0,0,0,0,0,0,0,""]
[95,0,0,0,0,0,0,0,""]
[96,0,0,0,0,0,0,0,""]
[97,0,0,0,0,0,0,0,""]
[98,0,0,0,0,0,0,0,""]
[99,0,0,0,0,0,0,0,""]
[100,0,0,0,0,0,0,0,""]
[101,0,0,0,0,0,0,0]
[102,0,0,0,0,0,0,0]
[103,0,0,0,0,0,0,0]
[104,0,0,0,0,0,0,0]
[105,0,0,0,0,0,0,0]
[106,0,0,0,0,0,0,0]
[107,0,0,0,0,0,0,0]
[108,0,0,0,0,0,0,0]
[109,0,0,0,0,0,0,0]
[110,0,0,0,0,0,0,0]
[111,0,0,0,0,0,0,0]
[112,0,0,0,0,0,0,0]
[113,0,0,0,0,0,0,0]
[114,0,0,0,0,0,0,0]
[115,0,0,0,0,0,0,0]
[116,0,0,0,0,0,0,0]
[117,0,0,0,0,0,0,0]
[118,0,0,0,0,0,0,0]
[119,0,0,0,0,0,0,0]
[120,0,0,0,0,0,0,0]
[121,0,0,0,0,0,0,0]
[122,0,0,0,0,0,0,0]
[123,0,0,0,0,0,0,0]
[124,0,0,0,0,0,0,0]
[125,0,0,0,0,0,0,0]
[126,0,0,0,0,0,0,0]
[127,0,0,0,0,0,0,0]
[128,0,0,0,0,0,0,0]
[129,0,0,0,0,0,0,0]
[130,0,0,0,0,0,0,0]
[131,0,0,0,0,0,0,0]
[132,0,0,0,0,0,0,0]
[133,0,0,0,0,0,0,0]
[134,0,0,0,0,0,0,0]
[135,0,0,0,0,0,0,0]
[136,0,0,0,0,0,0,0]
[137,0,0,0,0,0,0,0]
[138,0,0,0,0,0,0,0]
[139,0,0,0,0,0,0,0]
[140,0,0,0,0,0,0,0]
[141,0,0,0,0,0,0,0]
[142,0,0,0,0,0,0,0]
[143,0,0,0,0,0,0,0]
[144,0,0,0,0,0,0,0]
[145,0,0,0,0,0,0,0]
[146,0,0,0,0,0,0,0]
[147,0,0,0,0,0,0,0]
[148,0,0,0,0,0,0,0]
[149,0,0,0,0,0,0,0]
[150,0,0,0,0,0,0,0]
[151,0,0,0,0,0,0,0]
[152,0,0,0,0,0,0,0]
[153,0,0,0,0,0,0,0]
[154,0,0,0,0,0,0,0]
[155,0,0,0,0,0,0,0]
[156,0,0,0,0,0,0,0]
[157,0,0,0,0,0,0,0]
[158,0,0,0,0,0,0,0]
[159,0,0,0,0,0,0,0]
[160,0,0,0,0,0,0,0]
[161,0,0,0,0,0,0,0]
[162,0,0,0,0,0,0,0]
[163,0,0,0,0,0,0,0]
[164,0,0,0,0,0,0,0]
[165,0,0,0,0,0,0,0]
[166,0,0,0,0,0,0,0]
[167,0,0,0,0,0,0,0]
[168,0,0,0,0,0,0,0]
[169,0,0,0,0,0,0,0]
[170,0,0,0,0,0,0,0]
[171,0,0,0,0,0,0,0]
[172,0,0,0,0,0,0,0]
[173,0,0,0,0,0,0,0]
[174,0,0,0,0,0,0,0]
[175,0,0,0,0,0,0,0]
[176,0,0,0,0,0,0,0]
[177,0,0,0,0,0,0,0]
[178,0,0,0,0,0,0,0]
[179,0,0,0,0,0,0,0]
[180,0,0,0,0,0,0,0]
[181,0,0,0,0,0,0,0]
[182,0,0,0,0,0,0,0]
[183,0,0,0,0,0,0,0]
[184,0,0,0,0,0,0,0]
[185,0,0,0,0,0,0,0]
[186,0,0,0,0,0,0,0]
[187,0,0,0,0,0,0,0]
[188,0,0,0,0,0,0,0]
[189,0,0,0,0,0,0,0]
[190,0,0,0,0,0,0,0]
[191,0,0,0,0,0,0,0]
[192,0,0,0,0,0,0,0]
[193,0,0,0,0,0,0,0]
[194,0,0,0,0,0,0,0]
[195,0,0,0,0,0,0,0]
[196,0,0,0,0,0,0,0]
[197,0,0,0,0,0,0,0]
[198,0,0,0,0,0,0,0]
[199,0,0,0,0,0,0,0]
[200,0,0,0,0,0,0,0]
[201,0,0,0,0,0,0,0]
[202,0,0,0,0,0,0,0]
[203,0,0,0,0,0,0,0]
[204,0,0,0,0,0,0,0]
[205,0,0,0,0,0,0,0]
[206,0,0,0,0,0,0,0]
[207,0,0,0,0,0,0,0]
[208,0,0,0,0,0,0,0]
[209,0,0,0,0,0,0,0]
[210,0,0,0,0,0,0,0]
[211,0,0,0,0,0,0,0]
[212,0,0,0,0,0,0,0]
[213,0,0,0,0,0,0,0]
[214,0,0,0,0,0,0,0]
[215,0,0,0,0,0,0,0]
[216,0,0,0,0,0,0,0]
[217,0,0,0,0,0,0,0]
[218,0,0,0,0,0,0,0]
[219,0,0,0,0,0,0,0]
[220,0,0,0,0,0,0,0]
[221,0,0,0,0,0,0,0]
[222,0,0,0,0,0,0,0]
[223,0,0,0,0,0,0,0]
[224,0,0,0,0,0,0,0]
[225,0,0,0,0,0,0,0]
[226,0,0,0,0,0,0,0]
[227,0,0,0,0,0,0,0]
[228,0,0,0,0,0,0,0]
[229,0,0,0,0,0,0,0]
[230,0,0,0,0,0,0,0]
[231,0,0,0,0,0,0,0]
[232,0,0,0,0,0,0,0]
[233,0,0,0,0,0,0,0]
[234,0,0,0,0,0,0,0]
[235,0,0,0,0,0,0,0]
[236,0,0,0,0,0,0,0]
[237,0,0,0,0,0,0,0]
[238,0,0,0,0,0,0,0]
[239,0,0,0,0,0,0,0]
[240,0,0,0,0,0,0,0]
[241,0,0,0,0,0,0,0]
[242,0,0,0,0,0,0,0]
[243,0,0,0,0,0,0,0]
[244,0,0,0,0,0,0,0]
[245,0,0,0,0,0,0,0]
[246,0,0,0,0,0,0,0]
[247,0,0,0,0,0,0,0]
[248,0,0,0,0,0,0,0]
[249,0,0,0,0,0,0,0]
[250,0,0,0,0,0,0,0]
[251,0,0,0,0,0,0,0]
[252,0,0,0,0,0,0,0]
[253,0,0,0,0,0,0,0]
[254,0,0,0,0,0,0,0]
[255,0,0,0,0,0,0,0]
[256,0,0,0,0,0,0,0]
[257,0,0,0,0,0,0,0]
[258,0,0,0,0,0,0,0]
[259,0,0,0,0,0,0,0]
[260,0,0,0,0,0,0,0]
[261,0,0,0,0,0,0,0]
[262,0,0,0,0,0,0,0]
[263,0,0,0,0,0,0,0]
[264,0,0,0,0,0,0,0]
[265,0,0,0,0,0,0,0]
[266,0,0,0,0,0,0,0]
[267,0,0,0,0,0,0,0]
[268,0,0,0,0,0,0,0]
[269,0,0,0,0,0,0,0]
[270,0,0,0,0,0,0,0]
[271,0,0,0,0,0,0,0]
[272,0,0,0,0,0,0,0]
[273,0,0,0,0,0,0,0]
[274,0,0,0,0,0,0,0]
[275,0,0,0,0,0,0,0]
[276,0,0,0,0,0,0,0]
[277,0,0,0,0,0,0,0]
[278,0,0,0,0,0,0,0]
[279,0,0,0,0,0,0,0]
[280,0,0,0,0,0,0,0]
[281,0,0,0,0,0,0,0]
[282,0,0,0,0,0,0,0]
[283,0,0,0,0,0,0,0]
[284,0,0,0,0,0,0,0]
[285,0,0,0,0,0,0,0]
[286,0,0,0,0,0,0,0]
[287,0,0,0,0,0,0,0]
[288,0,0,0,0,0,0,0]
[289,0,0,0,0,0,0,0]
[290,0,0,0,0,0,0,0]
[291,0,0,0,0,0,0,0]
[292,0,0,0,0,0,0,0]
[293,0,0,0,0,0,0,0]
[294,0,0,0,0,0,0,0]
[295,0,0,0,0,0,0,0]
[296,0,0,0,0,0,0,0]
[297,0,0,0,0,0,0,0]
[298,0,0,0,0,0,0,0]
[299,0,0,0,0,0,0,0]
[300,0,0,0,0,0,0,0]
[301,0,0,0,0,0,0,0]
[302,0,0,0,0,0,0,0]
[303,0,0,0,0,0,0,0]
[304,0,0,0,0,0,0,0]
[305,0,0,0,0,0,0,0]
[306,0,0,0,0,0,0,0]
[307,0,0,0,0,0,0,0]
[308,0,0,0,0,0,0,0]
[309,0,0,0,0,0,0,0]
[310,0,0,0,0,0,0,0]
[311,0,0,0,0,0,0,0]
[312,0,0,0,0,0,0,0]
[313,0,0,0,0,0,0,0]
[314,0,0,0,0,0,0,0]
[315,0,0,0,0,0,0,0]
[316,0,0,0,0,0,0,0]
[317,0,0,0,0,0,0,0]
[318,0,0,0,0,0,0,0]
[319,0,0,0,0,0,0,0]
[320,0,0,0,0,0,0,0]
[321,0,0,0,0,0,0,0]
[322,0,0,0,0,0,0,0]
[323,0,0,0,0,0,0,0]
[324,0,0,0,0,0,0,0]
[325,0,0,0,0,0,0,0]
[326,0,0,0,0,0,0,0]
[327,0,0,0,0,0,0,0]
[328,0,0,0,0,0,0,0]
[329,0,0,0,0,0,0,0]
[330,0,0,0,0,0,0,0]
[331,0,0,0,0,0,0,0]
[332,0,0,0,0,0,0,0]
[333,0,0,0,0,0,0,0]
[334,0,0,0,0,0,0,0]
[335,0,0,0,0,0,0,0]
[336,0,0,0,0,0,0,0]
[337,0,0,0,0,0,0,0]
[338,0,0,0,0,0,0,0]
[339,0,0,0,0,0,0,0]
[340,0,0,0,0,0,0,0]
[341,0,0,0,0,0,0,0]
[342,0,0,0,0,0,0,0]
[343,0,0,0,0,0,0,0]
[344,0,0,0,0,0,0,0]
[345,0,0,0,0,0,0,0]
[346,0,0,0,0,0,0,0]
[347,0,0,0,0,0,0,0]
[348,0,0,0,0,0,0,0]
[349,0,0,0,0,0,0,0]
[350,0,0,0,0,0,0,0]
[351,0,0,0,0,0,0,0]
[352,0,0,0,0,0,0,0]
[353,0,0,0,0,0,0,0]
[354,0,0,0,0,0,0,0]
[355,0,0,0,0,0,0,0]
[356,0,0,0,0,0,0,0]
[357,0,0,0,0,0,0,0]
[358,0,0,0,0,0,0,0]
[359,0,0,0,0,0,0,0]
[360,0,0,0,0,0,0,0]
[361,0,0,0,0,0,0,0]
[362,0,0,0,0,0,0,0]
[363,0,0,0,0,0,0,0]
[364,0,0,0,0,0,0,0]
[365,0,0,0,0,0,0,0]
[366,0,0,0,0,0,0,0]
[367,0,0,0,0,0,0,0]
[368,0,0,0,0,0,0,0]
[369,0,0,0,0,0,0,0]
[370,0,0,0,0,0,0,0]
[371,0,0,0,0,0,0,0]
[372,0,0,0,0,0,0,0]
[373,0,0,0,0,0,0,0]
[374,0,0,0,0,0,0,0]
[375,0,0,0,0,0,0,0]
[376,0,0,0,0,0,0,0]
[377,0,0,0,0,0,0,0]
[378,0,0,0,0,0,0,0]
[379,0,0,0,0,0,0,0]
[380,0,0,0,0,0,0,0]
[381,0,0,0,0,0,0,0]
[382,0,0,0,0,0,0,0]
[383,0,0,0,0,0,0,0]
[384,0,0,0,0,0,0,0]
[385,0,0,0,0,0,0,0]
[386,0,0,0,0,0,0,0]
[387,0,0,0,0,0,0,0]
[388,0,0,0,0,0,0,0]
[389,0,0,0,0,0,0,0]
[390,0,0,0,0,0,0,0]
[391,0,0,0,0,0,0,0]
[392,0,0,0,0,0,0,0]
[393,0,0,0,0,0,0,0]
[394,0,0,0,0,0,0,0]
[395,0,0,0,0,0,0,0]
[396,0,0,0,0,0,0,0]
[397,0,0,0,0,0,0,0]
[398,0,0,0,0,0,0,0]
[399,0,0,0,0,0,0,0]
[400,0,0,0,0,0,0,0]
[401,0,0,0,0,0,0,0]
[402,0,0,0,0,0,0,0]
[403,0,0,0,0,0,0,0]
[404,0,0,0,0,0,0,0]
[405,0,0,0,0,0,0,0]
[406,0,0,0,0,0,0,0]
[407,0,0,0,0,0,0,0]
[408,0,0,0,0,0,0,0]
[409,0,0,0,0,0,0,0]
[410,0,0,0,0,0,0,0]
[411,0,0,0,0,0,0,0]
[412,0,0,0,0,0,0,0]
[413,0,0,0,0,0,0,0]
[414,0,0,0,0,0,0,0]
[415,0,0,0,0,0,0,0]
[416,0,0,0,0,0,0,0]
[417,0,0,0,0,0,0,0]
[418,0,0,0,0,0,0,0]
[419,0,0,0,0,0,0,0]
[420,0,0,0,0,0,0,0]
[421,0,0,0,0,0,0,0]
[422,0,0,0,0,0,0,0]
[423,0,0,0,0,0,0,0]
[424,0,0,0,0,0,0,0]
[425,0,0,0,0,0,0,0]
[426,0,0,0,0,0,0,0]
[427,0,0,0,0,0,0,0]
[428,0,0,0,0,0,0,0]
[429,0,0,0,0,0,0,0]
[430,0,0,0,0,0,0,0]
[431,0,0,0,0,0,0,0]
[432,0,0,0,0,0,0,0]
[433,0,0,0,0,0,0,0]
[434,0,0,0,0,0,0,0]
[435,0,0,0,0,0,0,0]
[436,0,0,0,0,0,0,0]
[437,0,0,0,0,0,0,0]
[438,0,0,0,0,0,0,0]
[439,0,0,0,0,0,0,0]
[440,0,0,0,0,0,0,0]
[441,0,0,0,0,0,0,0]
[442,0,0,0,0,0,0,0]
[443,0,0,0,0,0,0,0]
[444,0,0,0,0,0,0,0]
[445,0,0,0,0,0,0,0]
[446,0,0,0,0,0,0,0]
[447,0,0,0,0,0,0,0]
[448,0,0,0,0,0,0,0]
[449,0,0,0,0,0,0,0]
[450,0,0,0,0,0,0,0]
[451,0,0,0,0,0,0,0]
[452,0,0,0,0,0,0,0]
[453,0,0,0,0,0,0,0]
[454,0,0,0,0,0,0,0]
[455,0,0,0,0,0,0,0]
[456,0,0,0,0,0,0,0]
[457,0,0,0,0,0,0,0]
[458,0,0,0,0,0,0,0]
[459,0,0,0,0,0,0,0]
[460,0,0,0,0,0,0,0]
[461,0,0,0,0,0,0,0]
[462,0,0,0,0,0,0,0]
[463,0,0,0,0,0,0,0]
[464,0,0,0,0,0,0,0]
[465,0,0,0,0,0,0,0]
[466,0,0,0,0,0,0,0]
[467,0,0,0,0,0,0,0]
[468,0,0,0,0,0,0,0]
[469,0,0,0,0,0,0,0]
[470,0,0,0,0,0,0,0]
[471,0,0,0,0,0,0,0]
[472,0,0,0,0,0,0,0]
[473,0,0,0,0,0,0,0]
[474,0,0,0,0,0,0,0]
[475,0,0,0,0,0,0,0]
[476,0,0,0,0,0,0,0]
[477,0,0,0,0,0,0,0]
[478,0,0,0,0,0,0,0]
[479,0,0,0,0,0,0,0]
[480,0,0,0,0,0,0,0]
[481,0,0,0,0,0,0,0]
[482,0,0,0,0,0,0,0]
[483,0,0,0,0,0,0,0]
[484,0,0,0,0,0,0,0]
[485,0,0,0,0,0,0,0]
[486,0,0,0,0,0,0,0]
[487,0,0,0,0,0,0,0]
[488,0,0,0,0,0,0,0]
[489,0,0,0,0,0,0,0]
[490,0,0,0,0,0,0,0]
[491,0,0,0,0,0,0,0]
[492,0,0,0,0,0,0,0]
[493,0,0,0,0,0,0,0]
[494,0,0,0,0,0,0,0]
[495,0,0,0,0,0,0,0]
[496,0,0,0,0,0,0,0]
[497,0,0,0,0,0,0,0]
[498,0,0,0,0,0,0,0]
[499,0,0,0,0,0,0,0]
[500,0,0,0,0,0,0,0]
[501,0,0,0,0,0,0,0]
[502,0,0,0,0,0,0,0]
[503,0,0,0,0,0,0,0]
[504,0,0,0,0,0,0,0]
[505,0,0,0,0,0,0,0]
[506,0,0,0,0,0,0,0]
[507,0,0,0,0,0,0,0]
[508,0,0,0,0,0,0,0]
[509,0,0,0,0,0,0,0]
[510,0,0,0,0,0,0,0]
[]
["Diameter"]
[1,{"$f":"IF(ISBLANK(Staging!D4),-100,+Staging!D4)","v":4.8499999999999996},{"$f":"IF(ISBLANK(Staging!E4),-100,+Staging!E4)","v":5.76},{"$f":"IF(ISBLANK(Staging!F4),-100,+Staging!F4)","v":8.19},{"$f":"IF(ISBLANK(Staging!G4),-100,+Staging!G4)","v":12.51},{"$f":"IF(ISBLANK(Staging!H4),-100,+Staging!H4)","v":0},{"$f":"IF(ISBLANK(Staging!I4),-100,+Staging!I4)","v":0},{"$f":"IF(ISBLANK(Staging!J4),-100,+Staging!J4)","v":0}]
[2,{"$f":"IF(ISBLANK(Staging!D5),-100,+Staging!D5)","v":3},{"$f":"IF(ISBLANK(Staging!E5),-100,+Staging!E5)","v":2.99},{"$f":"IF(ISBLANK(Staging!F5),-100,+Staging!F5)","v":0},{"$f":"IF(ISBLANK(Staging!G5),-100,+Staging!G5)","v":0},{"$f":"IF(ISBLANK(Staging!H5),-100,+Staging!H5)","v":0},{"$f":"IF(ISBLANK(Staging!I5),-100,+Staging!I5)","v":0},{"$f":"IF(ISBLANK(Staging!J5),-100,+Staging!J5)","v":0}]
[3,{"$f":"IF(ISBLANK(Staging!D6),-100,+Staging!D6)","v":2.57},{"$f":"IF(ISBLANK(Staging!E6),-100,+Staging!E6)","v":3},{"$f":"IF(ISBLANK(Staging!F6),-100,+Staging!F6)","v":0},{"$f":"IF(ISBLANK(Staging!G6),-100,+Staging!G6)","v":0},{"$f":"IF(ISBLANK(Staging!H6),-100,+Staging!H6)","v":0},{"$f":"IF(ISBLANK(Staging!I6),-100,+Staging!I6)","v":0},{"$f":"IF(ISBLANK(Staging!J6),-100,+Staging!J6)","v":0}]
[4,{"$f":"IF(ISBLANK(Staging!D7),-100,+Staging!D7)","v":2.61},{"$f":"IF(ISBLANK(Staging!E7),-100,+Staging!E7)","v":2.6},{"$f":"IF(ISBLANK(Staging!F7),-100,+Staging!F7)","v":0},{"$f":"IF(ISBLANK(Staging!G7),-100,+Staging!G7)","v":0},{"$f":"IF(ISBLANK(Staging!H7),-100,+Staging!H7)","v":0},{"$f":"IF(ISBLANK(Staging!I7),-100,+Staging!I7)","v":0},{"$f":"IF(ISBLANK(Staging!J7),-100,+Staging!J7)","v":0}]
[5,{"$f":"IF(ISBLANK(Staging!D8),-100,+Staging!D8)","v":2.21},{"$f":"IF(ISBLANK(Staging!E8),-100,+Staging!E8)","v":1.89},{"$f":"IF(ISBLANK(Staging!F8),-100,+Staging!F8)","v":0},{"$f":"IF(ISBLANK(Staging!G8),-100,+Staging!G8)","v":0},{"$f":"IF(ISBLANK(Staging!H8),-100,+Staging!H8)","v":0},{"$f":"IF(ISBLANK(Staging!I8),-100,+Staging!I8)","v":0},{"$f":"IF(ISBLANK(Staging!J8),-100,+Staging!J8)","v":0}]
[6,{"$f":"IF(ISBLANK(Staging!D9),-100,+Staging!D9)","v":0},{"$f":"IF(ISBLANK(Staging!E9),-100,+Staging!E9)","v":0},{"$f":"IF(ISBLANK(Staging!F9),-100,+Staging!F9)","v":0},{"$f":"IF(ISBLANK(Staging!G9),-100,+Staging!G9)","v":0},{"$f":"IF(ISBLANK(Staging!H9),-100,+Staging!H9)","v":0},{"$f":"IF(ISBLANK(Staging!I9),-100,+Staging!I9)","v":0},{"$f":"IF(ISBLANK(Staging!J9),-100,+Staging!J9)","v":0}]
[7,{"$f":"IF(ISBLANK(Staging!D10),-100,+Staging!D10)","v":2.4300000000000002},{"$f":"IF(ISBLANK(Staging!E10),-100,+Staging!E10)","v":2.08},{"$f":"IF(ISBLANK(Staging!F10),-100,+Staging!F10)","v":0},{"$f":"IF(ISBLANK(Staging!G10),-100,+Staging!G10)","v":0},{"$f":"IF(ISBLANK(Staging!H10),-100,+Staging!H10)","v":0},{"$f":"IF(ISBLANK(Staging!I10),-100,+Staging!I10)","v":0},{"$f":"IF(ISBLANK(Staging!J10),-100,+Staging!J10)","v":0}]
[8,{"$f":"IF(ISBLANK(Staging!D11),-100,+Staging!D11)","v":2.21},{"$f":"IF(ISBLANK(Staging!E11),-100,+Staging!E11)","v":2.74},{"$f":"IF(ISBLANK(Staging!F11),-100,+Staging!F11)","v":0},{"$f":"IF(ISBLANK(Staging!G11),-100,+Staging!G11)","v":0},{"$f":"IF(ISBLANK(Staging!H11),-100,+Staging!H11)","v":0},{"$f":"IF(ISBLANK(Staging!I11),-100,+Staging!I11)","v":0},{"$f":"IF(ISBLANK(Staging!J11),-100,+Staging!J11)","v":0}]
[9,{"$f":"IF(ISBLANK(Staging!D12),-100,+Staging!D12)","v":2.39},{"$f":"IF(ISBLANK(Staging!E12),-100,+Staging!E12)","v":2.1},{"$f":"IF(ISBLANK(Staging!F12),-100,+Staging!F12)","v":1.78},{"$f":"IF(ISBLANK(Staging!G12),-100,+Staging!G12)","v":0},{"$f":"IF(ISBLANK(Staging!H12),-100,+Staging!H12)","v":0},{"$f":"IF(ISBLANK(Staging!I12),-100,+Staging!I12)","v":0},{"$f":"IF(ISBLANK(Staging!J12),-100,+Staging!J12)","v":0}]
[10,{"$f":"IF(ISBLANK(Staging!D13),-100,+Staging!D13)","v":2.04},{"$f":"IF(ISBLANK(Staging!E13),-100,+Staging!E13)","v":2.17},{"$f":"IF(ISBLANK(Staging!F13),-100,+Staging!F13)","v":0},{"$f":"IF(ISBLANK(Staging!G13),-100,+Staging!G13)","v":0},{"$f":"IF(ISBLANK(Staging!H13),-100,+Staging!H13)","v":0},{"$f":"IF(ISBLANK(Staging!I13),-100,+Staging!I13)","v":0},{"$f":"IF(ISBLANK(Staging!J13),-100,+Staging!J13)","v":0}]
[11,{"$f":"IF(ISBLANK(Staging!D14),-100,+Staging!D14)","v":2.4900000000000002},{"$f":"IF(ISBLANK(Staging!E14),-100,+Staging!E14)","v":2.59},{"$f":"IF(ISBLANK(Staging!F14),-100,+Staging!F14)","v":0},{"$f":"IF(ISBLANK(Staging!G14),-100,+Staging!G14)","v":0},{"$f":"IF(ISBLANK(Staging!H14),-100,+Staging!H14)","v":0},{"$f":"IF(ISBLANK(Staging!I14),-100,+Staging!I14)","v":0},{"$f":"IF(ISBLANK(Staging!J14),-100,+Staging!J14)","v":0}]
[12,{"$f":"IF(ISBLANK(Staging!D15),-100,+Staging!D15)","v":0},{"$f":"IF(ISBLANK(Staging!E15),-100,+Staging!E15)","v":0},{"$f":"IF(ISBLANK(Staging!F15),-100,+Staging!F15)","v":0},{"$f":"IF(ISBLANK(Staging!G15),-100,+Staging!G15)","v":0},{"$f":"IF(ISBLANK(Staging!H15),-100,+Staging!H15)","v":0},{"$f":"IF(ISBLANK(Staging!I15),-100,+Staging!I15)","v":0},{"$f":"IF(ISBLANK(Staging!J15),-100,+Staging!J15)","v":0}]
[13,{"$f":"IF(ISBLANK(Staging!D16),-100,+Staging!D16)","v":4.34},{"$f":"IF(ISBLANK(Staging!E16),-100,+Staging!E16)","v":5.3},{"$f":"IF(ISBLANK(Staging!F16),-100,+Staging!F16)","v":6.96},{"$f":"IF(ISBLANK(Staging!G16),-100,+Staging!G16)","v":10.38},{"$f":"IF(ISBLANK(Staging!H16),-100,+Staging!H16)","v":0},{"$f":"IF(ISBLANK(Staging!I16),-100,+Staging!I16)","v":0},{"$f":"IF(ISBLANK(Staging!J16),-100,+Staging!J16)","v":0}]
[14,{"$f":"IF(ISBLANK(Staging!D17),-100,+Staging!D17)","v":2.9},{"$f":"IF(ISBLANK(Staging!E17),-100,+Staging!E17)","v":2.81},{"$f":"IF(ISBLANK(Staging!F17),-100,+Staging!F17)","v":2.4900000000000002},{"$f":"IF(ISBLANK(Staging!G17),-100,+Staging!G17)","v":0},{"$f":"IF(ISBLANK(Staging!H17),-100,+Staging!H17)","v":0},{"$f":"IF(ISBLANK(Staging!I17),-100,+Staging!I17)","v":0},{"$f":"IF(ISBLANK(Staging!J17),-100,+Staging!J17)","v":0}]
[15,{"$f":"IF(ISBLANK(Staging!D18),-100,+Staging!D18)","v":2.8},{"$f":"IF(ISBLANK(Staging!E18),-100,+Staging!E18)","v":2.63},{"$f":"IF(ISBLANK(Staging!F18),-100,+Staging!F18)","v":2.5},{"$f":"IF(ISBLANK(Staging!G18),-100,+Staging!G18)","v":0},{"$f":"IF(ISBLANK(Staging!H18),-100,+Staging!H18)","v":0},{"$f":"IF(ISBLANK(Staging!I18),-100,+Staging!I18)","v":0},{"$f":"IF(ISBLANK(Staging!J18),-100,+Staging!J18)","v":0}]
[16,{"$f":"IF(ISBLANK(Staging!D19),-100,+Staging!D19)","v":3.05},{"$f":"IF(ISBLANK(Staging!E19),-100,+Staging!E19)","v":3.36},{"$f":"IF(ISBLANK(Staging!F19),-100,+Staging!F19)","v":0},{"$f":"IF(ISBLANK(Staging!G19),-100,+Staging!G19)","v":0},{"$f":"IF(ISBLANK(Staging!H19),-100,+Staging!H19)","v":0},{"$f":"IF(ISBLANK(Staging!I19),-100,+Staging!I19)","v":0},{"$f":"IF(ISBLANK(Staging!J19),-100,+Staging!J19)","v":0}]
[17,{"$f":"IF(ISBLANK(Staging!D20),-100,+Staging!D20)","v":2.98},{"$f":"IF(ISBLANK(Staging!E20),-100,+Staging!E20)","v":3.43},{"$f":"IF(ISBLANK(Staging!F20),-100,+Staging!F20)","v":2.9},{"$f":"IF(ISBLANK(Staging!G20),-100,+Staging!G20)","v":0},{"$f":"IF(ISBLANK(Staging!H20),-100,+Staging!H20)","v":0},{"$f":"IF(ISBLANK(Staging!I20),-100,+Staging!I20)","v":0},{"$f":"IF(ISBLANK(Staging!J20),-100,+Staging!J20)","v":0}]
[18,{"$f":"IF(ISBLANK(Staging!D21),-100,+Staging!D21)","v":0},{"$f":"IF(ISBLANK(Staging!E21),-100,+Staging!E21)","v":0},{"$f":"IF(ISBLANK(Staging!F21),-100,+Staging!F21)","v":0},{"$f":"IF(ISBLANK(Staging!G21),-100,+Staging!G21)","v":0},{"$f":"IF(ISBLANK(Staging!H21),-100,+Staging!H21)","v":0},{"$f":"IF(ISBLANK(Staging!I21),-100,+Staging!I21)","v":0},{"$f":"IF(ISBLANK(Staging!J21),-100,+Staging!J21)","v":0}]
[19,{"$f":"IF(ISBLANK(Staging!D22),-100,+Staging!D22)","v":3.76},{"$f":"IF(ISBLANK(Staging!E22),-100,+Staging!E22)","v":4.51},{"$f":"IF(ISBLANK(Staging!F22),-100,+Staging!F22)","v":5.45},{"$f":"IF(ISBLANK(Staging!G22),-100,+Staging!G22)","v":7.42},{"$f":"IF(ISBLANK(Staging!H22),-100,+Staging!H22)","v":0},{"$f":"IF(ISBLANK(Staging!I22),-100,+Staging!I22)","v":0},{"$f":"IF(ISBLANK(Staging!J22),-100,+Staging!J22)","v":0}]
[20,{"$f":"IF(ISBLANK(Staging!D23),-100,+Staging!D23)","v":2.72},{"$f":"IF(ISBLANK(Staging!E23),-100,+Staging!E23)","v":3.17},{"$f":"IF(ISBLANK(Staging!F23),-100,+Staging!F23)","v":3.27},{"$f":"IF(ISBLANK(Staging!G23),-100,+Staging!G23)","v":0},{"$f":"IF(ISBLANK(Staging!H23),-100,+Staging!H23)","v":0},{"$f":"IF(ISBLANK(Staging!I23),-100,+Staging!I23)","v":0},{"$f":"IF(ISBLANK(Staging!J23),-100,+Staging!J23)","v":0}]
[21,{"$f":"IF(ISBLANK(Staging!D24),-100,+Staging!D24)","v":2.93},{"$f":"IF(ISBLANK(Staging!E24),-100,+Staging!E24)","v":2.75},{"$f":"IF(ISBLANK(Staging!F24),-100,+Staging!F24)","v":3.02},{"$f":"IF(ISBLANK(Staging!G24),-100,+Staging!G24)","v":0},{"$f":"IF(ISBLANK(Staging!H24),-100,+Staging!H24)","v":0},{"$f":"IF(ISBLANK(Staging!I24),-100,+Staging!I24)","v":0},{"$f":"IF(ISBLANK(Staging!J24),-100,+Staging!J24)","v":0}]
[22,{"$f":"IF(ISBLANK(Staging!D25),-100,+Staging!D25)","v":2.7},{"$f":"IF(ISBLANK(Staging!E25),-100,+Staging!E25)","v":2.16},{"$f":"IF(ISBLANK(Staging!F25),-100,+Staging!F25)","v":2.75},{"$f":"IF(ISBLANK(Staging!G25),-100,+Staging!G25)","v":0},{"$f":"IF(ISBLANK(Staging!H25),-100,+Staging!H25)","v":0},{"$f":"IF(ISBLANK(Staging!I25),-100,+Staging!I25)","v":0},{"$f":"IF(ISBLANK(Staging!J25),-100,+Staging!J25)","v":0}]
[23,{"$f":"IF(ISBLANK(Staging!D26),-100,+Staging!D26)","v":2.93},{"$f":"IF(ISBLANK(Staging!E26),-100,+Staging!E26)","v":3.37},{"$f":"IF(ISBLANK(Staging!F26),-100,+Staging!F26)","v":3.27},{"$f":"IF(ISBLANK(Staging!G26),-100,+Staging!G26)","v":0},{"$f":"IF(ISBLANK(Staging!H26),-100,+Staging!H26)","v":0},{"$f":"IF(ISBLANK(Staging!I26),-100,+Staging!I26)","v":0},{"$f":"IF(ISBLANK(Staging!J26),-100,+Staging!J26)","v":0}]
[24,{"$f":"IF(ISBLANK(Staging!D27),-100,+Staging!D27)","v":3.28},{"$f":"IF(ISBLANK(Staging!E27),-100,+Staging!E27)","v":3.16},{"$f":"IF(ISBLANK(Staging!F27),-100,+Staging!F27)","v":2.83},{"$f":"IF(ISBLANK(Staging!G27),-100,+Staging!G27)","v":0},{"$f":"IF(ISBLANK(Staging!H27),-100,+Staging!H27)","v":0},{"$f":"IF(ISBLANK(Staging!I27),-100,+Staging!I27)","v":0},{"$f":"IF(ISBLANK(Staging!J27),-100,+Staging!J27)","v":0}]
[25,{"$f":"IF(ISBLANK(Staging!D28),-100,+Staging!D28)","v":0},{"$f":"IF(ISBLANK(Staging!E28),-100,+Staging!E28)","v":0},{"$f":"IF(ISBLANK(Staging!F28),-100,+Staging!F28)","v":0},{"$f":"IF(ISBLANK(Staging!G28),-100,+Staging!G28)","v":0},{"$f":"IF(ISBLANK(Staging!H28),-100,+Staging!H28)","v":0},{"$f":"IF(ISBLANK(Staging!I28),-100,+Staging!I28)","v":0},{"$f":"IF(ISBLANK(Staging!J28),-100,+Staging!J28)","v":0}]
[26,{"$f":"IF(ISBLANK(Staging!D29),-100,+Staging!D29)","v":2.34},{"$f":"IF(ISBLANK(Staging!E29),-100,+Staging!E29)","v":0},{"$f":"IF(ISBLANK(Staging!F29),-100,+Staging!F29)","v":0},{"$f":"IF(ISBLANK(Staging!G29),-100,+Staging!G29)","v":0},{"$f":"IF(ISBLANK(Staging!H29),-100,+Staging!H29)","v":0},{"$f":"IF(ISBLANK(Staging!I29),-100,+Staging!I29)","v":0},{"$f":"IF(ISBLANK(Staging!J29),-100,+Staging!J29)","v":0}]
[27,{"$f":"IF(ISBLANK(Staging!D30),-100,+Staging!D30)","v":2.99},{"$f":"IF(ISBLANK(Staging!E30),-100,+Staging!E30)","v":3.27},{"$f":"IF(ISBLANK(Staging!F30),-100,+Staging!F30)","v":0},{"$f":"IF(ISBLANK(Staging!G30),-100,+Staging!G30)","v":0},{"$f":"IF(ISBLANK(Staging!H30),-100,+Staging!H30)","v":0},{"$f":"IF(ISBLANK(Staging!I30),-100,+Staging!I30)","v":0},{"$f":"IF(ISBLANK(Staging!J30),-100,+Staging!J30)","v":0}]
[28,{"$f":"IF(ISBLANK(Staging!D31),-100,+Staging!D31)","v":2.78},{"$f":"IF(ISBLANK(Staging!E31),-100,+Staging!E31)","v":2.76},{"$f":"IF(ISBLANK(Staging!F31),-100,+Staging!F31)","v":0},{"$f":"IF(ISBLANK(Staging!G31),-100,+Staging!G31)","v":0},{"$f":"IF(ISBLANK(Staging!H31),-100,+Staging!H31)","v":0},{"$f":"IF(ISBLANK(Staging!I31),-100,+Staging!I31)","v":0},{"$f":"IF(ISBLANK(Staging!J31),-100,+Staging!J31)","v":0}]
[29,{"$f":"IF(ISBLANK(Staging!D32),-100,+Staging!D32)","v":2.87},{"$f":"IF(ISBLANK(Staging!E32),-100,+Staging!E32)","v":3.22},{"$f":"IF(ISBLANK(Staging!F32),-100,+Staging!F32)","v":2.79},{"$f":"IF(ISBLANK(Staging!G32),-100,+Staging!G32)","v":0},{"$f":"IF(ISBLANK(Staging!H32),-100,+Staging!H32)","v":0},{"$f":"IF(ISBLANK(Staging!I32),-100,+Staging!I32)","v":0},{"$f":"IF(ISBLANK(Staging!J32),-100,+Staging!J32)","v":0}]
[30,{"$f":"IF(ISBLANK(Staging!D33),-100,+Staging!D33)","v":2.78},{"$f":"IF(ISBLANK(Staging!E33),-100,+Staging!E33)","v":3.02},{"$f":"IF(ISBLANK(Staging!F33),-100,+Staging!F33)","v":0},{"$f":"IF(ISBLANK(Staging!G33),-100,+Staging!G33)","v":0},{"$f":"IF(ISBLANK(Staging!H33),-100,+Staging!H33)","v":0},{"$f":"IF(ISBLANK(Staging!I33),-100,+Staging!I33)","v":0},{"$f":"IF(ISBLANK(Staging!J33),-100,+Staging!J33)","v":0}]
[31,{"$f":"IF(ISBLANK(Staging!D34),-100,+Staging!D34)","v":0},{"$f":"IF(ISBLANK(Staging!E34),-100,+Staging!E34)","v":0},{"$f":"IF(ISBLANK(Staging!F34),-100,+Staging!F34)","v":0},{"$f":"IF(ISBLANK(Staging!G34),-100,+Staging!G34)","v":0},{"$f":"IF(ISBLANK(Staging!H34),-100,+Staging!H34)","v":0},{"$f":"IF(ISBLANK(Staging!I34),-100,+Staging!I34)","v":0},{"$f":"IF(ISBLANK(Staging!J34),-100,+Staging!J34)","v":0}]
[32,{"$f":"IF(ISBLANK(Staging!D35),-100,+Staging!D35)","v":3.14},{"$f":"IF(ISBLANK(Staging!E35),-100,+Staging!E35)","v":3.45},{"$f":"IF(ISBLANK(Staging!F35),-100,+Staging!F35)","v":3.24},{"$f":"IF(ISBLANK(Staging!G35),-100,+Staging!G35)","v":0},{"$f":"IF(ISBLANK(Staging!H35),-100,+Staging!H35)","v":0},{"$f":"IF(ISBLANK(Staging!I35),-100,+Staging!I35)","v":0},{"$f":"IF(ISBLANK(Staging!J35),-100,+Staging!J35)","v":0}]
[33,{"$f":"IF(ISBLANK(Staging!D36),-100,+Staging!D36)","v":2.63},{"$f":"IF(ISBLANK(Staging!E36),-100,+Staging!E36)","v":2.63},{"$f":"IF(ISBLANK(Staging!F36),-100,+Staging!F36)","v":2.84},{"$f":"IF(ISBLANK(Staging!G36),-100,+Staging!G36)","v":0},{"$f":"IF(ISBLANK(Staging!H36),-100,+Staging!H36)","v":0},{"$f":"IF(ISBLANK(Staging!I36),-100,+Staging!I36)","v":0},{"$f":"IF(ISBLANK(Staging!J36),-100,+Staging!J36)","v":0}]
[34,{"$f":"IF(ISBLANK(Staging!D37),-100,+Staging!D37)","v":3},{"$f":"IF(ISBLANK(Staging!E37),-100,+Staging!E37)","v":2.7},{"$f":"IF(ISBLANK(Staging!F37),-100,+Staging!F37)","v":3.09},{"$f":"IF(ISBLANK(Staging!G37),-100,+Staging!G37)","v":0},{"$f":"IF(ISBLANK(Staging!H37),-100,+Staging!H37)","v":0},{"$f":"IF(ISBLANK(Staging!I37),-100,+Staging!I37)","v":0},{"$f":"IF(ISBLANK(Staging!J37),-100,+Staging!J37)","v":0}]
[35,{"$f":"IF(ISBLANK(Staging!D38),-100,+Staging!D38)","v":2.41},{"$f":"IF(ISBLANK(Staging!E38),-100,+Staging!E38)","v":3.2},{"$f":"IF(ISBLANK(Staging!F38),-100,+Staging!F38)","v":1.86},{"$f":"IF(ISBLANK(Staging!G38),-100,+Staging!G38)","v":0},{"$f":"IF(ISBLANK(Staging!H38),-100,+Staging!H38)","v":0},{"$f":"IF(ISBLANK(Staging!I38),-100,+Staging!I38)","v":0},{"$f":"IF(ISBLANK(Staging!J38),-100,+Staging!J38)","v":0}]
[36,{"$f":"IF(ISBLANK(Staging!D39),-100,+Staging!D39)","v":2.63},{"$f":"IF(ISBLANK(Staging!E39),-100,+Staging!E39)","v":2.84},{"$f":"IF(ISBLANK(Staging!F39),-100,+Staging!F39)","v":2.61},{"$f":"IF(ISBLANK(Staging!G39),-100,+Staging!G39)","v":0},{"$f":"IF(ISBLANK(Staging!H39),-100,+Staging!H39)","v":0},{"$f":"IF(ISBLANK(Staging!I39),-100,+Staging!I39)","v":0},{"$f":"IF(ISBLANK(Staging!J39),-100,+Staging!J39)","v":0}]
[37,{"$f":"IF(ISBLANK(Staging!D40),-100,+Staging!D40)","v":2.56},{"$f":"IF(ISBLANK(Staging!E40),-100,+Staging!E40)","v":3.14},{"$f":"IF(ISBLANK(Staging!F40),-100,+Staging!F40)","v":2.36},{"$f":"IF(ISBLANK(Staging!G40),-100,+Staging!G40)","v":0},{"$f":"IF(ISBLANK(Staging!H40),-100,+Staging!H40)","v":0},{"$f":"IF(ISBLANK(Staging!I40),-100,+Staging!I40)","v":0},{"$f":"IF(ISBLANK(Staging!J40),-100,+Staging!J40)","v":0}]
[38,{"$f":"IF(ISBLANK(Staging!D41),-100,+Staging!D41)","v":0},{"$f":"IF(ISBLANK(Staging!E41),-100,+Staging!E41)","v":0},{"$f":"IF(ISBLANK(Staging!F41),-100,+Staging!F41)","v":0},{"$f":"IF(ISBLANK(Staging!G41),-100,+Staging!G41)","v":0},{"$f":"IF(ISBLANK(Staging!H41),-100,+Staging!H41)","v":0},{"$f":"IF(ISBLANK(Staging!I41),-100,+Staging!I41)","v":0},{"$f":"IF(ISBLANK(Staging!J41),-100,+Staging!J41)","v":0}]
[39,{"$f":"IF(ISBLANK(Staging!D42),-100,+Staging!D42)","v":3.87},{"$f":"IF(ISBLANK(Staging!E42),-100,+Staging!E42)","v":3.63},{"$f":"IF(ISBLANK(Staging!F42),-100,+Staging!F42)","v":3.45},{"$f":"IF(ISBLANK(Staging!G42),-100,+Staging!G42)","v":0},{"$f":"IF(ISBLANK(Staging!H42),-100,+Staging!H42)","v":0},{"$f":"IF(ISBLANK(Staging!I42),-100,+Staging!I42)","v":0},{"$f":"IF(ISBLANK(Staging!J42),-100,+Staging!J42)","v":0}]
[40,{"$f":"IF(ISBLANK(Staging!D43),-100,+Staging!D43)","v":2.67},{"$f":"IF(ISBLANK(Staging!E43),-100,+Staging!E43)","v":3.39},{"$f":"IF(ISBLANK(Staging!F43),-100,+Staging!F43)","v":2.96},{"$f":"IF(ISBLANK(Staging!G43),-100,+Staging!G43)","v":0},{"$f":"IF(ISBLANK(Staging!H43),-100,+Staging!H43)","v":0},{"$f":"IF(ISBLANK(Staging!I43),-100,+Staging!I43)","v":0},{"$f":"IF(ISBLANK(Staging!J43),-100,+Staging!J43)","v":0}]
[41,{"$f":"IF(ISBLANK(Staging!D44),-100,+Staging!D44)","v":2.4900000000000002},{"$f":"IF(ISBLANK(Staging!E44),-100,+Staging!E44)","v":2.84},{"$f":"IF(ISBLANK(Staging!F44),-100,+Staging!F44)","v":3.02},{"$f":"IF(ISBLANK(Staging!G44),-100,+Staging!G44)","v":0},{"$f":"IF(ISBLANK(Staging!H44),-100,+Staging!H44)","v":0},{"$f":"IF(ISBLANK(Staging!I44),-100,+Staging!I44)","v":0},{"$f":"IF(ISBLANK(Staging!J44),-100,+Staging!J44)","v":0}]
[42,{"$f":"IF(ISBLANK(Staging!D45),-100,+Staging!D45)","v":3.04},{"$f":"IF(ISBLANK(Staging!E45),-100,+Staging!E45)","v":3.57},{"$f":"IF(ISBLANK(Staging!F45),-100,+Staging!F45)","v":4.95},{"$f":"IF(ISBLANK(Staging!G45),-100,+Staging!G45)","v":8.02},{"$f":"IF(ISBLANK(Staging!H45),-100,+Staging!H45)","v":0},{"$f":"IF(ISBLANK(Staging!I45),-100,+Staging!I45)","v":0},{"$f":"IF(ISBLANK(Staging!J45),-100,+Staging!J45)","v":0}]
[43,{"$f":"IF(ISBLANK(Staging!D46),-100,+Staging!D46)","v":2.79},{"$f":"IF(ISBLANK(Staging!E46),-100,+Staging!E46)","v":2.99},{"$f":"IF(ISBLANK(Staging!F46),-100,+Staging!F46)","v":2.62},{"$f":"IF(ISBLANK(Staging!G46),-100,+Staging!G46)","v":0},{"$f":"IF(ISBLANK(Staging!H46),-100,+Staging!H46)","v":0},{"$f":"IF(ISBLANK(Staging!I46),-100,+Staging!I46)","v":0},{"$f":"IF(ISBLANK(Staging!J46),-100,+Staging!J46)","v":0}]
[44,{"$f":"IF(ISBLANK(Staging!D47),-100,+Staging!D47)","v":2.87},{"$f":"IF(ISBLANK(Staging!E47),-100,+Staging!E47)","v":3},{"$f":"IF(ISBLANK(Staging!F47),-100,+Staging!F47)","v":2.56},{"$f":"IF(ISBLANK(Staging!G47),-100,+Staging!G47)","v":0},{"$f":"IF(ISBLANK(Staging!H47),-100,+Staging!H47)","v":0},{"$f":"IF(ISBLANK(Staging!I47),-100,+Staging!I47)","v":0},{"$f":"IF(ISBLANK(Staging!J47),-100,+Staging!J47)","v":0}]
[45,{"$f":"IF(ISBLANK(Staging!D48),-100,+Staging!D48)","v":0},{"$f":"IF(ISBLANK(Staging!E48),-100,+Staging!E48)","v":0},{"$f":"IF(ISBLANK(Staging!F48),-100,+Staging!F48)","v":0},{"$f":"IF(ISBLANK(Staging!G48),-100,+Staging!G48)","v":0},{"$f":"IF(ISBLANK(Staging!H48),-100,+Staging!H48)","v":0},{"$f":"IF(ISBLANK(Staging!I48),-100,+Staging!I48)","v":0},{"$f":"IF(ISBLANK(Staging!J48),-100,+Staging!J48)","v":0}]
[46,{"$f":"IF(ISBLANK(Staging!D49),-100,+Staging!D49)","v":2.86},{"$f":"IF(ISBLANK(Staging!E49),-100,+Staging!E49)","v":2.89},{"$f":"IF(ISBLANK(Staging!F49),-100,+Staging!F49)","v":2.73},{"$f":"IF(ISBLANK(Staging!G49),-100,+Staging!G49)","v":0},{"$f":"IF(ISBLANK(Staging!H49),-100,+Staging!H49)","v":0},{"$f":"IF(ISBLANK(Staging!I49),-100,+Staging!I49)","v":0},{"$f":"IF(ISBLANK(Staging!J49),-100,+Staging!J49)","v":0}]
[47,{"$f":"IF(ISBLANK(Staging!D50),-100,+Staging!D50)","v":2.5299999999999998},{"$f":"IF(ISBLANK(Staging!E50),-100,+Staging!E50)","v":2.83},{"$f":"IF(ISBLANK(Staging!F50),-100,+Staging!F50)","v":3.72},{"$f":"IF(ISBLANK(Staging!G50),-100,+Staging!G50)","v":6.31},{"$f":"IF(ISBLANK(Staging!H50),-100,+Staging!H50)","v":0},{"$f":"IF(ISBLANK(Staging!I50),-100,+Staging!I50)","v":0},{"$f":"IF(ISBLANK(Staging!J50),-100,+Staging!J50)","v":0}]
[48,{"$f":"IF(ISBLANK(Staging!D51),-100,+Staging!D51)","v":2.13},{"$f":"IF(ISBLANK(Staging!E51),-100,+Staging!E51)","v":2.72},{"$f":"IF(ISBLANK(Staging!F51),-100,+Staging!F51)","v":1.86},{"$f":"IF(ISBLANK(Staging!G51),-100,+Staging!G51)","v":0},{"$f":"IF(ISBLANK(Staging!H51),-100,+Staging!H51)","v":0},{"$f":"IF(ISBLANK(Staging!I51),-100,+Staging!I51)","v":0},{"$f":"IF(ISBLANK(Staging!J51),-100,+Staging!J51)","v":0}]
[49,{"$f":"IF(ISBLANK(Staging!D52),-100,+Staging!D52)","v":0},{"$f":"IF(ISBLANK(Staging!E52),-100,+Staging!E52)","v":0},{"$f":"IF(ISBLANK(Staging!F52),-100,+Staging!F52)","v":0},{"$f":"IF(ISBLANK(Staging!G52),-100,+Staging!G52)","v":0},{"$f":"IF(ISBLANK(Staging!H52),-100,+Staging!H52)","v":0},{"$f":"IF(ISBLANK(Staging!I52),-100,+Staging!I52)","v":0},{"$f":"IF(ISBLANK(Staging!J52),-100,+Staging!J52)","v":0}]
[50,{"$f":"IF(ISBLANK(Staging!D53),-100,+Staging!D53)","v":2.88},{"$f":"IF(ISBLANK(Staging!E53),-100,+Staging!E53)","v":3.08},{"$f":"IF(ISBLANK(Staging!F53),-100,+Staging!F53)","v":2.5499999999999998},{"$f":"IF(ISBLANK(Staging!G53),-100,+Staging!G53)","v":0},{"$f":"IF(ISBLANK(Staging!H53),-100,+Staging!H53)","v":0},{"$f":"IF(ISBLANK(Staging!I53),-100,+Staging!I53)","v":0},{"$f":"IF(ISBLANK(Staging!J53),-100,+Staging!J53)","v":0}]
[51,{"$f":"IF(ISBLANK(Staging!D54),-100,+Staging!D54)","v":3.73},{"$f":"IF(ISBLANK(Staging!E54),-100,+Staging!E54)","v":3.97},{"$f":"IF(ISBLANK(Staging!F54),-100,+Staging!F54)","v":5.19},{"$f":"IF(ISBLANK(Staging!G54),-100,+Staging!G54)","v":7.99},{"$f":"IF(ISBLANK(Staging!H54),-100,+Staging!H54)","v":0},{"$f":"IF(ISBLANK(Staging!I54),-100,+Staging!I54)","v":0},{"$f":"IF(ISBLANK(Staging!J54),-100,+Staging!J54)","v":0}]
[52,{"$f":"IF(ISBLANK(Staging!D55),-100,+Staging!D55)","v":2.96},{"$f":"IF(ISBLANK(Staging!E55),-100,+Staging!E55)","v":3.15},{"$f":"IF(ISBLANK(Staging!F55),-100,+Staging!F55)","v":2.82},{"$f":"IF(ISBLANK(Staging!G55),-100,+Staging!G55)","v":0},{"$f":"IF(ISBLANK(Staging!H55),-100,+Staging!H55)","v":0},{"$f":"IF(ISBLANK(Staging!I55),-100,+Staging!I55)","v":0},{"$f":"IF(ISBLANK(Staging!J55),-100,+Staging!J55)","v":0}]
[53,{"$f":"IF(ISBLANK(Staging!D56),-100,+Staging!D56)","v":3.1},{"$f":"IF(ISBLANK(Staging!E56),-100,+Staging!E56)","v":3.32},{"$f":"IF(ISBLANK(Staging!F56),-100,+Staging!F56)","v":3.04},{"$f":"IF(ISBLANK(Staging!G56),-100,+Staging!G56)","v":0},{"$f":"IF(ISBLANK(Staging!H56),-100,+Staging!H56)","v":0},{"$f":"IF(ISBLANK(Staging!I56),-100,+Staging!I56)","v":0},{"$f":"IF(ISBLANK(Staging!J56),-100,+Staging!J56)","v":0}]
[54,{"$f":"IF(ISBLANK(Staging!D57),-100,+Staging!D57)","v":3.21},{"$f":"IF(ISBLANK(Staging!E57),-100,+Staging!E57)","v":3.33},{"$f":"IF(ISBLANK(Staging!F57),-100,+Staging!F57)","v":3.01},{"$f":"IF(ISBLANK(Staging!G57),-100,+Staging!G57)","v":0},{"$f":"IF(ISBLANK(Staging!H57),-100,+Staging!H57)","v":0},{"$f":"IF(ISBLANK(Staging!I57),-100,+Staging!I57)","v":0},{"$f":"IF(ISBLANK(Staging!J57),-100,+Staging!J57)","v":0}]
[55,{"$f":"IF(ISBLANK(Staging!D58),-100,+Staging!D58)","v":0},{"$f":"IF(ISBLANK(Staging!E58),-100,+Staging!E58)","v":0},{"$f":"IF(ISBLANK(Staging!F58),-100,+Staging!F58)","v":0},{"$f":"IF(ISBLANK(Staging!G58),-100,+Staging!G58)","v":0},{"$f":"IF(ISBLANK(Staging!H58),-100,+Staging!H58)","v":0},{"$f":"IF(ISBLANK(Staging!I58),-100,+Staging!I58)","v":0},{"$f":"IF(ISBLANK(Staging!J58),-100,+Staging!J58)","v":0}]
[56,{"$f":"IF(ISBLANK(Staging!D59),-100,+Staging!D59)","v":2.82},{"$f":"IF(ISBLANK(Staging!E59),-100,+Staging!E59)","v":3.08},{"$f":"IF(ISBLANK(Staging!F59),-100,+Staging!F59)","v":0},{"$f":"IF(ISBLANK(Staging!G59),-100,+Staging!G59)","v":0},{"$f":"IF(ISBLANK(Staging!H59),-100,+Staging!H59)","v":0},{"$f":"IF(ISBLANK(Staging!I59),-100,+Staging!I59)","v":0},{"$f":"IF(ISBLANK(Staging!J59),-100,+Staging!J59)","v":0}]
[57,{"$f":"IF(ISBLANK(Staging!D60),-100,+Staging!D60)","v":3.26},{"$f":"IF(ISBLANK(Staging!E60),-100,+Staging!E60)","v":3.99},{"$f":"IF(ISBLANK(Staging!F60),-100,+Staging!F60)","v":4.8099999999999996},{"$f":"IF(ISBLANK(Staging!G60),-100,+Staging!G60)","v":7.99},{"$f":"IF(ISBLANK(Staging!H60),-100,+Staging!H60)","v":0},{"$f":"IF(ISBLANK(Staging!I60),-100,+Staging!I60)","v":0},{"$f":"IF(ISBLANK(Staging!J60),-100,+Staging!J60)","v":0}]
[58,{"$f":"IF(ISBLANK(Staging!D61),-100,+Staging!D61)","v":2.69},{"$f":"IF(ISBLANK(Staging!E61),-100,+Staging!E61)","v":2.92},{"$f":"IF(ISBLANK(Staging!F61),-100,+Staging!F61)","v":0},{"$f":"IF(ISBLANK(Staging!G61),-100,+Staging!G61)","v":0},{"$f":"IF(ISBLANK(Staging!H61),-100,+Staging!H61)","v":0},{"$f":"IF(ISBLANK(Staging!I61),-100,+Staging!I61)","v":0},{"$f":"IF(ISBLANK(Staging!J61),-100,+Staging!J61)","v":0}]
[59,{"$f":"IF(ISBLANK(Staging!D62),-100,+Staging!D62)","v":3.24},{"$f":"IF(ISBLANK(Staging!E62),-100,+Staging!E62)","v":3.72},{"$f":"IF(ISBLANK(Staging!F62),-100,+Staging!F62)","v":5.1100000000000003},{"$f":"IF(ISBLANK(Staging!G62),-100,+Staging!G62)","v":8.0399999999999991},{"$f":"IF(ISBLANK(Staging!H62),-100,+Staging!H62)","v":0},{"$f":"IF(ISBLANK(Staging!I62),-100,+Staging!I62)","v":0},{"$f":"IF(ISBLANK(Staging!J62),-100,+Staging!J62)","v":0}]
[60,{"$f":"IF(ISBLANK(Staging!D63),-100,+Staging!D63)","v":2.89},{"$f":"IF(ISBLANK(Staging!E63),-100,+Staging!E63)","v":3.22},{"$f":"IF(ISBLANK(Staging!F63),-100,+Staging!F63)","v":0},{"$f":"IF(ISBLANK(Staging!G63),-100,+Staging!G63)","v":0},{"$f":"IF(ISBLANK(Staging!H63),-100,+Staging!H63)","v":0},{"$f":"IF(ISBLANK(Staging!I63),-100,+Staging!I63)","v":0},{"$f":"IF(ISBLANK(Staging!J63),-100,+Staging!J63)","v":0}]
[61,{"$f":"IF(ISBLANK(Staging!D64),-100,+Staging!D64)","v":0},{"$f":"IF(ISBLANK(Staging!E64),-100,+Staging!E64)","v":0},{"$f":"IF(ISBLANK(Staging!F64),-100,+Staging!F64)","v":0},{"$f":"IF(ISBLANK(Staging!G64),-100,+Staging!G64)","v":0},{"$f":"IF(ISBLANK(Staging!H64),-100,+Staging!H64)","v":0},{"$f":"IF(ISBLANK(Staging!I64),-100,+Staging!I64)","v":0},{"$f":"IF(ISBLANK(Staging!J64),-100,+Staging!J64)","v":0}]
[62,{"$f":"IF(ISBLANK(Staging!D65),-100,+Staging!D65)","v":3.67},{"$f":"IF(ISBLANK(Staging!E65),-100,+Staging!E65)","v":4.7},{"$f":"IF(ISBLANK(Staging!F65),-100,+Staging!F65)","v":5.87},{"$f":"IF(ISBLANK(Staging!G65),-100,+Staging!G65)","v":9.07},{"$f":"IF(ISBLANK(Staging!H65),-100,+Staging!H65)","v":0},{"$f":"IF(ISBLANK(Staging!I65),-100,+Staging!I65)","v":0},{"$f":"IF(ISBLANK(Staging!J65),-100,+Staging!J65)","v":0}]
[63,{"$f":"IF(ISBLANK(Staging!D66),-100,+Staging!D66)","v":3.04},{"$f":"IF(ISBLANK(Staging!E66),-100,+Staging!E66)","v":3.54},{"$f":"IF(ISBLANK(Staging!F66),-100,+Staging!F66)","v":4.38},{"$f":"IF(ISBLANK(Staging!G66),-100,+Staging!G66)","v":4.42},{"$f":"IF(ISBLANK(Staging!H66),-100,+Staging!H66)","v":0},{"$f":"IF(ISBLANK(Staging!I66),-100,+Staging!I66)","v":0},{"$f":"IF(ISBLANK(Staging!J66),-100,+Staging!J66)","v":0}]
[64,{"$f":"IF(ISBLANK(Staging!D67),-100,+Staging!D67)","v":2.64},{"$f":"IF(ISBLANK(Staging!E67),-100,+Staging!E67)","v":2.4900000000000002},{"$f":"IF(ISBLANK(Staging!F67),-100,+Staging!F67)","v":0},{"$f":"IF(ISBLANK(Staging!G67),-100,+Staging!G67)","v":0},{"$f":"IF(ISBLANK(Staging!H67),-100,+Staging!H67)","v":0},{"$f":"IF(ISBLANK(Staging!I67),-100,+Staging!I67)","v":0},{"$f":"IF(ISBLANK(Staging!J67),-100,+Staging!J67)","v":0}]
[65,{"$f":"IF(ISBLANK(Staging!D68),-100,+Staging!D68)","v":3.29},{"$f":"IF(ISBLANK(Staging!E68),-100,+Staging!E68)","v":4.08},{"$f":"IF(ISBLANK(Staging!F68),-100,+Staging!F68)","v":5.43},{"$f":"IF(ISBLANK(Staging!G68),-100,+Staging!G68)","v":8.11},{"$f":"IF(ISBLANK(Staging!H68),-100,+Staging!H68)","v":0},{"$f":"IF(ISBLANK(Staging!I68),-100,+Staging!I68)","v":0},{"$f":"IF(ISBLANK(Staging!J68),-100,+Staging!J68)","v":0}]
[66,{"$f":"IF(ISBLANK(Staging!D69),-100,+Staging!D69)","v":2.96},{"$f":"IF(ISBLANK(Staging!E69),-100,+Staging!E69)","v":3.45},{"$f":"IF(ISBLANK(Staging!F69),-100,+Staging!F69)","v":4.24},{"$f":"IF(ISBLANK(Staging!G69),-100,+Staging!G69)","v":4.13},{"$f":"IF(ISBLANK(Staging!H69),-100,+Staging!H69)","v":0},{"$f":"IF(ISBLANK(Staging!I69),-100,+Staging!I69)","v":0},{"$f":"IF(ISBLANK(Staging!J69),-100,+Staging!J69)","v":0}]
[67,{"$f":"IF(ISBLANK(Staging!D70),-100,+Staging!D70)","v":0},{"$f":"IF(ISBLANK(Staging!E70),-100,+Staging!E70)","v":0},{"$f":"IF(ISBLANK(Staging!F70),-100,+Staging!F70)","v":0},{"$f":"IF(ISBLANK(Staging!G70),-100,+Staging!G70)","v":0},{"$f":"IF(ISBLANK(Staging!H70),-100,+Staging!H70)","v":0},{"$f":"IF(ISBLANK(Staging!I70),-100,+Staging!I70)","v":0},{"$f":"IF(ISBLANK(Staging!J70),-100,+Staging!J70)","v":0}]
[68,{"$f":"IF(ISBLANK(Staging!D71),-100,+Staging!D71)","v":2.79},{"$f":"IF(ISBLANK(Staging!E71),-100,+Staging!E71)","v":0},{"$f":"IF(ISBLANK(Staging!F71),-100,+Staging!F71)","v":0},{"$f":"IF(ISBLANK(Staging!G71),-100,+Staging!G71)","v":0},{"$f":"IF(ISBLANK(Staging!H71),-100,+Staging!H71)","v":0},{"$f":"IF(ISBLANK(Staging!I71),-100,+Staging!I71)","v":0},{"$f":"IF(ISBLANK(Staging!J71),-100,+Staging!J71)","v":0}]
[69,{"$f":"IF(ISBLANK(Staging!D72),-100,+Staging!D72)","v":2.7},{"$f":"IF(ISBLANK(Staging!E72),-100,+Staging!E72)","v":2.77},{"$f":"IF(ISBLANK(Staging!F72),-100,+Staging!F72)","v":0},{"$f":"IF(ISBLANK(Staging!G72),-100,+Staging!G72)","v":0},{"$f":"IF(ISBLANK(Staging!H72),-100,+Staging!H72)","v":0},{"$f":"IF(ISBLANK(Staging!I72),-100,+Staging!I72)","v":0},{"$f":"IF(ISBLANK(Staging!J72),-100,+Staging!J72)","v":0}]
[70,{"$f":"IF(ISBLANK(Staging!D73),-100,+Staging!D73)","v":2.64},{"$f":"IF(ISBLANK(Staging!E73),-100,+Staging!E73)","v":2.74},{"$f":"IF(ISBLANK(Staging!F73),-100,+Staging!F73)","v":2.0499999999999998},{"$f":"IF(ISBLANK(Staging!G73),-100,+Staging!G73)","v":0},{"$f":"IF(ISBLANK(Staging!H73),-100,+Staging!H73)","v":0},{"$f":"IF(ISBLANK(Staging!I73),-100,+Staging!I73)","v":0},{"$f":"IF(ISBLANK(Staging!J73),-100,+Staging!J73)","v":0}]
[71,{"$f":"IF(ISBLANK(Staging!D74),-100,+Staging!D74)","v":2.7},{"$f":"IF(ISBLANK(Staging!E74),-100,+Staging!E74)","v":2.82},{"$f":"IF(ISBLANK(Staging!F74),-100,+Staging!F74)","v":2.4700000000000002},{"$f":"IF(ISBLANK(Staging!G74),-100,+Staging!G74)","v":0},{"$f":"IF(ISBLANK(Staging!H74),-100,+Staging!H74)","v":0},{"$f":"IF(ISBLANK(Staging!I74),-100,+Staging!I74)","v":0},{"$f":"IF(ISBLANK(Staging!J74),-100,+Staging!J74)","v":0}]
[72,{"$f":"IF(ISBLANK(Staging!D75),-100,+Staging!D75)","v":2.72},{"$f":"IF(ISBLANK(Staging!E75),-100,+Staging!E75)","v":2.9},{"$f":"IF(ISBLANK(Staging!F75),-100,+Staging!F75)","v":2.19},{"$f":"IF(ISBLANK(Staging!G75),-100,+Staging!G75)","v":0},{"$f":"IF(ISBLANK(Staging!H75),-100,+Staging!H75)","v":0},{"$f":"IF(ISBLANK(Staging!I75),-100,+Staging!I75)","v":0},{"$f":"IF(ISBLANK(Staging!J75),-100,+Staging!J75)","v":0}]
[73,{"$f":"IF(ISBLANK(Staging!D76),-100,+Staging!D76)","v":0},{"$f":"IF(ISBLANK(Staging!E76),-100,+Staging!E76)","v":0},{"$f":"IF(ISBLANK(Staging!F76),-100,+Staging!F76)","v":0},{"$f":"IF(ISBLANK(Staging!G76),-100,+Staging!G76)","v":0},{"$f":"IF(ISBLANK(Staging!H76),-100,+Staging!H76)","v":0},{"$f":"IF(ISBLANK(Staging!I76),-100,+Staging!I76)","v":0},{"$f":"IF(ISBLANK(Staging!J76),-100,+Staging!J76)","v":0}]
[74,{"$f":"IF(ISBLANK(Staging!D77),-100,+Staging!D77)","v":2.75},{"$f":"IF(ISBLANK(Staging!E77),-100,+Staging!E77)","v":2.75},{"$f":"IF(ISBLANK(Staging!F77),-100,+Staging!F77)","v":2.34},{"$f":"IF(ISBLANK(Staging!G77),-100,+Staging!G77)","v":0},{"$f":"IF(ISBLANK(Staging!H77),-100,+Staging!H77)","v":0},{"$f":"IF(ISBLANK(Staging!I77),-100,+Staging!I77)","v":0},{"$f":"IF(ISBLANK(Staging!J77),-100,+Staging!J77)","v":0}]
[75,{"$f":"IF(ISBLANK(Staging!D78),-100,+Staging!D78)","v":2.5299999999999998},{"$f":"IF(ISBLANK(Staging!E78),-100,+Staging!E78)","v":2.5099999999999998},{"$f":"IF(ISBLANK(Staging!F78),-100,+Staging!F78)","v":2.44},{"$f":"IF(ISBLANK(Staging!G78),-100,+Staging!G78)","v":0},{"$f":"IF(ISBLANK(Staging!H78),-100,+Staging!H78)","v":0},{"$f":"IF(ISBLANK(Staging!I78),-100,+Staging!I78)","v":0},{"$f":"IF(ISBLANK(Staging!J78),-100,+Staging!J78)","v":0}]
[76,{"$f":"IF(ISBLANK(Staging!D79),-100,+Staging!D79)","v":2.82},{"$f":"IF(ISBLANK(Staging!E79),-100,+Staging!E79)","v":2.87},{"$f":"IF(ISBLANK(Staging!F79),-100,+Staging!F79)","v":4.2300000000000004},{"$f":"IF(ISBLANK(Staging!G79),-100,+Staging!G79)","v":0},{"$f":"IF(ISBLANK(Staging!H79),-100,+Staging!H79)","v":0},{"$f":"IF(ISBLANK(Staging!I79),-100,+Staging!I79)","v":0},{"$f":"IF(ISBLANK(Staging!J79),-100,+Staging!J79)","v":0}]
[77,{"$f":"IF(ISBLANK(Staging!D80),-100,+Staging!D80)","v":2.39},{"$f":"IF(ISBLANK(Staging!E80),-100,+Staging!E80)","v":2.82},{"$f":"IF(ISBLANK(Staging!F80),-100,+Staging!F80)","v":3.47},{"$f":"IF(ISBLANK(Staging!G80),-100,+Staging!G80)","v":0},{"$f":"IF(ISBLANK(Staging!H80),-100,+Staging!H80)","v":0},{"$f":"IF(ISBLANK(Staging!I80),-100,+Staging!I80)","v":0},{"$f":"IF(ISBLANK(Staging!J80),-100,+Staging!J80)","v":0}]
[78,{"$f":"IF(ISBLANK(Staging!D81),-100,+Staging!D81)","v":2.72},{"$f":"IF(ISBLANK(Staging!E81),-100,+Staging!E81)","v":2.79},{"$f":"IF(ISBLANK(Staging!F81),-100,+Staging!F81)","v":2.34},{"$f":"IF(ISBLANK(Staging!G81),-100,+Staging!G81)","v":0},{"$f":"IF(ISBLANK(Staging!H81),-100,+Staging!H81)","v":0},{"$f":"IF(ISBLANK(Staging!I81),-100,+Staging!I81)","v":0},{"$f":"IF(ISBLANK(Staging!J81),-100,+Staging!J81)","v":0}]
[79,{"$f":"IF(ISBLANK(Staging!D82),-100,+Staging!D82)","v":0},{"$f":"IF(ISBLANK(Staging!E82),-100,+Staging!E82)","v":0},{"$f":"IF(ISBLANK(Staging!F82),-100,+Staging!F82)","v":0},{"$f":"IF(ISBLANK(Staging!G82),-100,+Staging!G82)","v":0},{"$f":"IF(ISBLANK(Staging!H82),-100,+Staging!H82)","v":0},{"$f":"IF(ISBLANK(Staging!I82),-100,+Staging!I82)","v":0},{"$f":"IF(ISBLANK(Staging!J82),-100,+Staging!J82)","v":0}]
[80,{"$f":"IF(ISBLANK(Staging!D83),-100,+Staging!D83)","v":3.16},{"$f":"IF(ISBLANK(Staging!E83),-100,+Staging!E83)","v":3.21},{"$f":"IF(ISBLANK(Staging!F83),-100,+Staging!F83)","v":3.04},{"$f":"IF(ISBLANK(Staging!G83),-100,+Staging!G83)","v":0},{"$f":"IF(ISBLANK(Staging!H83),-100,+Staging!H83)","v":0},{"$f":"IF(ISBLANK(Staging!I83),-100,+Staging!I83)","v":0},{"$f":"IF(ISBLANK(Staging!J83),-100,+Staging!J83)","v":0}]
[81,{"$f":"IF(ISBLANK(Staging!D84),-100,+Staging!D84)","v":2.8},{"$f":"IF(ISBLANK(Staging!E84),-100,+Staging!E84)","v":3.05},{"$f":"IF(ISBLANK(Staging!F84),-100,+Staging!F84)","v":0},{"$f":"IF(ISBLANK(Staging!G84),-100,+Staging!G84)","v":0},{"$f":"IF(ISBLANK(Staging!H84),-100,+Staging!H84)","v":0},{"$f":"IF(ISBLANK(Staging!I84),-100,+Staging!I84)","v":0},{"$f":"IF(ISBLANK(Staging!J84),-100,+Staging!J84)","v":0}]
[82,{"$f":"IF(ISBLANK(Staging!D85),-100,+Staging!D85)","v":3.1},{"$f":"IF(ISBLANK(Staging!E85),-100,+Staging!E85)","v":3.05},{"$f":"IF(ISBLANK(Staging!F85),-100,+Staging!F85)","v":2.87},{"$f":"IF(ISBLANK(Staging!G85),-100,+Staging!G85)","v":0},{"$f":"IF(ISBLANK(Staging!H85),-100,+Staging!H85)","v":0},{"$f":"IF(ISBLANK(Staging!I85),-100,+Staging!I85)","v":0},{"$f":"IF(ISBLANK(Staging!J85),-100,+Staging!J85)","v":0}]
[83,{"$f":"IF(ISBLANK(Staging!D86),-100,+Staging!D86)","v":0},{"$f":"IF(ISBLANK(Staging!E86),-100,+Staging!E86)","v":0},{"$f":"IF(ISBLANK(Staging!F86),-100,+Staging!F86)","v":0},{"$f":"IF(ISBLANK(Staging!G86),-100,+Staging!G86)","v":0},{"$f":"IF(ISBLANK(Staging!H86),-100,+Staging!H86)","v":0},{"$f":"IF(ISBLANK(Staging!I86),-100,+Staging!I86)","v":0},{"$f":"IF(ISBLANK(Staging!J86),-100,+Staging!J86)","v":0}]
[84,{"$f":"IF(ISBLANK(Staging!D87),-100,+Staging!D87)","v":4.22},{"$f":"IF(ISBLANK(Staging!E87),-100,+Staging!E87)","v":4.83},{"$f":"IF(ISBLANK(Staging!F87),-100,+Staging!F87)","v":6.07},{"$f":"IF(ISBLANK(Staging!G87),-100,+Staging!G87)","v":9.31},{"$f":"IF(ISBLANK(Staging!H87),-100,+Staging!H87)","v":0},{"$f":"IF(ISBLANK(Staging!I87),-100,+Staging!I87)","v":0},{"$f":"IF(ISBLANK(Staging!J87),-100,+Staging!J87)","v":0}]
[85,{"$f":"IF(ISBLANK(Staging!D88),-100,+Staging!D88)","v":3.82},{"$f":"IF(ISBLANK(Staging!E88),-100,+Staging!E88)","v":4.0999999999999996},{"$f":"IF(ISBLANK(Staging!F88),-100,+Staging!F88)","v":5.43},{"$f":"IF(ISBLANK(Staging!G88),-100,+Staging!G88)","v":8.14},{"$f":"IF(ISBLANK(Staging!H88),-100,+Staging!H88)","v":0},{"$f":"IF(ISBLANK(Staging!I88),-100,+Staging!I88)","v":0},{"$f":"IF(ISBLANK(Staging!J88),-100,+Staging!J88)","v":0}]
[86,{"$f":"IF(ISBLANK(Staging!D89),-100,+Staging!D89)","v":2.8},{"$f":"IF(ISBLANK(Staging!E89),-100,+Staging!E89)","v":3.21},{"$f":"IF(ISBLANK(Staging!F89),-100,+Staging!F89)","v":2.98},{"$f":"IF(ISBLANK(Staging!G89),-100,+Staging!G89)","v":0},{"$f":"IF(ISBLANK(Staging!H89),-100,+Staging!H89)","v":0},{"$f":"IF(ISBLANK(Staging!I89),-100,+Staging!I89)","v":0},{"$f":"IF(ISBLANK(Staging!J89),-100,+Staging!J89)","v":0}]
[87,{"$f":"IF(ISBLANK(Staging!D90),-100,+Staging!D90)","v":3.1},{"$f":"IF(ISBLANK(Staging!E90),-100,+Staging!E90)","v":3.11},{"$f":"IF(ISBLANK(Staging!F90),-100,+Staging!F90)","v":2.7},{"$f":"IF(ISBLANK(Staging!G90),-100,+Staging!G90)","v":0},{"$f":"IF(ISBLANK(Staging!H90),-100,+Staging!H90)","v":0},{"$f":"IF(ISBLANK(Staging!I90),-100,+Staging!I90)","v":0},{"$f":"IF(ISBLANK(Staging!J90),-100,+Staging!J90)","v":0}]
[88,{"$f":"IF(ISBLANK(Staging!D91),-100,+Staging!D91)","v":3.32},{"$f":"IF(ISBLANK(Staging!E91),-100,+Staging!E91)","v":3.66},{"$f":"IF(ISBLANK(Staging!F91),-100,+Staging!F91)","v":3.77},{"$f":"IF(ISBLANK(Staging!G91),-100,+Staging!G91)","v":3.89},{"$f":"IF(ISBLANK(Staging!H91),-100,+Staging!H91)","v":0},{"$f":"IF(ISBLANK(Staging!I91),-100,+Staging!I91)","v":0},{"$f":"IF(ISBLANK(Staging!J91),-100,+Staging!J91)","v":0}]
[89,{"$f":"IF(ISBLANK(Staging!D92),-100,+Staging!D92)","v":3.22},{"$f":"IF(ISBLANK(Staging!E92),-100,+Staging!E92)","v":3.21},{"$f":"IF(ISBLANK(Staging!F92),-100,+Staging!F92)","v":0},{"$f":"IF(ISBLANK(Staging!G92),-100,+Staging!G92)","v":0},{"$f":"IF(ISBLANK(Staging!H92),-100,+Staging!H92)","v":0},{"$f":"IF(ISBLANK(Staging!I92),-100,+Staging!I92)","v":0},{"$f":"IF(ISBLANK(Staging!J92),-100,+Staging!J92)","v":0}]
[90,{"$f":"IF(ISBLANK(Staging!D93),-100,+Staging!D93)","v":0},{"$f":"IF(ISBLANK(Staging!E93),-100,+Staging!E93)","v":0},{"$f":"IF(ISBLANK(Staging!F93),-100,+Staging!F93)","v":0},{"$f":"IF(ISBLANK(Staging!G93),-100,+Staging!G93)","v":0},{"$f":"IF(ISBLANK(Staging!H93),-100,+Staging!H93)","v":0},{"$f":"IF(ISBLANK(Staging!I93),-100,+Staging!I93)","v":0},{"$f":"IF(ISBLANK(Staging!J93),-100,+Staging!J93)","v":0}]
[91,{"$f":"IF(ISBLANK(Staging!D94),-100,+Staging!D94)","v":0},{"$f":"IF(ISBLANK(Staging!E94),-100,+Staging!E94)","v":0},{"$f":"IF(ISBLANK(Staging!F94),-100,+Staging!F94)","v":0},{"$f":"IF(ISBLANK(Staging!G94),-100,+Staging!G94)","v":0},{"$f":"IF(ISBLANK(Staging!H94),-100,+Staging!H94)","v":0},{"$f":"IF(ISBLANK(Staging!I94),-100,+Staging!I94)","v":0},{"$f":"IF(ISBLANK(Staging!J94),-100,+Staging!J94)","v":0}]
[92,{"$f":"IF(ISBLANK(Staging!D95),-100,+Staging!D95)","v":0},{"$f":"IF(ISBLANK(Staging!E95),-100,+Staging!E95)","v":0},{"$f":"IF(ISBLANK(Staging!F95),-100,+Staging!F95)","v":0},{"$f":"IF(ISBLANK(Staging!G95),-100,+Staging!G95)","v":0},{"$f":"IF(ISBLANK(Staging!H95),-100,+Staging!H95)","v":0},{"$f":"IF(ISBLANK(Staging!I95),-100,+Staging!I95)","v":0},{"$f":"IF(ISBLANK(Staging!J95),-100,+Staging!J95)","v":0}]
[93,{"$f":"IF(ISBLANK(Staging!D96),-100,+Staging!D96)","v":0},{"$f":"IF(ISBLANK(Staging!E96),-100,+Staging!E96)","v":0},{"$f":"IF(ISBLANK(Staging!F96),-100,+Staging!F96)","v":0},{"$f":"IF(ISBLANK(Staging!G96),-100,+Staging!G96)","v":0},{"$f":"IF(ISBLANK(Staging!H96),-100,+Staging!H96)","v":0},{"$f":"IF(ISBLANK(Staging!I96),-100,+Staging!I96)","v":0},{"$f":"IF(ISBLANK(Staging!J96),-100,+Staging!J96)","v":0}]
[94,{"$f":"IF(ISBLANK(Staging!D97),-100,+Staging!D97)","v":0},{"$f":"IF(ISBLANK(Staging!E97),-100,+Staging!E97)","v":0},{"$f":"IF(ISBLANK(Staging!F97),-100,+Staging!F97)","v":0},{"$f":"IF(ISBLANK(Staging!G97),-100,+Staging!G97)","v":0},{"$f":"IF(ISBLANK(Staging!H97),-100,+Staging!H97)","v":0},{"$f":"IF(ISBLANK(Staging!I97),-100,+Staging!I97)","v":0},{"$f":"IF(ISBLANK(Staging!J97),-100,+Staging!J97)","v":0}]
[95,{"$f":"IF(ISBLANK(Staging!D98),-100,+Staging!D98)","v":0},{"$f":"IF(ISBLANK(Staging!E98),-100,+Staging!E98)","v":0},{"$f":"IF(ISBLANK(Staging!F98),-100,+Staging!F98)","v":0},{"$f":"IF(ISBLANK(Staging!G98),-100,+Staging!G98)","v":0},{"$f":"IF(ISBLANK(Staging!H98),-100,+Staging!H98)","v":0},{"$f":"IF(ISBLANK(Staging!I98),-100,+Staging!I98)","v":0},{"$f":"IF(ISBLANK(Staging!J98),-100,+Staging!J98)","v":0}]
[96,{"$f":"IF(ISBLANK(Staging!D99),-100,+Staging!D99)","v":0},{"$f":"IF(ISBLANK(Staging!E99),-100,+Staging!E99)","v":0},{"$f":"IF(ISBLANK(Staging!F99),-100,+Staging!F99)","v":0},{"$f":"IF(ISBLANK(Staging!G99),-100,+Staging!G99)","v":0},{"$f":"IF(ISBLANK(Staging!H99),-100,+Staging!H99)","v":0},{"$f":"IF(ISBLANK(Staging!I99),-100,+Staging!I99)","v":0},{"$f":"IF(ISBLANK(Staging!J99),-100,+Staging!J99)","v":0}]
[97,{"$f":"IF(ISBLANK(Staging!D100),-100,+Staging!D100)","v":0},{"$f":"IF(ISBLANK(Staging!E100),-100,+Staging!E100)","v":0},{"$f":"IF(ISBLANK(Staging!F100),-100,+Staging!F100)","v":0},{"$f":"IF(ISBLANK(Staging!G100),-100,+Staging!G100)","v":0},{"$f":"IF(ISBLANK(Staging!H100),-100,+Staging!H100)","v":0},{"$f":"IF(ISBLANK(Staging!I100),-100,+Staging!I100)","v":0},{"$f":"IF(ISBLANK(Staging!J100),-100,+Staging!J100)","v":0}]
[98,{"$f":"IF(ISBLANK(Staging!D101),-100,+Staging!D101)","v":0},{"$f":"IF(ISBLANK(Staging!E101),-100,+Staging!E101)","v":0},{"$f":"IF(ISBLANK(Staging!F101),-100,+Staging!F101)","v":0},{"$f":"IF(ISBLANK(Staging!G101),-100,+Staging!G101)","v":0},{"$f":"IF(ISBLANK(Staging!H101),-100,+Staging!H101)","v":0},{"$f":"IF(ISBLANK(Staging!I101),-100,+Staging!I101)","v":0},{"$f":"IF(ISBLANK(Staging!J101),-100,+Staging!J101)","v":0}]
[99,{"$f":"IF(ISBLANK(Staging!D102),-100,+Staging!D102)","v":0},{"$f":"IF(ISBLANK(Staging!E102),-100,+Staging!E102)","v":0},{"$f":"IF(ISBLANK(Staging!F102),-100,+Staging!F102)","v":0},{"$f":"IF(ISBLANK(Staging!G102),-100,+Staging!G102)","v":0},{"$f":"IF(ISBLANK(Staging!H102),-100,+Staging!H102)","v":0},{"$f":"IF(ISBLANK(Staging!I102),-100,+Staging!I102)","v":0},{"$f":"IF(ISBLANK(Staging!J102),-100,+Staging!J102)","v":0}]
[100,{"$f":"IF(ISBLANK(Staging!D103),-100,+Staging!D103)","v":0},{"$f":"IF(ISBLANK(Staging!E103),-100,+Staging!E103)","v":0},{"$f":"IF(ISBLANK(Staging!F103),-100,+Staging!F103)","v":0},{"$f":"IF(ISBLANK(Staging!G103),-100,+Staging!G103)","v":0},{"$f":"IF(ISBLANK(Staging!H103),-100,+Staging!H103)","v":0},{"$f":"IF(ISBLANK(Staging!I103),-100,+Staging!I103)","v":0},{"$f":"IF(ISBLANK(Staging!J103),-100,+Staging!J103)","v":0}]
[101,{"$f":"IF(ISBLANK(Staging!D104),-100,+Staging!D104)","v":0},{"$f":"IF(ISBLANK(Staging!E104),-100,+Staging!E104)","v":0},{"$f":"IF(ISBLANK(Staging!F104),-100,+Staging!F104)","v":0},{"$f":"IF(ISBLANK(Staging!G104),-100,+Staging!G104)","v":0},{"$f":"IF(ISBLANK(Staging!H104),-100,+Staging!H104)","v":0},{"$f":"IF(ISBLANK(Staging!I104),-100,+Staging!I104)","v":0},{"$f":"IF(ISBLANK(Staging!J104),-100,+Staging!J104)","v":0}]
[102,{"$f":"IF(ISBLANK(Staging!D105),-100,+Staging!D105)","v":0},{"$f":"IF(ISBLANK(Staging!E105),-100,+Staging!E105)","v":0},{"$f":"IF(ISBLANK(Staging!F105),-100,+Staging!F105)","v":0},{"$f":"IF(ISBLANK(Staging!G105),-100,+Staging!G105)","v":0},{"$f":"IF(ISBLANK(Staging!H105),-100,+Staging!H105)","v":0},{"$f":"IF(ISBLANK(Staging!I105),-100,+Staging!I105)","v":0},{"$f":"IF(ISBLANK(Staging!J105),-100,+Staging!J105)","v":0}]
[103,{"$f":"IF(ISBLANK(Staging!D106),-100,+Staging!D106)","v":0},{"$f":"IF(ISBLANK(Staging!E106),-100,+Staging!E106)","v":0},{"$f":"IF(ISBLANK(Staging!F106),-100,+Staging!F106)","v":0},{"$f":"IF(ISBLANK(Staging!G106),-100,+Staging!G106)","v":0},{"$f":"IF(ISBLANK(Staging!H106),-100,+Staging!H106)","v":0},{"$f":"IF(ISBLANK(Staging!I106),-100,+Staging!I106)","v":0},{"$f":"IF(ISBLANK(Staging!J106),-100,+Staging!J106)","v":0}]
[104,{"$f":"IF(ISBLANK(Staging!D107),-100,+Staging!D107)","v":0},{"$f":"IF(ISBLANK(Staging!E107),-100,+Staging!E107)","v":0},{"$f":"IF(ISBLANK(Staging!F107),-100,+Staging!F107)","v":0},{"$f":"IF(ISBLANK(Staging!G107),-100,+Staging!G107)","v":0},{"$f":"IF(ISBLANK(Staging!H107),-100,+Staging!H107)","v":0},{"$f":"IF(ISBLANK(Staging!I107),-100,+Staging!I107)","v":0},{"$f":"IF(ISBLANK(Staging!J107),-100,+Staging!J107)","v":0}]
[105,{"$f":"IF(ISBLANK(Staging!D108),-100,+Staging!D108)","v":0},{"$f":"IF(ISBLANK(Staging!E108),-100,+Staging!E108)","v":0},{"$f":"IF(ISBLANK(Staging!F108),-100,+Staging!F108)","v":0},{"$f":"IF(ISBLANK(Staging!G108),-100,+Staging!G108)","v":0},{"$f":"IF(ISBLANK(Staging!H108),-100,+Staging!H108)","v":0},{"$f":"IF(ISBLANK(Staging!I108),-100,+Staging!I108)","v":0},{"$f":"IF(ISBLANK(Staging!J108),-100,+Staging!J108)","v":0}]
[106,{"$f":"IF(ISBLANK(Staging!D109),-100,+Staging!D109)","v":0},{"$f":"IF(ISBLANK(Staging!E109),-100,+Staging!E109)","v":0},{"$f":"IF(ISBLANK(Staging!F109),-100,+Staging!F109)","v":0},{"$f":"IF(ISBLANK(Staging!G109),-100,+Staging!G109)","v":0},{"$f":"IF(ISBLANK(Staging!H109),-100,+Staging!H109)","v":0},{"$f":"IF(ISBLANK(Staging!I109),-100,+Staging!I109)","v":0},{"$f":"IF(ISBLANK(Staging!J109),-100,+Staging!J109)","v":0}]
[107,{"$f":"IF(ISBLANK(Staging!D110),-100,+Staging!D110)","v":0},{"$f":"IF(ISBLANK(Staging!E110),-100,+Staging!E110)","v":0},{"$f":"IF(ISBLANK(Staging!F110),-100,+Staging!F110)","v":0},{"$f":"IF(ISBLANK(Staging!G110),-100,+Staging!G110)","v":0},{"$f":"IF(ISBLANK(Staging!H110),-100,+Staging!H110)","v":0},{"$f":"IF(ISBLANK(Staging!I110),-100,+Staging!I110)","v":0},{"$f":"IF(ISBLANK(Staging!J110),-100,+Staging!J110)","v":0}]
[108,{"$f":"IF(ISBLANK(Staging!D111),-100,+Staging!D111)","v":0},{"$f":"IF(ISBLANK(Staging!E111),-100,+Staging!E111)","v":0},{"$f":"IF(ISBLANK(Staging!F111),-100,+Staging!F111)","v":0},{"$f":"IF(ISBLANK(Staging!G111),-100,+Staging!G111)","v":0},{"$f":"IF(ISBLANK(Staging!H111),-100,+Staging!H111)","v":0},{"$f":"IF(ISBLANK(Staging!I111),-100,+Staging!I111)","v":0},{"$f":"IF(ISBLANK(Staging!J111),-100,+Staging!J111)","v":0}]
[109,{"$f":"IF(ISBLANK(Staging!D112),-100,+Staging!D112)","v":0},{"$f":"IF(ISBLANK(Staging!E112),-100,+Staging!E112)","v":0},{"$f":"IF(ISBLANK(Staging!F112),-100,+Staging!F112)","v":0},{"$f":"IF(ISBLANK(Staging!G112),-100,+Staging!G112)","v":0},{"$f":"IF(ISBLANK(Staging!H112),-100,+Staging!H112)","v":0},{"$f":"IF(ISBLANK(Staging!I112),-100,+Staging!I112)","v":0},{"$f":"IF(ISBLANK(Staging!J112),-100,+Staging!J112)","v":0}]
[110,{"$f":"IF(ISBLANK(Staging!D113),-100,+Staging!D113)","v":0},{"$f":"IF(ISBLANK(Staging!E113),-100,+Staging!E113)","v":0},{"$f":"IF(ISBLANK(Staging!F113),-100,+Staging!F113)","v":0},{"$f":"IF(ISBLANK(Staging!G113),-100,+Staging!G113)","v":0},{"$f":"IF(ISBLANK(Staging!H113),-100,+Staging!H113)","v":0},{"$f":"IF(ISBLANK(Staging!I113),-100,+Staging!I113)","v":0},{"$f":"IF(ISBLANK(Staging!J113),-100,+Staging!J113)","v":0}]
[111,{"$f":"IF(ISBLANK(Staging!D114),-100,+Staging!D114)","v":0},{"$f":"IF(ISBLANK(Staging!E114),-100,+Staging!E114)","v":0},{"$f":"IF(ISBLANK(Staging!F114),-100,+Staging!F114)","v":0},{"$f":"IF(ISBLANK(Staging!G114),-100,+Staging!G114)","v":0},{"$f":"IF(ISBLANK(Staging!H114),-100,+Staging!H114)","v":0},{"$f":"IF(ISBLANK(Staging!I114),-100,+Staging!I114)","v":0},{"$f":"IF(ISBLANK(Staging!J114),-100,+Staging!J114)","v":0}]
[112,{"$f":"IF(ISBLANK(Staging!D115),-100,+Staging!D115)","v":0},{"$f":"IF(ISBLANK(Staging!E115),-100,+Staging!E115)","v":0},{"$f":"IF(ISBLANK(Staging!F115),-100,+Staging!F115)","v":0},{"$f":"IF(ISBLANK(Staging!G115),-100,+Staging!G115)","v":0},{"$f":"IF(ISBLANK(Staging!H115),-100,+Staging!H115)","v":0},{"$f":"IF(ISBLANK(Staging!I115),-100,+Staging!I115)","v":0},{"$f":"IF(ISBLANK(Staging!J115),-100,+Staging!J115)","v":0}]
[113,{"$f":"IF(ISBLANK(Staging!D116),-100,+Staging!D116)","v":0},{"$f":"IF(ISBLANK(Staging!E116),-100,+Staging!E116)","v":0},{"$f":"IF(ISBLANK(Staging!F116),-100,+Staging!F116)","v":0},{"$f":"IF(ISBLANK(Staging!G116),-100,+Staging!G116)","v":0},{"$f":"IF(ISBLANK(Staging!H116),-100,+Staging!H116)","v":0},{"$f":"IF(ISBLANK(Staging!I116),-100,+Staging!I116)","v":0},{"$f":"IF(ISBLANK(Staging!J116),-100,+Staging!J116)","v":0}]
[114,{"$f":"IF(ISBLANK(Staging!D117),-100,+Staging!D117)","v":0},{"$f":"IF(ISBLANK(Staging!E117),-100,+Staging!E117)","v":0},{"$f":"IF(ISBLANK(Staging!F117),-100,+Staging!F117)","v":0},{"$f":"IF(ISBLANK(Staging!G117),-100,+Staging!G117)","v":0},{"$f":"IF(ISBLANK(Staging!H117),-100,+Staging!H117)","v":0},{"$f":"IF(ISBLANK(Staging!I117),-100,+Staging!I117)","v":0},{"$f":"IF(ISBLANK(Staging!J117),-100,+Staging!J117)","v":0}]
[115,{"$f":"IF(ISBLANK(Staging!D118),-100,+Staging!D118)","v":0},{"$f":"IF(ISBLANK(Staging!E118),-100,+Staging!E118)","v":0},{"$f":"IF(ISBLANK(Staging!F118),-100,+Staging!F118)","v":0},{"$f":"IF(ISBLANK(Staging!G118),-100,+Staging!G118)","v":0},{"$f":"IF(ISBLANK(Staging!H118),-100,+Staging!H118)","v":0},{"$f":"IF(ISBLANK(Staging!I118),-100,+Staging!I118)","v":0},{"$f":"IF(ISBLANK(Staging!J118),-100,+Staging!J118)","v":0}]
[116,{"$f":"IF(ISBLANK(Staging!D119),-100,+Staging!D119)","v":0},{"$f":"IF(ISBLANK(Staging!E119),-100,+Staging!E119)","v":0},{"$f":"IF(ISBLANK(Staging!F119),-100,+Staging!F119)","v":0},{"$f":"IF(ISBLANK(Staging!G119),-100,+Staging!G119)","v":0},{"$f":"IF(ISBLANK(Staging!H119),-100,+Staging!H119)","v":0},{"$f":"IF(ISBLANK(Staging!I119),-100,+Staging!I119)","v":0},{"$f":"IF(ISBLANK(Staging!J119),-100,+Staging!J119)","v":0}]
[117,{"$f":"IF(ISBLANK(Staging!D120),-100,+Staging!D120)","v":0},{"$f":"IF(ISBLANK(Staging!E120),-100,+Staging!E120)","v":0},{"$f":"IF(ISBLANK(Staging!F120),-100,+Staging!F120)","v":0},{"$f":"IF(ISBLANK(Staging!G120),-100,+Staging!G120)","v":0},{"$f":"IF(ISBLANK(Staging!H120),-100,+Staging!H120)","v":0},{"$f":"IF(ISBLANK(Staging!I120),-100,+Staging!I120)","v":0},{"$f":"IF(ISBLANK(Staging!J120),-100,+Staging!J120)","v":0}]
[118,{"$f":"IF(ISBLANK(Staging!D121),-100,+Staging!D121)","v":0},{"$f":"IF(ISBLANK(Staging!E121),-100,+Staging!E121)","v":0},{"$f":"IF(ISBLANK(Staging!F121),-100,+Staging!F121)","v":0},{"$f":"IF(ISBLANK(Staging!G121),-100,+Staging!G121)","v":0},{"$f":"IF(ISBLANK(Staging!H121),-100,+Staging!H121)","v":0},{"$f":"IF(ISBLANK(Staging!I121),-100,+Staging!I121)","v":0},{"$f":"IF(ISBLANK(Staging!J121),-100,+Staging!J121)","v":0}]
[119,{"$f":"IF(ISBLANK(Staging!D122),-100,+Staging!D122)","v":0},{"$f":"IF(ISBLANK(Staging!E122),-100,+Staging!E122)","v":0},{"$f":"IF(ISBLANK(Staging!F122),-100,+Staging!F122)","v":0},{"$f":"IF(ISBLANK(Staging!G122),-100,+Staging!G122)","v":0},{"$f":"IF(ISBLANK(Staging!H122),-100,+Staging!H122)","v":0},{"$f":"IF(ISBLANK(Staging!I122),-100,+Staging!I122)","v":0},{"$f":"IF(ISBLANK(Staging!J122),-100,+Staging!J122)","v":0}]
[120,{"$f":"IF(ISBLANK(Staging!D123),-100,+Staging!D123)","v":0},{"$f":"IF(ISBLANK(Staging!E123),-100,+Staging!E123)","v":0},{"$f":"IF(ISBLANK(Staging!F123),-100,+Staging!F123)","v":0},{"$f":"IF(ISBLANK(Staging!G123),-100,+Staging!G123)","v":0},{"$f":"IF(ISBLANK(Staging!H123),-100,+Staging!H123)","v":0},{"$f":"IF(ISBLANK(Staging!I123),-100,+Staging!I123)","v":0},{"$f":"IF(ISBLANK(Staging!J123),-100,+Staging!J123)","v":0}]
[121,{"$f":"IF(ISBLANK(Staging!D124),-100,+Staging!D124)","v":0},{"$f":"IF(ISBLANK(Staging!E124),-100,+Staging!E124)","v":0},{"$f":"IF(ISBLANK(Staging!F124),-100,+Staging!F124)","v":0},{"$f":"IF(ISBLANK(Staging!G124),-100,+Staging!G124)","v":0},{"$f":"IF(ISBLANK(Staging!H124),-100,+Staging!H124)","v":0},{"$f":"IF(ISBLANK(Staging!I124),-100,+Staging!I124)","v":0},{"$f":"IF(ISBLANK(Staging!J124),-100,+Staging!J124)","v":0}]
[122,{"$f":"IF(ISBLANK(Staging!D125),-100,+Staging!D125)","v":0},{"$f":"IF(ISBLANK(Staging!E125),-100,+Staging!E125)","v":0},{"$f":"IF(ISBLANK(Staging!F125),-100,+Staging!F125)","v":0},{"$f":"IF(ISBLANK(Staging!G125),-100,+Staging!G125)","v":0},{"$f":"IF(ISBLANK(Staging!H125),-100,+Staging!H125)","v":0},{"$f":"IF(ISBLANK(Staging!I125),-100,+Staging!I125)","v":0},{"$f":"IF(ISBLANK(Staging!J125),-100,+Staging!J125)","v":0}]
[123,{"$f":"IF(ISBLANK(Staging!D126),-100,+Staging!D126)","v":0},{"$f":"IF(ISBLANK(Staging!E126),-100,+Staging!E126)","v":0},{"$f":"IF(ISBLANK(Staging!F126),-100,+Staging!F126)","v":0},{"$f":"IF(ISBLANK(Staging!G126),-100,+Staging!G126)","v":0},{"$f":"IF(ISBLANK(Staging!H126),-100,+Staging!H126)","v":0},{"$f":"IF(ISBLANK(Staging!I126),-100,+Staging!I126)","v":0},{"$f":"IF(ISBLANK(Staging!J126),-100,+Staging!J126)","v":0}]
[124,{"$f":"IF(ISBLANK(Staging!D127),-100,+Staging!D127)","v":0},{"$f":"IF(ISBLANK(Staging!E127),-100,+Staging!E127)","v":0},{"$f":"IF(ISBLANK(Staging!F127),-100,+Staging!F127)","v":0},{"$f":"IF(ISBLANK(Staging!G127),-100,+Staging!G127)","v":0},{"$f":"IF(ISBLANK(Staging!H127),-100,+Staging!H127)","v":0},{"$f":"IF(ISBLANK(Staging!I127),-100,+Staging!I127)","v":0},{"$f":"IF(ISBLANK(Staging!J127),-100,+Staging!J127)","v":0}]
[125,{"$f":"IF(ISBLANK(Staging!D128),-100,+Staging!D128)","v":0},{"$f":"IF(ISBLANK(Staging!E128),-100,+Staging!E128)","v":0},{"$f":"IF(ISBLANK(Staging!F128),-100,+Staging!F128)","v":0},{"$f":"IF(ISBLANK(Staging!G128),-100,+Staging!G128)","v":0},{"$f":"IF(ISBLANK(Staging!H128),-100,+Staging!H128)","v":0},{"$f":"IF(ISBLANK(Staging!I128),-100,+Staging!I128)","v":0},{"$f":"IF(ISBLANK(Staging!J128),-100,+Staging!J128)","v":0}]
[126,{"$f":"IF(ISBLANK(Staging!D129),-100,+Staging!D129)","v":0},{"$f":"IF(ISBLANK(Staging!E129),-100,+Staging!E129)","v":0},{"$f":"IF(ISBLANK(Staging!F129),-100,+Staging!F129)","v":0},{"$f":"IF(ISBLANK(Staging!G129),-100,+Staging!G129)","v":0},{"$f":"IF(ISBLANK(Staging!H129),-100,+Staging!H129)","v":0},{"$f":"IF(ISBLANK(Staging!I129),-100,+Staging!I129)","v":0},{"$f":"IF(ISBLANK(Staging!J129),-100,+Staging!J129)","v":0}]
[127,{"$f":"IF(ISBLANK(Staging!D130),-100,+Staging!D130)","v":0},{"$f":"IF(ISBLANK(Staging!E130),-100,+Staging!E130)","v":0},{"$f":"IF(ISBLANK(Staging!F130),-100,+Staging!F130)","v":0},{"$f":"IF(ISBLANK(Staging!G130),-100,+Staging!G130)","v":0},{"$f":"IF(ISBLANK(Staging!H130),-100,+Staging!H130)","v":0},{"$f":"IF(ISBLANK(Staging!I130),-100,+Staging!I130)","v":0},{"$f":"IF(ISBLANK(Staging!J130),-100,+Staging!J130)","v":0}]
[128,{"$f":"IF(ISBLANK(Staging!D131),-100,+Staging!D131)","v":0},{"$f":"IF(ISBLANK(Staging!E131),-100,+Staging!E131)","v":0},{"$f":"IF(ISBLANK(Staging!F131),-100,+Staging!F131)","v":0},{"$f":"IF(ISBLANK(Staging!G131),-100,+Staging!G131)","v":0},{"$f":"IF(ISBLANK(Staging!H131),-100,+Staging!H131)","v":0},{"$f":"IF(ISBLANK(Staging!I131),-100,+Staging!I131)","v":0},{"$f":"IF(ISBLANK(Staging!J131),-100,+Staging!J131)","v":0}]
[129,{"$f":"IF(ISBLANK(Staging!D132),-100,+Staging!D132)","v":0},{"$f":"IF(ISBLANK(Staging!E132),-100,+Staging!E132)","v":0},{"$f":"IF(ISBLANK(Staging!F132),-100,+Staging!F132)","v":0},{"$f":"IF(ISBLANK(Staging!G132),-100,+Staging!G132)","v":0},{"$f":"IF(ISBLANK(Staging!H132),-100,+Staging!H132)","v":0},{"$f":"IF(ISBLANK(Staging!I132),-100,+Staging!I132)","v":0},{"$f":"IF(ISBLANK(Staging!J132),-100,+Staging!J132)","v":0}]
[130,{"$f":"IF(ISBLANK(Staging!D133),-100,+Staging!D133)","v":0},{"$f":"IF(ISBLANK(Staging!E133),-100,+Staging!E133)","v":0},{"$f":"IF(ISBLANK(Staging!F133),-100,+Staging!F133)","v":0},{"$f":"IF(ISBLANK(Staging!G133),-100,+Staging!G133)","v":0},{"$f":"IF(ISBLANK(Staging!H133),-100,+Staging!H133)","v":0},{"$f":"IF(ISBLANK(Staging!I133),-100,+Staging!I133)","v":0},{"$f":"IF(ISBLANK(Staging!J133),-100,+Staging!J133)","v":0}]
[131,{"$f":"IF(ISBLANK(Staging!D134),-100,+Staging!D134)","v":0},{"$f":"IF(ISBLANK(Staging!E134),-100,+Staging!E134)","v":0},{"$f":"IF(ISBLANK(Staging!F134),-100,+Staging!F134)","v":0},{"$f":"IF(ISBLANK(Staging!G134),-100,+Staging!G134)","v":0},{"$f":"IF(ISBLANK(Staging!H134),-100,+Staging!H134)","v":0},{"$f":"IF(ISBLANK(Staging!I134),-100,+Staging!I134)","v":0},{"$f":"IF(ISBLANK(Staging!J134),-100,+Staging!J134)","v":0}]
[132,{"$f":"IF(ISBLANK(Staging!D135),-100,+Staging!D135)","v":0},{"$f":"IF(ISBLANK(Staging!E135),-100,+Staging!E135)","v":0},{"$f":"IF(ISBLANK(Staging!F135),-100,+Staging!F135)","v":0},{"$f":"IF(ISBLANK(Staging!G135),-100,+Staging!G135)","v":0},{"$f":"IF(ISBLANK(Staging!H135),-100,+Staging!H135)","v":0},{"$f":"IF(ISBLANK(Staging!I135),-100,+Staging!I135)","v":0},{"$f":"IF(ISBLANK(Staging!J135),-100,+Staging!J135)","v":0}]
[133,{"$f":"IF(ISBLANK(Staging!D136),-100,+Staging!D136)","v":0},{"$f":"IF(ISBLANK(Staging!E136),-100,+Staging!E136)","v":0},{"$f":"IF(ISBLANK(Staging!F136),-100,+Staging!F136)","v":0},{"$f":"IF(ISBLANK(Staging!G136),-100,+Staging!G136)","v":0},{"$f":"IF(ISBLANK(Staging!H136),-100,+Staging!H136)","v":0},{"$f":"IF(ISBLANK(Staging!I136),-100,+Staging!I136)","v":0},{"$f":"IF(ISBLANK(Staging!J136),-100,+Staging!J136)","v":0}]
[134,{"$f":"IF(ISBLANK(Staging!D137),-100,+Staging!D137)","v":0},{"$f":"IF(ISBLANK(Staging!E137),-100,+Staging!E137)","v":0},{"$f":"IF(ISBLANK(Staging!F137),-100,+Staging!F137)","v":0},{"$f":"IF(ISBLANK(Staging!G137),-100,+Staging!G137)","v":0},{"$f":"IF(ISBLANK(Staging!H137),-100,+Staging!H137)","v":0},{"$f":"IF(ISBLANK(Staging!I137),-100,+Staging!I137)","v":0},{"$f":"IF(ISBLANK(Staging!J137),-100,+Staging!J137)","v":0}]
[135,{"$f":"IF(ISBLANK(Staging!D138),-100,+Staging!D138)","v":0},{"$f":"IF(ISBLANK(Staging!E138),-100,+Staging!E138)","v":0},{"$f":"IF(ISBLANK(Staging!F138),-100,+Staging!F138)","v":0},{"$f":"IF(ISBLANK(Staging!G138),-100,+Staging!G138)","v":0},{"$f":"IF(ISBLANK(Staging!H138),-100,+Staging!H138)","v":0},{"$f":"IF(ISBLANK(Staging!I138),-100,+Staging!I138)","v":0},{"$f":"IF(ISBLANK(Staging!J138),-100,+Staging!J138)","v":0}]
[136,{"$f":"IF(ISBLANK(Staging!D139),-100,+Staging!D139)","v":0},{"$f":"IF(ISBLANK(Staging!E139),-100,+Staging!E139)","v":0},{"$f":"IF(ISBLANK(Staging!F139),-100,+Staging!F139)","v":0},{"$f":"IF(ISBLANK(Staging!G139),-100,+Staging!G139)","v":0},{"$f":"IF(ISBLANK(Staging!H139),-100,+Staging!H139)","v":0},{"$f":"IF(ISBLANK(Staging!I139),-100,+Staging!I139)","v":0},{"$f":"IF(ISBLANK(Staging!J139),-100,+Staging!J139)","v":0}]
[137,{"$f":"IF(ISBLANK(Staging!D140),-100,+Staging!D140)","v":0},{"$f":"IF(ISBLANK(Staging!E140),-100,+Staging!E140)","v":0},{"$f":"IF(ISBLANK(Staging!F140),-100,+Staging!F140)","v":0},{"$f":"IF(ISBLANK(Staging!G140),-100,+Staging!G140)","v":0},{"$f":"IF(ISBLANK(Staging!H140),-100,+Staging!H140)","v":0},{"$f":"IF(ISBLANK(Staging!I140),-100,+Staging!I140)","v":0},{"$f":"IF(ISBLANK(Staging!J140),-100,+Staging!J140)","v":0}]
[138,{"$f":"IF(ISBLANK(Staging!D141),-100,+Staging!D141)","v":0},{"$f":"IF(ISBLANK(Staging!E141),-100,+Staging!E141)","v":0},{"$f":"IF(ISBLANK(Staging!F141),-100,+Staging!F141)","v":0},{"$f":"IF(ISBLANK(Staging!G141),-100,+Staging!G141)","v":0},{"$f":"IF(ISBLANK(Staging!H141),-100,+Staging!H141)","v":0},{"$f":"IF(ISBLANK(Staging!I141),-100,+Staging!I141)","v":0},{"$f":"IF(ISBLANK(Staging!J141),-100,+Staging!J141)","v":0}]
[139,{"$f":"IF(ISBLANK(Staging!D142),-100,+Staging!D142)","v":0},{"$f":"IF(ISBLANK(Staging!E142),-100,+Staging!E142)","v":0},{"$f":"IF(ISBLANK(Staging!F142),-100,+Staging!F142)","v":0},{"$f":"IF(ISBLANK(Staging!G142),-100,+Staging!G142)","v":0},{"$f":"IF(ISBLANK(Staging!H142),-100,+Staging!H142)","v":0},{"$f":"IF(ISBLANK(Staging!I142),-100,+Staging!I142)","v":0},{"$f":"IF(ISBLANK(Staging!J142),-100,+Staging!J142)","v":0}]
[140,{"$f":"IF(ISBLANK(Staging!D143),-100,+Staging!D143)","v":0},{"$f":"IF(ISBLANK(Staging!E143),-100,+Staging!E143)","v":0},{"$f":"IF(ISBLANK(Staging!F143),-100,+Staging!F143)","v":0},{"$f":"IF(ISBLANK(Staging!G143),-100,+Staging!G143)","v":0},{"$f":"IF(ISBLANK(Staging!H143),-100,+Staging!H143)","v":0},{"$f":"IF(ISBLANK(Staging!I143),-100,+Staging!I143)","v":0},{"$f":"IF(ISBLANK(Staging!J143),-100,+Staging!J143)","v":0}]
[141,{"$f":"IF(ISBLANK(Staging!D144),-100,+Staging!D144)","v":0},{"$f":"IF(ISBLANK(Staging!E144),-100,+Staging!E144)","v":0},{"$f":"IF(ISBLANK(Staging!F144),-100,+Staging!F144)","v":0},{"$f":"IF(ISBLANK(Staging!G144),-100,+Staging!G144)","v":0},{"$f":"IF(ISBLANK(Staging!H144),-100,+Staging!H144)","v":0},{"$f":"IF(ISBLANK(Staging!I144),-100,+Staging!I144)","v":0},{"$f":"IF(ISBLANK(Staging!J144),-100,+Staging!J144)","v":0}]
[142,{"$f":"IF(ISBLANK(Staging!D145),-100,+Staging!D145)","v":0},{"$f":"IF(ISBLANK(Staging!E145),-100,+Staging!E145)","v":0},{"$f":"IF(ISBLANK(Staging!F145),-100,+Staging!F145)","v":0},{"$f":"IF(ISBLANK(Staging!G145),-100,+Staging!G145)","v":0},{"$f":"IF(ISBLANK(Staging!H145),-100,+Staging!H145)","v":0},{"$f":"IF(ISBLANK(Staging!I145),-100,+Staging!I145)","v":0},{"$f":"IF(ISBLANK(Staging!J145),-100,+Staging!J145)","v":0}]
[143,{"$f":"IF(ISBLANK(Staging!D146),-100,+Staging!D146)","v":0},{"$f":"IF(ISBLANK(Staging!E146),-100,+Staging!E146)","v":0},{"$f":"IF(ISBLANK(Staging!F146),-100,+Staging!F146)","v":0},{"$f":"IF(ISBLANK(Staging!G146),-100,+Staging!G146)","v":0},{"$f":"IF(ISBLANK(Staging!H146),-100,+Staging!H146)","v":0},{"$f":"IF(ISBLANK(Staging!I146),-100,+Staging!I146)","v":0},{"$f":"IF(ISBLANK(Staging!J146),-100,+Staging!J146)","v":0}]
[144,{"$f":"IF(ISBLANK(Staging!D147),-100,+Staging!D147)","v":0},{"$f":"IF(ISBLANK(Staging!E147),-100,+Staging!E147)","v":0},{"$f":"IF(ISBLANK(Staging!F147),-100,+Staging!F147)","v":0},{"$f":"IF(ISBLANK(Staging!G147),-100,+Staging!G147)","v":0},{"$f":"IF(ISBLANK(Staging!H147),-100,+Staging!H147)","v":0},{"$f":"IF(ISBLANK(Staging!I147),-100,+Staging!I147)","v":0},{"$f":"IF(ISBLANK(Staging!J147),-100,+Staging!J147)","v":0}]
[145,{"$f":"IF(ISBLANK(Staging!D148),-100,+Staging!D148)","v":0},{"$f":"IF(ISBLANK(Staging!E148),-100,+Staging!E148)","v":0},{"$f":"IF(ISBLANK(Staging!F148),-100,+Staging!F148)","v":0},{"$f":"IF(ISBLANK(Staging!G148),-100,+Staging!G148)","v":0},{"$f":"IF(ISBLANK(Staging!H148),-100,+Staging!H148)","v":0},{"$f":"IF(ISBLANK(Staging!I148),-100,+Staging!I148)","v":0},{"$f":"IF(ISBLANK(Staging!J148),-100,+Staging!J148)","v":0}]
[146,{"$f":"IF(ISBLANK(Staging!D149),-100,+Staging!D149)","v":0},{"$f":"IF(ISBLANK(Staging!E149),-100,+Staging!E149)","v":0},{"$f":"IF(ISBLANK(Staging!F149),-100,+Staging!F149)","v":0},{"$f":"IF(ISBLANK(Staging!G149),-100,+Staging!G149)","v":0},{"$f":"IF(ISBLANK(Staging!H149),-100,+Staging!H149)","v":0},{"$f":"IF(ISBLANK(Staging!I149),-100,+Staging!I149)","v":0},{"$f":"IF(ISBLANK(Staging!J149),-100,+Staging!J149)","v":0}]
[147,{"$f":"IF(ISBLANK(Staging!D150),-100,+Staging!D150)","v":0},{"$f":"IF(ISBLANK(Staging!E150),-100,+Staging!E150)","v":0},{"$f":"IF(ISBLANK(Staging!F150),-100,+Staging!F150)","v":0},{"$f":"IF(ISBLANK(Staging!G150),-100,+Staging!G150)","v":0},{"$f":"IF(ISBLANK(Staging!H150),-100,+Staging!H150)","v":0},{"$f":"IF(ISBLANK(Staging!I150),-100,+Staging!I150)","v":0},{"$f":"IF(ISBLANK(Staging!J150),-100,+Staging!J150)","v":0}]
[148,{"$f":"IF(ISBLANK(Staging!D151),-100,+Staging!D151)","v":0},{"$f":"IF(ISBLANK(Staging!E151),-100,+Staging!E151)","v":0},{"$f":"IF(ISBLANK(Staging!F151),-100,+Staging!F151)","v":0},{"$f":"IF(ISBLANK(Staging!G151),-100,+Staging!G151)","v":0},{"$f":"IF(ISBLANK(Staging!H151),-100,+Staging!H151)","v":0},{"$f":"IF(ISBLANK(Staging!I151),-100,+Staging!I151)","v":0},{"$f":"IF(ISBLANK(Staging!J151),-100,+Staging!J151)","v":0}]
[149,{"$f":"IF(ISBLANK(Staging!D152),-100,+Staging!D152)","v":0},{"$f":"IF(ISBLANK(Staging!E152),-100,+Staging!E152)","v":0},{"$f":"IF(ISBLANK(Staging!F152),-100,+Staging!F152)","v":0},{"$f":"IF(ISBLANK(Staging!G152),-100,+Staging!G152)","v":0},{"$f":"IF(ISBLANK(Staging!H152),-100,+Staging!H152)","v":0},{"$f":"IF(ISBLANK(Staging!I152),-100,+Staging!I152)","v":0},{"$f":"IF(ISBLANK(Staging!J152),-100,+Staging!J152)","v":0}]
[150,{"$f":"IF(ISBLANK(Staging!D153),-100,+Staging!D153)","v":0},{"$f":"IF(ISBLANK(Staging!E153),-100,+Staging!E153)","v":0},{"$f":"IF(ISBLANK(Staging!F153),-100,+Staging!F153)","v":0},{"$f":"IF(ISBLANK(Staging!G153),-100,+Staging!G153)","v":0},{"$f":"IF(ISBLANK(Staging!H153),-100,+Staging!H153)","v":0},{"$f":"IF(ISBLANK(Staging!I153),-100,+Staging!I153)","v":0},{"$f":"IF(ISBLANK(Staging!J153),-100,+Staging!J153)","v":0}]
[151,{"$f":"IF(ISBLANK(Staging!D154),-100,+Staging!D154)","v":0},{"$f":"IF(ISBLANK(Staging!E154),-100,+Staging!E154)","v":0},{"$f":"IF(ISBLANK(Staging!F154),-100,+Staging!F154)","v":0},{"$f":"IF(ISBLANK(Staging!G154),-100,+Staging!G154)","v":0},{"$f":"IF(ISBLANK(Staging!H154),-100,+Staging!H154)","v":0},{"$f":"IF(ISBLANK(Staging!I154),-100,+Staging!I154)","v":0},{"$f":"IF(ISBLANK(Staging!J154),-100,+Staging!J154)","v":0}]
[152,{"$f":"IF(ISBLANK(Staging!D155),-100,+Staging!D155)","v":0},{"$f":"IF(ISBLANK(Staging!E155),-100,+Staging!E155)","v":0},{"$f":"IF(ISBLANK(Staging!F155),-100,+Staging!F155)","v":0},{"$f":"IF(ISBLANK(Staging!G155),-100,+Staging!G155)","v":0},{"$f":"IF(ISBLANK(Staging!H155),-100,+Staging!H155)","v":0},{"$f":"IF(ISBLANK(Staging!I155),-100,+Staging!I155)","v":0},{"$f":"IF(ISBLANK(Staging!J155),-100,+Staging!J155)","v":0}]
[153,{"$f":"IF(ISBLANK(Staging!D156),-100,+Staging!D156)","v":0},{"$f":"IF(ISBLANK(Staging!E156),-100,+Staging!E156)","v":0},{"$f":"IF(ISBLANK(Staging!F156),-100,+Staging!F156)","v":0},{"$f":"IF(ISBLANK(Staging!G156),-100,+Staging!G156)","v":0},{"$f":"IF(ISBLANK(Staging!H156),-100,+Staging!H156)","v":0},{"$f":"IF(ISBLANK(Staging!I156),-100,+Staging!I156)","v":0},{"$f":"IF(ISBLANK(Staging!J156),-100,+Staging!J156)","v":0}]
[154,{"$f":"IF(ISBLANK(Staging!D157),-100,+Staging!D157)","v":0},{"$f":"IF(ISBLANK(Staging!E157),-100,+Staging!E157)","v":0},{"$f":"IF(ISBLANK(Staging!F157),-100,+Staging!F157)","v":0},{"$f":"IF(ISBLANK(Staging!G157),-100,+Staging!G157)","v":0},{"$f":"IF(ISBLANK(Staging!H157),-100,+Staging!H157)","v":0},{"$f":"IF(ISBLANK(Staging!I157),-100,+Staging!I157)","v":0},{"$f":"IF(ISBLANK(Staging!J157),-100,+Staging!J157)","v":0}]
[155,{"$f":"IF(ISBLANK(Staging!D158),-100,+Staging!D158)","v":0},{"$f":"IF(ISBLANK(Staging!E158),-100,+Staging!E158)","v":0},{"$f":"IF(ISBLANK(Staging!F158),-100,+Staging!F158)","v":0},{"$f":"IF(ISBLANK(Staging!G158),-100,+Staging!G158)","v":0},{"$f":"IF(ISBLANK(Staging!H158),-100,+Staging!H158)","v":0},{"$f":"IF(ISBLANK(Staging!I158),-100,+Staging!I158)","v":0},{"$f":"IF(ISBLANK(Staging!J158),-100,+Staging!J158)","v":0}]
[156,{"$f":"IF(ISBLANK(Staging!D159),-100,+Staging!D159)","v":0},{"$f":"IF(ISBLANK(Staging!E159),-100,+Staging!E159)","v":0},{"$f":"IF(ISBLANK(Staging!F159),-100,+Staging!F159)","v":0},{"$f":"IF(ISBLANK(Staging!G159),-100,+Staging!G159)","v":0},{"$f":"IF(ISBLANK(Staging!H159),-100,+Staging!H159)","v":0},{"$f":"IF(ISBLANK(Staging!I159),-100,+Staging!I159)","v":0},{"$f":"IF(ISBLANK(Staging!J159),-100,+Staging!J159)","v":0}]
[157,{"$f":"IF(ISBLANK(Staging!D160),-100,+Staging!D160)","v":0},{"$f":"IF(ISBLANK(Staging!E160),-100,+Staging!E160)","v":0},{"$f":"IF(ISBLANK(Staging!F160),-100,+Staging!F160)","v":0},{"$f":"IF(ISBLANK(Staging!G160),-100,+Staging!G160)","v":0},{"$f":"IF(ISBLANK(Staging!H160),-100,+Staging!H160)","v":0},{"$f":"IF(ISBLANK(Staging!I160),-100,+Staging!I160)","v":0},{"$f":"IF(ISBLANK(Staging!J160),-100,+Staging!J160)","v":0}]
[158,{"$f":"IF(ISBLANK(Staging!D161),-100,+Staging!D161)","v":0},{"$f":"IF(ISBLANK(Staging!E161),-100,+Staging!E161)","v":0},{"$f":"IF(ISBLANK(Staging!F161),-100,+Staging!F161)","v":0},{"$f":"IF(ISBLANK(Staging!G161),-100,+Staging!G161)","v":0},{"$f":"IF(ISBLANK(Staging!H161),-100,+Staging!H161)","v":0},{"$f":"IF(ISBLANK(Staging!I161),-100,+Staging!I161)","v":0},{"$f":"IF(ISBLANK(Staging!J161),-100,+Staging!J161)","v":0}]
[159,{"$f":"IF(ISBLANK(Staging!D162),-100,+Staging!D162)","v":0},{"$f":"IF(ISBLANK(Staging!E162),-100,+Staging!E162)","v":0},{"$f":"IF(ISBLANK(Staging!F162),-100,+Staging!F162)","v":0},{"$f":"IF(ISBLANK(Staging!G162),-100,+Staging!G162)","v":0},{"$f":"IF(ISBLANK(Staging!H162),-100,+Staging!H162)","v":0},{"$f":"IF(ISBLANK(Staging!I162),-100,+Staging!I162)","v":0},{"$f":"IF(ISBLANK(Staging!J162),-100,+Staging!J162)","v":0}]
[160,{"$f":"IF(ISBLANK(Staging!D163),-100,+Staging!D163)","v":0},{"$f":"IF(ISBLANK(Staging!E163),-100,+Staging!E163)","v":0},{"$f":"IF(ISBLANK(Staging!F163),-100,+Staging!F163)","v":0},{"$f":"IF(ISBLANK(Staging!G163),-100,+Staging!G163)","v":0},{"$f":"IF(ISBLANK(Staging!H163),-100,+Staging!H163)","v":0},{"$f":"IF(ISBLANK(Staging!I163),-100,+Staging!I163)","v":0},{"$f":"IF(ISBLANK(Staging!J163),-100,+Staging!J163)","v":0}]
[161,{"$f":"IF(ISBLANK(Staging!D164),-100,+Staging!D164)","v":0},{"$f":"IF(ISBLANK(Staging!E164),-100,+Staging!E164)","v":0},{"$f":"IF(ISBLANK(Staging!F164),-100,+Staging!F164)","v":0},{"$f":"IF(ISBLANK(Staging!G164),-100,+Staging!G164)","v":0},{"$f":"IF(ISBLANK(Staging!H164),-100,+Staging!H164)","v":0},{"$f":"IF(ISBLANK(Staging!I164),-100,+Staging!I164)","v":0},{"$f":"IF(ISBLANK(Staging!J164),-100,+Staging!J164)","v":0}]
[162,{"$f":"IF(ISBLANK(Staging!D165),-100,+Staging!D165)","v":0},{"$f":"IF(ISBLANK(Staging!E165),-100,+Staging!E165)","v":0},{"$f":"IF(ISBLANK(Staging!F165),-100,+Staging!F165)","v":0},{"$f":"IF(ISBLANK(Staging!G165),-100,+Staging!G165)","v":0},{"$f":"IF(ISBLANK(Staging!H165),-100,+Staging!H165)","v":0},{"$f":"IF(ISBLANK(Staging!I165),-100,+Staging!I165)","v":0},{"$f":"IF(ISBLANK(Staging!J165),-100,+Staging!J165)","v":0}]
[163,{"$f":"IF(ISBLANK(Staging!D166),-100,+Staging!D166)","v":0},{"$f":"IF(ISBLANK(Staging!E166),-100,+Staging!E166)","v":0},{"$f":"IF(ISBLANK(Staging!F166),-100,+Staging!F166)","v":0},{"$f":"IF(ISBLANK(Staging!G166),-100,+Staging!G166)","v":0},{"$f":"IF(ISBLANK(Staging!H166),-100,+Staging!H166)","v":0},{"$f":"IF(ISBLANK(Staging!I166),-100,+Staging!I166)","v":0},{"$f":"IF(ISBLANK(Staging!J166),-100,+Staging!J166)","v":0}]
[164,{"$f":"IF(ISBLANK(Staging!D167),-100,+Staging!D167)","v":0},{"$f":"IF(ISBLANK(Staging!E167),-100,+Staging!E167)","v":0},{"$f":"IF(ISBLANK(Staging!F167),-100,+Staging!F167)","v":0},{"$f":"IF(ISBLANK(Staging!G167),-100,+Staging!G167)","v":0},{"$f":"IF(ISBLANK(Staging!H167),-100,+Staging!H167)","v":0},{"$f":"IF(ISBLANK(Staging!I167),-100,+Staging!I167)","v":0},{"$f":"IF(ISBLANK(Staging!J167),-100,+Staging!J167)","v":0}]
[165,{"$f":"IF(ISBLANK(Staging!D168),-100,+Staging!D168)","v":0},{"$f":"IF(ISBLANK(Staging!E168),-100,+Staging!E168)","v":0},{"$f":"IF(ISBLANK(Staging!F168),-100,+Staging!F168)","v":0},{"$f":"IF(ISBLANK(Staging!G168),-100,+Staging!G168)","v":0},{"$f":"IF(ISBLANK(Staging!H168),-100,+Staging!H168)","v":0},{"$f":"IF(ISBLANK(Staging!I168),-100,+Staging!I168)","v":0},{"$f":"IF(ISBLANK(Staging!J168),-100,+Staging!J168)","v":0}]
[166,{"$f":"IF(ISBLANK(Staging!D169),-100,+Staging!D169)","v":0},{"$f":"IF(ISBLANK(Staging!E169),-100,+Staging!E169)","v":0},{"$f":"IF(ISBLANK(Staging!F169),-100,+Staging!F169)","v":0},{"$f":"IF(ISBLANK(Staging!G169),-100,+Staging!G169)","v":0},{"$f":"IF(ISBLANK(Staging!H169),-100,+Staging!H169)","v":0},{"$f":"IF(ISBLANK(Staging!I169),-100,+Staging!I169)","v":0},{"$f":"IF(ISBLANK(Staging!J169),-100,+Staging!J169)","v":0}]
[167,{"$f":"IF(ISBLANK(Staging!D170),-100,+Staging!D170)","v":0},{"$f":"IF(ISBLANK(Staging!E170),-100,+Staging!E170)","v":0},{"$f":"IF(ISBLANK(Staging!F170),-100,+Staging!F170)","v":0},{"$f":"IF(ISBLANK(Staging!G170),-100,+Staging!G170)","v":0},{"$f":"IF(ISBLANK(Staging!H170),-100,+Staging!H170)","v":0},{"$f":"IF(ISBLANK(Staging!I170),-100,+Staging!I170)","v":0},{"$f":"IF(ISBLANK(Staging!J170),-100,+Staging!J170)","v":0}]
[168,{"$f":"IF(ISBLANK(Staging!D171),-100,+Staging!D171)","v":0},{"$f":"IF(ISBLANK(Staging!E171),-100,+Staging!E171)","v":0},{"$f":"IF(ISBLANK(Staging!F171),-100,+Staging!F171)","v":0},{"$f":"IF(ISBLANK(Staging!G171),-100,+Staging!G171)","v":0},{"$f":"IF(ISBLANK(Staging!H171),-100,+Staging!H171)","v":0},{"$f":"IF(ISBLANK(Staging!I171),-100,+Staging!I171)","v":0},{"$f":"IF(ISBLANK(Staging!J171),-100,+Staging!J171)","v":0}]
[169,{"$f":"IF(ISBLANK(Staging!D172),-100,+Staging!D172)","v":0},{"$f":"IF(ISBLANK(Staging!E172),-100,+Staging!E172)","v":0},{"$f":"IF(ISBLANK(Staging!F172),-100,+Staging!F172)","v":0},{"$f":"IF(ISBLANK(Staging!G172),-100,+Staging!G172)","v":0},{"$f":"IF(ISBLANK(Staging!H172),-100,+Staging!H172)","v":0},{"$f":"IF(ISBLANK(Staging!I172),-100,+Staging!I172)","v":0},{"$f":"IF(ISBLANK(Staging!J172),-100,+Staging!J172)","v":0}]
[170,{"$f":"IF(ISBLANK(Staging!D173),-100,+Staging!D173)","v":0},{"$f":"IF(ISBLANK(Staging!E173),-100,+Staging!E173)","v":0},{"$f":"IF(ISBLANK(Staging!F173),-100,+Staging!F173)","v":0},{"$f":"IF(ISBLANK(Staging!G173),-100,+Staging!G173)","v":0},{"$f":"IF(ISBLANK(Staging!H173),-100,+Staging!H173)","v":0},{"$f":"IF(ISBLANK(Staging!I173),-100,+Staging!I173)","v":0},{"$f":"IF(ISBLANK(Staging!J173),-100,+Staging!J173)","v":0}]
[171,{"$f":"IF(ISBLANK(Staging!D174),-100,+Staging!D174)","v":0},{"$f":"IF(ISBLANK(Staging!E174),-100,+Staging!E174)","v":0},{"$f":"IF(ISBLANK(Staging!F174),-100,+Staging!F174)","v":0},{"$f":"IF(ISBLANK(Staging!G174),-100,+Staging!G174)","v":0},{"$f":"IF(ISBLANK(Staging!H174),-100,+Staging!H174)","v":0},{"$f":"IF(ISBLANK(Staging!I174),-100,+Staging!I174)","v":0},{"$f":"IF(ISBLANK(Staging!J174),-100,+Staging!J174)","v":0}]
[172,{"$f":"IF(ISBLANK(Staging!D175),-100,+Staging!D175)","v":0},{"$f":"IF(ISBLANK(Staging!E175),-100,+Staging!E175)","v":0},{"$f":"IF(ISBLANK(Staging!F175),-100,+Staging!F175)","v":0},{"$f":"IF(ISBLANK(Staging!G175),-100,+Staging!G175)","v":0},{"$f":"IF(ISBLANK(Staging!H175),-100,+Staging!H175)","v":0},{"$f":"IF(ISBLANK(Staging!I175),-100,+Staging!I175)","v":0},{"$f":"IF(ISBLANK(Staging!J175),-100,+Staging!J175)","v":0}]
[173,{"$f":"IF(ISBLANK(Staging!D176),-100,+Staging!D176)","v":0},{"$f":"IF(ISBLANK(Staging!E176),-100,+Staging!E176)","v":0},{"$f":"IF(ISBLANK(Staging!F176),-100,+Staging!F176)","v":0},{"$f":"IF(ISBLANK(Staging!G176),-100,+Staging!G176)","v":0},{"$f":"IF(ISBLANK(Staging!H176),-100,+Staging!H176)","v":0},{"$f":"IF(ISBLANK(Staging!I176),-100,+Staging!I176)","v":0},{"$f":"IF(ISBLANK(Staging!J176),-100,+Staging!J176)","v":0}]
[174,{"$f":"IF(ISBLANK(Staging!D177),-100,+Staging!D177)","v":0},{"$f":"IF(ISBLANK(Staging!E177),-100,+Staging!E177)","v":0},{"$f":"IF(ISBLANK(Staging!F177),-100,+Staging!F177)","v":0},{"$f":"IF(ISBLANK(Staging!G177),-100,+Staging!G177)","v":0},{"$f":"IF(ISBLANK(Staging!H177),-100,+Staging!H177)","v":0},{"$f":"IF(ISBLANK(Staging!I177),-100,+Staging!I177)","v":0},{"$f":"IF(ISBLANK(Staging!J177),-100,+Staging!J177)","v":0}]
[175,{"$f":"IF(ISBLANK(Staging!D178),-100,+Staging!D178)","v":0},{"$f":"IF(ISBLANK(Staging!E178),-100,+Staging!E178)","v":0},{"$f":"IF(ISBLANK(Staging!F178),-100,+Staging!F178)","v":0},{"$f":"IF(ISBLANK(Staging!G178),-100,+Staging!G178)","v":0},{"$f":"IF(ISBLANK(Staging!H178),-100,+Staging!H178)","v":0},{"$f":"IF(ISBLANK(Staging!I178),-100,+Staging!I178)","v":0},{"$f":"IF(ISBLANK(Staging!J178),-100,+Staging!J178)","v":0}]
[176,{"$f":"IF(ISBLANK(Staging!D179),-100,+Staging!D179)","v":0},{"$f":"IF(ISBLANK(Staging!E179),-100,+Staging!E179)","v":0},{"$f":"IF(ISBLANK(Staging!F179),-100,+Staging!F179)","v":0},{"$f":"IF(ISBLANK(Staging!G179),-100,+Staging!G179)","v":0},{"$f":"IF(ISBLANK(Staging!H179),-100,+Staging!H179)","v":0},{"$f":"IF(ISBLANK(Staging!I179),-100,+Staging!I179)","v":0},{"$f":"IF(ISBLANK(Staging!J179),-100,+Staging!J179)","v":0}]
[177,{"$f":"IF(ISBLANK(Staging!D180),-100,+Staging!D180)","v":0},{"$f":"IF(ISBLANK(Staging!E180),-100,+Staging!E180)","v":0},{"$f":"IF(ISBLANK(Staging!F180),-100,+Staging!F180)","v":0},{"$f":"IF(ISBLANK(Staging!G180),-100,+Staging!G180)","v":0},{"$f":"IF(ISBLANK(Staging!H180),-100,+Staging!H180)","v":0},{"$f":"IF(ISBLANK(Staging!I180),-100,+Staging!I180)","v":0},{"$f":"IF(ISBLANK(Staging!J180),-100,+Staging!J180)","v":0}]
[178,{"$f":"IF(ISBLANK(Staging!D181),-100,+Staging!D181)","v":0},{"$f":"IF(ISBLANK(Staging!E181),-100,+Staging!E181)","v":0},{"$f":"IF(ISBLANK(Staging!F181),-100,+Staging!F181)","v":0},{"$f":"IF(ISBLANK(Staging!G181),-100,+Staging!G181)","v":0},{"$f":"IF(ISBLANK(Staging!H181),-100,+Staging!H181)","v":0},{"$f":"IF(ISBLANK(Staging!I181),-100,+Staging!I181)","v":0},{"$f":"IF(ISBLANK(Staging!J181),-100,+Staging!J181)","v":0}]
[179,{"$f":"IF(ISBLANK(Staging!D182),-100,+Staging!D182)","v":0},{"$f":"IF(ISBLANK(Staging!E182),-100,+Staging!E182)","v":0},{"$f":"IF(ISBLANK(Staging!F182),-100,+Staging!F182)","v":0},{"$f":"IF(ISBLANK(Staging!G182),-100,+Staging!G182)","v":0},{"$f":"IF(ISBLANK(Staging!H182),-100,+Staging!H182)","v":0},{"$f":"IF(ISBLANK(Staging!I182),-100,+Staging!I182)","v":0},{"$f":"IF(ISBLANK(Staging!J182),-100,+Staging!J182)","v":0}]
[180,{"$f":"IF(ISBLANK(Staging!D183),-100,+Staging!D183)","v":0},{"$f":"IF(ISBLANK(Staging!E183),-100,+Staging!E183)","v":0},{"$f":"IF(ISBLANK(Staging!F183),-100,+Staging!F183)","v":0},{"$f":"IF(ISBLANK(Staging!G183),-100,+Staging!G183)","v":0},{"$f":"IF(ISBLANK(Staging!H183),-100,+Staging!H183)","v":0},{"$f":"IF(ISBLANK(Staging!I183),-100,+Staging!I183)","v":0},{"$f":"IF(ISBLANK(Staging!J183),-100,+Staging!J183)","v":0}]
[181,{"$f":"IF(ISBLANK(Staging!D184),-100,+Staging!D184)","v":0},{"$f":"IF(ISBLANK(Staging!E184),-100,+Staging!E184)","v":0},{"$f":"IF(ISBLANK(Staging!F184),-100,+Staging!F184)","v":0},{"$f":"IF(ISBLANK(Staging!G184),-100,+Staging!G184)","v":0},{"$f":"IF(ISBLANK(Staging!H184),-100,+Staging!H184)","v":0},{"$f":"IF(ISBLANK(Staging!I184),-100,+Staging!I184)","v":0},{"$f":"IF(ISBLANK(Staging!J184),-100,+Staging!J184)","v":0}]
[182,{"$f":"IF(ISBLANK(Staging!D185),-100,+Staging!D185)","v":0},{"$f":"IF(ISBLANK(Staging!E185),-100,+Staging!E185)","v":0},{"$f":"IF(ISBLANK(Staging!F185),-100,+Staging!F185)","v":0},{"$f":"IF(ISBLANK(Staging!G185),-100,+Staging!G185)","v":0},{"$f":"IF(ISBLANK(Staging!H185),-100,+Staging!H185)","v":0},{"$f":"IF(ISBLANK(Staging!I185),-100,+Staging!I185)","v":0},{"$f":"IF(ISBLANK(Staging!J185),-100,+Staging!J185)","v":0}]
[183,{"$f":"IF(ISBLANK(Staging!D186),-100,+Staging!D186)","v":0},{"$f":"IF(ISBLANK(Staging!E186),-100,+Staging!E186)","v":0},{"$f":"IF(ISBLANK(Staging!F186),-100,+Staging!F186)","v":0},{"$f":"IF(ISBLANK(Staging!G186),-100,+Staging!G186)","v":0},{"$f":"IF(ISBLANK(Staging!H186),-100,+Staging!H186)","v":0},{"$f":"IF(ISBLANK(Staging!I186),-100,+Staging!I186)","v":0},{"$f":"IF(ISBLANK(Staging!J186),-100,+Staging!J186)","v":0}]
[184,{"$f":"IF(ISBLANK(Staging!D187),-100,+Staging!D187)","v":0},{"$f":"IF(ISBLANK(Staging!E187),-100,+Staging!E187)","v":0},{"$f":"IF(ISBLANK(Staging!F187),-100,+Staging!F187)","v":0},{"$f":"IF(ISBLANK(Staging!G187),-100,+Staging!G187)","v":0},{"$f":"IF(ISBLANK(Staging!H187),-100,+Staging!H187)","v":0},{"$f":"IF(ISBLANK(Staging!I187),-100,+Staging!I187)","v":0},{"$f":"IF(ISBLANK(Staging!J187),-100,+Staging!J187)","v":0}]
[185,{"$f":"IF(ISBLANK(Staging!D188),-100,+Staging!D188)","v":0},{"$f":"IF(ISBLANK(Staging!E188),-100,+Staging!E188)","v":0},{"$f":"IF(ISBLANK(Staging!F188),-100,+Staging!F188)","v":0},{"$f":"IF(ISBLANK(Staging!G188),-100,+Staging!G188)","v":0},{"$f":"IF(ISBLANK(Staging!H188),-100,+Staging!H188)","v":0},{"$f":"IF(ISBLANK(Staging!I188),-100,+Staging!I188)","v":0},{"$f":"IF(ISBLANK(Staging!J188),-100,+Staging!J188)","v":0}]
[186,{"$f":"IF(ISBLANK(Staging!D189),-100,+Staging!D189)","v":0},{"$f":"IF(ISBLANK(Staging!E189),-100,+Staging!E189)","v":0},{"$f":"IF(ISBLANK(Staging!F189),-100,+Staging!F189)","v":0},{"$f":"IF(ISBLANK(Staging!G189),-100,+Staging!G189)","v":0},{"$f":"IF(ISBLANK(Staging!H189),-100,+Staging!H189)","v":0},{"$f":"IF(ISBLANK(Staging!I189),-100,+Staging!I189)","v":0},{"$f":"IF(ISBLANK(Staging!J189),-100,+Staging!J189)","v":0}]
[187,{"$f":"IF(ISBLANK(Staging!D190),-100,+Staging!D190)","v":0},{"$f":"IF(ISBLANK(Staging!E190),-100,+Staging!E190)","v":0},{"$f":"IF(ISBLANK(Staging!F190),-100,+Staging!F190)","v":0},{"$f":"IF(ISBLANK(Staging!G190),-100,+Staging!G190)","v":0},{"$f":"IF(ISBLANK(Staging!H190),-100,+Staging!H190)","v":0},{"$f":"IF(ISBLANK(Staging!I190),-100,+Staging!I190)","v":0},{"$f":"IF(ISBLANK(Staging!J190),-100,+Staging!J190)","v":0}]
[188,{"$f":"IF(ISBLANK(Staging!D191),-100,+Staging!D191)","v":0},{"$f":"IF(ISBLANK(Staging!E191),-100,+Staging!E191)","v":0},{"$f":"IF(ISBLANK(Staging!F191),-100,+Staging!F191)","v":0},{"$f":"IF(ISBLANK(Staging!G191),-100,+Staging!G191)","v":0},{"$f":"IF(ISBLANK(Staging!H191),-100,+Staging!H191)","v":0},{"$f":"IF(ISBLANK(Staging!I191),-100,+Staging!I191)","v":0},{"$f":"IF(ISBLANK(Staging!J191),-100,+Staging!J191)","v":0}]
[189,{"$f":"IF(ISBLANK(Staging!D192),-100,+Staging!D192)","v":0},{"$f":"IF(ISBLANK(Staging!E192),-100,+Staging!E192)","v":0},{"$f":"IF(ISBLANK(Staging!F192),-100,+Staging!F192)","v":0},{"$f":"IF(ISBLANK(Staging!G192),-100,+Staging!G192)","v":0},{"$f":"IF(ISBLANK(Staging!H192),-100,+Staging!H192)","v":0},{"$f":"IF(ISBLANK(Staging!I192),-100,+Staging!I192)","v":0},{"$f":"IF(ISBLANK(Staging!J192),-100,+Staging!J192)","v":0}]
[190,{"$f":"IF(ISBLANK(Staging!D193),-100,+Staging!D193)","v":0},{"$f":"IF(ISBLANK(Staging!E193),-100,+Staging!E193)","v":0},{"$f":"IF(ISBLANK(Staging!F193),-100,+Staging!F193)","v":0},{"$f":"IF(ISBLANK(Staging!G193),-100,+Staging!G193)","v":0},{"$f":"IF(ISBLANK(Staging!H193),-100,+Staging!H193)","v":0},{"$f":"IF(ISBLANK(Staging!I193),-100,+Staging!I193)","v":0},{"$f":"IF(ISBLANK(Staging!J193),-100,+Staging!J193)","v":0}]
[191,{"$f":"IF(ISBLANK(Staging!D194),-100,+Staging!D194)","v":0},{"$f":"IF(ISBLANK(Staging!E194),-100,+Staging!E194)","v":0},{"$f":"IF(ISBLANK(Staging!F194),-100,+Staging!F194)","v":0},{"$f":"IF(ISBLANK(Staging!G194),-100,+Staging!G194)","v":0},{"$f":"IF(ISBLANK(Staging!H194),-100,+Staging!H194)","v":0},{"$f":"IF(ISBLANK(Staging!I194),-100,+Staging!I194)","v":0},{"$f":"IF(ISBLANK(Staging!J194),-100,+Staging!J194)","v":0}]
[192,{"$f":"IF(ISBLANK(Staging!D195),-100,+Staging!D195)","v":0},{"$f":"IF(ISBLANK(Staging!E195),-100,+Staging!E195)","v":0},{"$f":"IF(ISBLANK(Staging!F195),-100,+Staging!F195)","v":0},{"$f":"IF(ISBLANK(Staging!G195),-100,+Staging!G195)","v":0},{"$f":"IF(ISBLANK(Staging!H195),-100,+Staging!H195)","v":0},{"$f":"IF(ISBLANK(Staging!I195),-100,+Staging!I195)","v":0},{"$f":"IF(ISBLANK(Staging!J195),-100,+Staging!J195)","v":0}]
[193,{"$f":"IF(ISBLANK(Staging!D196),-100,+Staging!D196)","v":0},{"$f":"IF(ISBLANK(Staging!E196),-100,+Staging!E196)","v":0},{"$f":"IF(ISBLANK(Staging!F196),-100,+Staging!F196)","v":0},{"$f":"IF(ISBLANK(Staging!G196),-100,+Staging!G196)","v":0},{"$f":"IF(ISBLANK(Staging!H196),-100,+Staging!H196)","v":0},{"$f":"IF(ISBLANK(Staging!I196),-100,+Staging!I196)","v":0},{"$f":"IF(ISBLANK(Staging!J196),-100,+Staging!J196)","v":0}]
[194,{"$f":"IF(ISBLANK(Staging!D197),-100,+Staging!D197)","v":0},{"$f":"IF(ISBLANK(Staging!E197),-100,+Staging!E197)","v":0},{"$f":"IF(ISBLANK(Staging!F197),-100,+Staging!F197)","v":0},{"$f":"IF(ISBLANK(Staging!G197),-100,+Staging!G197)","v":0},{"$f":"IF(ISBLANK(Staging!H197),-100,+Staging!H197)","v":0},{"$f":"IF(ISBLANK(Staging!I197),-100,+Staging!I197)","v":0},{"$f":"IF(ISBLANK(Staging!J197),-100,+Staging!J197)","v":0}]
[195,{"$f":"IF(ISBLANK(Staging!D198),-100,+Staging!D198)","v":0},{"$f":"IF(ISBLANK(Staging!E198),-100,+Staging!E198)","v":0},{"$f":"IF(ISBLANK(Staging!F198),-100,+Staging!F198)","v":0},{"$f":"IF(ISBLANK(Staging!G198),-100,+Staging!G198)","v":0},{"$f":"IF(ISBLANK(Staging!H198),-100,+Staging!H198)","v":0},{"$f":"IF(ISBLANK(Staging!I198),-100,+Staging!I198)","v":0},{"$f":"IF(ISBLANK(Staging!J198),-100,+Staging!J198)","v":0}]
[196,{"$f":"IF(ISBLANK(Staging!D199),-100,+Staging!D199)","v":0},{"$f":"IF(ISBLANK(Staging!E199),-100,+Staging!E199)","v":0},{"$f":"IF(ISBLANK(Staging!F199),-100,+Staging!F199)","v":0},{"$f":"IF(ISBLANK(Staging!G199),-100,+Staging!G199)","v":0},{"$f":"IF(ISBLANK(Staging!H199),-100,+Staging!H199)","v":0},{"$f":"IF(ISBLANK(Staging!I199),-100,+Staging!I199)","v":0},{"$f":"IF(ISBLANK(Staging!J199),-100,+Staging!J199)","v":0}]
[197,{"$f":"IF(ISBLANK(Staging!D200),-100,+Staging!D200)","v":0},{"$f":"IF(ISBLANK(Staging!E200),-100,+Staging!E200)","v":0},{"$f":"IF(ISBLANK(Staging!F200),-100,+Staging!F200)","v":0},{"$f":"IF(ISBLANK(Staging!G200),-100,+Staging!G200)","v":0},{"$f":"IF(ISBLANK(Staging!H200),-100,+Staging!H200)","v":0},{"$f":"IF(ISBLANK(Staging!I200),-100,+Staging!I200)","v":0},{"$f":"IF(ISBLANK(Staging!J200),-100,+Staging!J200)","v":0}]
[198,{"$f":"IF(ISBLANK(Staging!D201),-100,+Staging!D201)","v":0},{"$f":"IF(ISBLANK(Staging!E201),-100,+Staging!E201)","v":0},{"$f":"IF(ISBLANK(Staging!F201),-100,+Staging!F201)","v":0},{"$f":"IF(ISBLANK(Staging!G201),-100,+Staging!G201)","v":0},{"$f":"IF(ISBLANK(Staging!H201),-100,+Staging!H201)","v":0},{"$f":"IF(ISBLANK(Staging!I201),-100,+Staging!I201)","v":0},{"$f":"IF(ISBLANK(Staging!J201),-100,+Staging!J201)","v":0}]
[199,{"$f":"IF(ISBLANK(Staging!D202),-100,+Staging!D202)","v":0},{"$f":"IF(ISBLANK(Staging!E202),-100,+Staging!E202)","v":0},{"$f":"IF(ISBLANK(Staging!F202),-100,+Staging!F202)","v":0},{"$f":"IF(ISBLANK(Staging!G202),-100,+Staging!G202)","v":0},{"$f":"IF(ISBLANK(Staging!H202),-100,+Staging!H202)","v":0},{"$f":"IF(ISBLANK(Staging!I202),-100,+Staging!I202)","v":0},{"$f":"IF(ISBLANK(Staging!J202),-100,+Staging!J202)","v":0}]
[200,{"$f":"IF(ISBLANK(Staging!D203),-100,+Staging!D203)","v":0},{"$f":"IF(ISBLANK(Staging!E203),-100,+Staging!E203)","v":0},{"$f":"IF(ISBLANK(Staging!F203),-100,+Staging!F203)","v":0},{"$f":"IF(ISBLANK(Staging!G203),-100,+Staging!G203)","v":0},{"$f":"IF(ISBLANK(Staging!H203),-100,+Staging!H203)","v":0},{"$f":"IF(ISBLANK(Staging!I203),-100,+Staging!I203)","v":0},{"$f":"IF(ISBLANK(Staging!J203),-100,+Staging!J203)","v":0}]
[201,{"$f":"IF(ISBLANK(Staging!D204),-100,+Staging!D204)","v":0},{"$f":"IF(ISBLANK(Staging!E204),-100,+Staging!E204)","v":0},{"$f":"IF(ISBLANK(Staging!F204),-100,+Staging!F204)","v":0},{"$f":"IF(ISBLANK(Staging!G204),-100,+Staging!G204)","v":0},{"$f":"IF(ISBLANK(Staging!H204),-100,+Staging!H204)","v":0},{"$f":"IF(ISBLANK(Staging!I204),-100,+Staging!I204)","v":0},{"$f":"IF(ISBLANK(Staging!J204),-100,+Staging!J204)","v":0}]
[202,{"$f":"IF(ISBLANK(Staging!D205),-100,+Staging!D205)","v":0},{"$f":"IF(ISBLANK(Staging!E205),-100,+Staging!E205)","v":0},{"$f":"IF(ISBLANK(Staging!F205),-100,+Staging!F205)","v":0},{"$f":"IF(ISBLANK(Staging!G205),-100,+Staging!G205)","v":0},{"$f":"IF(ISBLANK(Staging!H205),-100,+Staging!H205)","v":0},{"$f":"IF(ISBLANK(Staging!I205),-100,+Staging!I205)","v":0},{"$f":"IF(ISBLANK(Staging!J205),-100,+Staging!J205)","v":0}]
[203,{"$f":"IF(ISBLANK(Staging!D206),-100,+Staging!D206)","v":0},{"$f":"IF(ISBLANK(Staging!E206),-100,+Staging!E206)","v":0},{"$f":"IF(ISBLANK(Staging!F206),-100,+Staging!F206)","v":0},{"$f":"IF(ISBLANK(Staging!G206),-100,+Staging!G206)","v":0},{"$f":"IF(ISBLANK(Staging!H206),-100,+Staging!H206)","v":0},{"$f":"IF(ISBLANK(Staging!I206),-100,+Staging!I206)","v":0},{"$f":"IF(ISBLANK(Staging!J206),-100,+Staging!J206)","v":0}]
[204,{"$f":"IF(ISBLANK(Staging!D207),-100,+Staging!D207)","v":0},{"$f":"IF(ISBLANK(Staging!E207),-100,+Staging!E207)","v":0},{"$f":"IF(ISBLANK(Staging!F207),-100,+Staging!F207)","v":0},{"$f":"IF(ISBLANK(Staging!G207),-100,+Staging!G207)","v":0},{"$f":"IF(ISBLANK(Staging!H207),-100,+Staging!H207)","v":0},{"$f":"IF(ISBLANK(Staging!I207),-100,+Staging!I207)","v":0},{"$f":"IF(ISBLANK(Staging!J207),-100,+Staging!J207)","v":0}]
[205,{"$f":"IF(ISBLANK(Staging!D208),-100,+Staging!D208)","v":0},{"$f":"IF(ISBLANK(Staging!E208),-100,+Staging!E208)","v":0},{"$f":"IF(ISBLANK(Staging!F208),-100,+Staging!F208)","v":0},{"$f":"IF(ISBLANK(Staging!G208),-100,+Staging!G208)","v":0},{"$f":"IF(ISBLANK(Staging!H208),-100,+Staging!H208)","v":0},{"$f":"IF(ISBLANK(Staging!I208),-100,+Staging!I208)","v":0},{"$f":"IF(ISBLANK(Staging!J208),-100,+Staging!J208)","v":0}]
[206,{"$f":"IF(ISBLANK(Staging!D209),-100,+Staging!D209)","v":0},{"$f":"IF(ISBLANK(Staging!E209),-100,+Staging!E209)","v":0},{"$f":"IF(ISBLANK(Staging!F209),-100,+Staging!F209)","v":0},{"$f":"IF(ISBLANK(Staging!G209),-100,+Staging!G209)","v":0},{"$f":"IF(ISBLANK(Staging!H209),-100,+Staging!H209)","v":0},{"$f":"IF(ISBLANK(Staging!I209),-100,+Staging!I209)","v":0},{"$f":"IF(ISBLANK(Staging!J209),-100,+Staging!J209)","v":0}]
[207,{"$f":"IF(ISBLANK(Staging!D210),-100,+Staging!D210)","v":0},{"$f":"IF(ISBLANK(Staging!E210),-100,+Staging!E210)","v":0},{"$f":"IF(ISBLANK(Staging!F210),-100,+Staging!F210)","v":0},{"$f":"IF(ISBLANK(Staging!G210),-100,+Staging!G210)","v":0},{"$f":"IF(ISBLANK(Staging!H210),-100,+Staging!H210)","v":0},{"$f":"IF(ISBLANK(Staging!I210),-100,+Staging!I210)","v":0},{"$f":"IF(ISBLANK(Staging!J210),-100,+Staging!J210)","v":0}]
[208,{"$f":"IF(ISBLANK(Staging!D211),-100,+Staging!D211)","v":0},{"$f":"IF(ISBLANK(Staging!E211),-100,+Staging!E211)","v":0},{"$f":"IF(ISBLANK(Staging!F211),-100,+Staging!F211)","v":0},{"$f":"IF(ISBLANK(Staging!G211),-100,+Staging!G211)","v":0},{"$f":"IF(ISBLANK(Staging!H211),-100,+Staging!H211)","v":0},{"$f":"IF(ISBLANK(Staging!I211),-100,+Staging!I211)","v":0},{"$f":"IF(ISBLANK(Staging!J211),-100,+Staging!J211)","v":0}]
[209,{"$f":"IF(ISBLANK(Staging!D212),-100,+Staging!D212)","v":0},{"$f":"IF(ISBLANK(Staging!E212),-100,+Staging!E212)","v":0},{"$f":"IF(ISBLANK(Staging!F212),-100,+Staging!F212)","v":0},{"$f":"IF(ISBLANK(Staging!G212),-100,+Staging!G212)","v":0},{"$f":"IF(ISBLANK(Staging!H212),-100,+Staging!H212)","v":0},{"$f":"IF(ISBLANK(Staging!I212),-100,+Staging!I212)","v":0},{"$f":"IF(ISBLANK(Staging!J212),-100,+Staging!J212)","v":0}]
[210,{"$f":"IF(ISBLANK(Staging!D213),-100,+Staging!D213)","v":0},{"$f":"IF(ISBLANK(Staging!E213),-100,+Staging!E213)","v":0},{"$f":"IF(ISBLANK(Staging!F213),-100,+Staging!F213)","v":0},{"$f":"IF(ISBLANK(Staging!G213),-100,+Staging!G213)","v":0},{"$f":"IF(ISBLANK(Staging!H213),-100,+Staging!H213)","v":0},{"$f":"IF(ISBLANK(Staging!I213),-100,+Staging!I213)","v":0},{"$f":"IF(ISBLANK(Staging!J213),-100,+Staging!J213)","v":0}]
[211,{"$f":"IF(ISBLANK(Staging!D214),-100,+Staging!D214)","v":0},{"$f":"IF(ISBLANK(Staging!E214),-100,+Staging!E214)","v":0},{"$f":"IF(ISBLANK(Staging!F214),-100,+Staging!F214)","v":0},{"$f":"IF(ISBLANK(Staging!G214),-100,+Staging!G214)","v":0},{"$f":"IF(ISBLANK(Staging!H214),-100,+Staging!H214)","v":0},{"$f":"IF(ISBLANK(Staging!I214),-100,+Staging!I214)","v":0},{"$f":"IF(ISBLANK(Staging!J214),-100,+Staging!J214)","v":0}]
[212,{"$f":"IF(ISBLANK(Staging!D215),-100,+Staging!D215)","v":0},{"$f":"IF(ISBLANK(Staging!E215),-100,+Staging!E215)","v":0},{"$f":"IF(ISBLANK(Staging!F215),-100,+Staging!F215)","v":0},{"$f":"IF(ISBLANK(Staging!G215),-100,+Staging!G215)","v":0},{"$f":"IF(ISBLANK(Staging!H215),-100,+Staging!H215)","v":0},{"$f":"IF(ISBLANK(Staging!I215),-100,+Staging!I215)","v":0},{"$f":"IF(ISBLANK(Staging!J215),-100,+Staging!J215)","v":0}]
[213,{"$f":"IF(ISBLANK(Staging!D216),-100,+Staging!D216)","v":0},{"$f":"IF(ISBLANK(Staging!E216),-100,+Staging!E216)","v":0},{"$f":"IF(ISBLANK(Staging!F216),-100,+Staging!F216)","v":0},{"$f":"IF(ISBLANK(Staging!G216),-100,+Staging!G216)","v":0},{"$f":"IF(ISBLANK(Staging!H216),-100,+Staging!H216)","v":0},{"$f":"IF(ISBLANK(Staging!I216),-100,+Staging!I216)","v":0},{"$f":"IF(ISBLANK(Staging!J216),-100,+Staging!J216)","v":0}]
[214,{"$f":"IF(ISBLANK(Staging!D217),-100,+Staging!D217)","v":0},{"$f":"IF(ISBLANK(Staging!E217),-100,+Staging!E217)","v":0},{"$f":"IF(ISBLANK(Staging!F217),-100,+Staging!F217)","v":0},{"$f":"IF(ISBLANK(Staging!G217),-100,+Staging!G217)","v":0},{"$f":"IF(ISBLANK(Staging!H217),-100,+Staging!H217)","v":0},{"$f":"IF(ISBLANK(Staging!I217),-100,+Staging!I217)","v":0},{"$f":"IF(ISBLANK(Staging!J217),-100,+Staging!J217)","v":0}]
[215,{"$f":"IF(ISBLANK(Staging!D218),-100,+Staging!D218)","v":0},{"$f":"IF(ISBLANK(Staging!E218),-100,+Staging!E218)","v":0},{"$f":"IF(ISBLANK(Staging!F218),-100,+Staging!F218)","v":0},{"$f":"IF(ISBLANK(Staging!G218),-100,+Staging!G218)","v":0},{"$f":"IF(ISBLANK(Staging!H218),-100,+Staging!H218)","v":0},{"$f":"IF(ISBLANK(Staging!I218),-100,+Staging!I218)","v":0},{"$f":"IF(ISBLANK(Staging!J218),-100,+Staging!J218)","v":0}]
[216,{"$f":"IF(ISBLANK(Staging!D219),-100,+Staging!D219)","v":0},{"$f":"IF(ISBLANK(Staging!E219),-100,+Staging!E219)","v":0},{"$f":"IF(ISBLANK(Staging!F219),-100,+Staging!F219)","v":0},{"$f":"IF(ISBLANK(Staging!G219),-100,+Staging!G219)","v":0},{"$f":"IF(ISBLANK(Staging!H219),-100,+Staging!H219)","v":0},{"$f":"IF(ISBLANK(Staging!I219),-100,+Staging!I219)","v":0},{"$f":"IF(ISBLANK(Staging!J219),-100,+Staging!J219)","v":0}]
[217,{"$f":"IF(ISBLANK(Staging!D220),-100,+Staging!D220)","v":0},{"$f":"IF(ISBLANK(Staging!E220),-100,+Staging!E220)","v":0},{"$f":"IF(ISBLANK(Staging!F220),-100,+Staging!F220)","v":0},{"$f":"IF(ISBLANK(Staging!G220),-100,+Staging!G220)","v":0},{"$f":"IF(ISBLANK(Staging!H220),-100,+Staging!H220)","v":0},{"$f":"IF(ISBLANK(Staging!I220),-100,+Staging!I220)","v":0},{"$f":"IF(ISBLANK(Staging!J220),-100,+Staging!J220)","v":0}]
[218,{"$f":"IF(ISBLANK(Staging!D221),-100,+Staging!D221)","v":0},{"$f":"IF(ISBLANK(Staging!E221),-100,+Staging!E221)","v":0},{"$f":"IF(ISBLANK(Staging!F221),-100,+Staging!F221)","v":0},{"$f":"IF(ISBLANK(Staging!G221),-100,+Staging!G221)","v":0},{"$f":"IF(ISBLANK(Staging!H221),-100,+Staging!H221)","v":0},{"$f":"IF(ISBLANK(Staging!I221),-100,+Staging!I221)","v":0},{"$f":"IF(ISBLANK(Staging!J221),-100,+Staging!J221)","v":0}]
[219,{"$f":"IF(ISBLANK(Staging!D222),-100,+Staging!D222)","v":0},{"$f":"IF(ISBLANK(Staging!E222),-100,+Staging!E222)","v":0},{"$f":"IF(ISBLANK(Staging!F222),-100,+Staging!F222)","v":0},{"$f":"IF(ISBLANK(Staging!G222),-100,+Staging!G222)","v":0},{"$f":"IF(ISBLANK(Staging!H222),-100,+Staging!H222)","v":0},{"$f":"IF(ISBLANK(Staging!I222),-100,+Staging!I222)","v":0},{"$f":"IF(ISBLANK(Staging!J222),-100,+Staging!J222)","v":0}]
[220,{"$f":"IF(ISBLANK(Staging!D223),-100,+Staging!D223)","v":0},{"$f":"IF(ISBLANK(Staging!E223),-100,+Staging!E223)","v":0},{"$f":"IF(ISBLANK(Staging!F223),-100,+Staging!F223)","v":0},{"$f":"IF(ISBLANK(Staging!G223),-100,+Staging!G223)","v":0},{"$f":"IF(ISBLANK(Staging!H223),-100,+Staging!H223)","v":0},{"$f":"IF(ISBLANK(Staging!I223),-100,+Staging!I223)","v":0},{"$f":"IF(ISBLANK(Staging!J223),-100,+Staging!J223)","v":0}]
[221,{"$f":"IF(ISBLANK(Staging!D224),-100,+Staging!D224)","v":0},{"$f":"IF(ISBLANK(Staging!E224),-100,+Staging!E224)","v":0},{"$f":"IF(ISBLANK(Staging!F224),-100,+Staging!F224)","v":0},{"$f":"IF(ISBLANK(Staging!G224),-100,+Staging!G224)","v":0},{"$f":"IF(ISBLANK(Staging!H224),-100,+Staging!H224)","v":0},{"$f":"IF(ISBLANK(Staging!I224),-100,+Staging!I224)","v":0},{"$f":"IF(ISBLANK(Staging!J224),-100,+Staging!J224)","v":0}]
[222,{"$f":"IF(ISBLANK(Staging!D225),-100,+Staging!D225)","v":0},{"$f":"IF(ISBLANK(Staging!E225),-100,+Staging!E225)","v":0},{"$f":"IF(ISBLANK(Staging!F225),-100,+Staging!F225)","v":0},{"$f":"IF(ISBLANK(Staging!G225),-100,+Staging!G225)","v":0},{"$f":"IF(ISBLANK(Staging!H225),-100,+Staging!H225)","v":0},{"$f":"IF(ISBLANK(Staging!I225),-100,+Staging!I225)","v":0},{"$f":"IF(ISBLANK(Staging!J225),-100,+Staging!J225)","v":0}]
[223,{"$f":"IF(ISBLANK(Staging!D226),-100,+Staging!D226)","v":0},{"$f":"IF(ISBLANK(Staging!E226),-100,+Staging!E226)","v":0},{"$f":"IF(ISBLANK(Staging!F226),-100,+Staging!F226)","v":0},{"$f":"IF(ISBLANK(Staging!G226),-100,+Staging!G226)","v":0},{"$f":"IF(ISBLANK(Staging!H226),-100,+Staging!H226)","v":0},{"$f":"IF(ISBLANK(Staging!I226),-100,+Staging!I226)","v":0},{"$f":"IF(ISBLANK(Staging!J226),-100,+Staging!J226)","v":0}]
[224,{"$f":"IF(ISBLANK(Staging!D227),-100,+Staging!D227)","v":0},{"$f":"IF(ISBLANK(Staging!E227),-100,+Staging!E227)","v":0},{"$f":"IF(ISBLANK(Staging!F227),-100,+Staging!F227)","v":0},{"$f":"IF(ISBLANK(Staging!G227),-100,+Staging!G227)","v":0},{"$f":"IF(ISBLANK(Staging!H227),-100,+Staging!H227)","v":0},{"$f":"IF(ISBLANK(Staging!I227),-100,+Staging!I227)","v":0},{"$f":"IF(ISBLANK(Staging!J227),-100,+Staging!J227)","v":0}]
[225,{"$f":"IF(ISBLANK(Staging!D228),-100,+Staging!D228)","v":0},{"$f":"IF(ISBLANK(Staging!E228),-100,+Staging!E228)","v":0},{"$f":"IF(ISBLANK(Staging!F228),-100,+Staging!F228)","v":0},{"$f":"IF(ISBLANK(Staging!G228),-100,+Staging!G228)","v":0},{"$f":"IF(ISBLANK(Staging!H228),-100,+Staging!H228)","v":0},{"$f":"IF(ISBLANK(Staging!I228),-100,+Staging!I228)","v":0},{"$f":"IF(ISBLANK(Staging!J228),-100,+Staging!J228)","v":0}]
[226,{"$f":"IF(ISBLANK(Staging!D229),-100,+Staging!D229)","v":0},{"$f":"IF(ISBLANK(Staging!E229),-100,+Staging!E229)","v":0},{"$f":"IF(ISBLANK(Staging!F229),-100,+Staging!F229)","v":0},{"$f":"IF(ISBLANK(Staging!G229),-100,+Staging!G229)","v":0},{"$f":"IF(ISBLANK(Staging!H229),-100,+Staging!H229)","v":0},{"$f":"IF(ISBLANK(Staging!I229),-100,+Staging!I229)","v":0},{"$f":"IF(ISBLANK(Staging!J229),-100,+Staging!J229)","v":0}]
[227,{"$f":"IF(ISBLANK(Staging!D230),-100,+Staging!D230)","v":0},{"$f":"IF(ISBLANK(Staging!E230),-100,+Staging!E230)","v":0},{"$f":"IF(ISBLANK(Staging!F230),-100,+Staging!F230)","v":0},{"$f":"IF(ISBLANK(Staging!G230),-100,+Staging!G230)","v":0},{"$f":"IF(ISBLANK(Staging!H230),-100,+Staging!H230)","v":0},{"$f":"IF(ISBLANK(Staging!I230),-100,+Staging!I230)","v":0},{"$f":"IF(ISBLANK(Staging!J230),-100,+Staging!J230)","v":0}]
[228,{"$f":"IF(ISBLANK(Staging!D231),-100,+Staging!D231)","v":0},{"$f":"IF(ISBLANK(Staging!E231),-100,+Staging!E231)","v":0},{"$f":"IF(ISBLANK(Staging!F231),-100,+Staging!F231)","v":0},{"$f":"IF(ISBLANK(Staging!G231),-100,+Staging!G231)","v":0},{"$f":"IF(ISBLANK(Staging!H231),-100,+Staging!H231)","v":0},{"$f":"IF(ISBLANK(Staging!I231),-100,+Staging!I231)","v":0},{"$f":"IF(ISBLANK(Staging!J231),-100,+Staging!J231)","v":0}]
[229,{"$f":"IF(ISBLANK(Staging!D232),-100,+Staging!D232)","v":0},{"$f":"IF(ISBLANK(Staging!E232),-100,+Staging!E232)","v":0},{"$f":"IF(ISBLANK(Staging!F232),-100,+Staging!F232)","v":0},{"$f":"IF(ISBLANK(Staging!G232),-100,+Staging!G232)","v":0},{"$f":"IF(ISBLANK(Staging!H232),-100,+Staging!H232)","v":0},{"$f":"IF(ISBLANK(Staging!I232),-100,+Staging!I232)","v":0},{"$f":"IF(ISBLANK(Staging!J232),-100,+Staging!J232)","v":0}]
[230,{"$f":"IF(ISBLANK(Staging!D233),-100,+Staging!D233)","v":0},{"$f":"IF(ISBLANK(Staging!E233),-100,+Staging!E233)","v":0},{"$f":"IF(ISBLANK(Staging!F233),-100,+Staging!F233)","v":0},{"$f":"IF(ISBLANK(Staging!G233),-100,+Staging!G233)","v":0},{"$f":"IF(ISBLANK(Staging!H233),-100,+Staging!H233)","v":0},{"$f":"IF(ISBLANK(Staging!I233),-100,+Staging!I233)","v":0},{"$f":"IF(ISBLANK(Staging!J233),-100,+Staging!J233)","v":0}]
[231,{"$f":"IF(ISBLANK(Staging!D234),-100,+Staging!D234)","v":0},{"$f":"IF(ISBLANK(Staging!E234),-100,+Staging!E234)","v":0},{"$f":"IF(ISBLANK(Staging!F234),-100,+Staging!F234)","v":0},{"$f":"IF(ISBLANK(Staging!G234),-100,+Staging!G234)","v":0},{"$f":"IF(ISBLANK(Staging!H234),-100,+Staging!H234)","v":0},{"$f":"IF(ISBLANK(Staging!I234),-100,+Staging!I234)","v":0},{"$f":"IF(ISBLANK(Staging!J234),-100,+Staging!J234)","v":0}]
[232,{"$f":"IF(ISBLANK(Staging!D235),-100,+Staging!D235)","v":0},{"$f":"IF(ISBLANK(Staging!E235),-100,+Staging!E235)","v":0},{"$f":"IF(ISBLANK(Staging!F235),-100,+Staging!F235)","v":0},{"$f":"IF(ISBLANK(Staging!G235),-100,+Staging!G235)","v":0},{"$f":"IF(ISBLANK(Staging!H235),-100,+Staging!H235)","v":0},{"$f":"IF(ISBLANK(Staging!I235),-100,+Staging!I235)","v":0},{"$f":"IF(ISBLANK(Staging!J235),-100,+Staging!J235)","v":0}]
[233,{"$f":"IF(ISBLANK(Staging!D236),-100,+Staging!D236)","v":0},{"$f":"IF(ISBLANK(Staging!E236),-100,+Staging!E236)","v":0},{"$f":"IF(ISBLANK(Staging!F236),-100,+Staging!F236)","v":0},{"$f":"IF(ISBLANK(Staging!G236),-100,+Staging!G236)","v":0},{"$f":"IF(ISBLANK(Staging!H236),-100,+Staging!H236)","v":0},{"$f":"IF(ISBLANK(Staging!I236),-100,+Staging!I236)","v":0},{"$f":"IF(ISBLANK(Staging!J236),-100,+Staging!J236)","v":0}]
[234,{"$f":"IF(ISBLANK(Staging!D237),-100,+Staging!D237)","v":0},{"$f":"IF(ISBLANK(Staging!E237),-100,+Staging!E237)","v":0},{"$f":"IF(ISBLANK(Staging!F237),-100,+Staging!F237)","v":0},{"$f":"IF(ISBLANK(Staging!G237),-100,+Staging!G237)","v":0},{"$f":"IF(ISBLANK(Staging!H237),-100,+Staging!H237)","v":0},{"$f":"IF(ISBLANK(Staging!I237),-100,+Staging!I237)","v":0},{"$f":"IF(ISBLANK(Staging!J237),-100,+Staging!J237)","v":0}]
[235,{"$f":"IF(ISBLANK(Staging!D238),-100,+Staging!D238)","v":0},{"$f":"IF(ISBLANK(Staging!E238),-100,+Staging!E238)","v":0},{"$f":"IF(ISBLANK(Staging!F238),-100,+Staging!F238)","v":0},{"$f":"IF(ISBLANK(Staging!G238),-100,+Staging!G238)","v":0},{"$f":"IF(ISBLANK(Staging!H238),-100,+Staging!H238)","v":0},{"$f":"IF(ISBLANK(Staging!I238),-100,+Staging!I238)","v":0},{"$f":"IF(ISBLANK(Staging!J238),-100,+Staging!J238)","v":0}]
[236,{"$f":"IF(ISBLANK(Staging!D239),-100,+Staging!D239)","v":0},{"$f":"IF(ISBLANK(Staging!E239),-100,+Staging!E239)","v":0},{"$f":"IF(ISBLANK(Staging!F239),-100,+Staging!F239)","v":0},{"$f":"IF(ISBLANK(Staging!G239),-100,+Staging!G239)","v":0},{"$f":"IF(ISBLANK(Staging!H239),-100,+Staging!H239)","v":0},{"$f":"IF(ISBLANK(Staging!I239),-100,+Staging!I239)","v":0},{"$f":"IF(ISBLANK(Staging!J239),-100,+Staging!J239)","v":0}]
[237,{"$f":"IF(ISBLANK(Staging!D240),-100,+Staging!D240)","v":0},{"$f":"IF(ISBLANK(Staging!E240),-100,+Staging!E240)","v":0},{"$f":"IF(ISBLANK(Staging!F240),-100,+Staging!F240)","v":0},{"$f":"IF(ISBLANK(Staging!G240),-100,+Staging!G240)","v":0},{"$f":"IF(ISBLANK(Staging!H240),-100,+Staging!H240)","v":0},{"$f":"IF(ISBLANK(Staging!I240),-100,+Staging!I240)","v":0},{"$f":"IF(ISBLANK(Staging!J240),-100,+Staging!J240)","v":0}]
[238,{"$f":"IF(ISBLANK(Staging!D241),-100,+Staging!D241)","v":0},{"$f":"IF(ISBLANK(Staging!E241),-100,+Staging!E241)","v":0},{"$f":"IF(ISBLANK(Staging!F241),-100,+Staging!F241)","v":0},{"$f":"IF(ISBLANK(Staging!G241),-100,+Staging!G241)","v":0},{"$f":"IF(ISBLANK(Staging!H241),-100,+Staging!H241)","v":0},{"$f":"IF(ISBLANK(Staging!I241),-100,+Staging!I241)","v":0},{"$f":"IF(ISBLANK(Staging!J241),-100,+Staging!J241)","v":0}]
[239,{"$f":"IF(ISBLANK(Staging!D242),-100,+Staging!D242)","v":0},{"$f":"IF(ISBLANK(Staging!E242),-100,+Staging!E242)","v":0},{"$f":"IF(ISBLANK(Staging!F242),-100,+Staging!F242)","v":0},{"$f":"IF(ISBLANK(Staging!G242),-100,+Staging!G242)","v":0},{"$f":"IF(ISBLANK(Staging!H242),-100,+Staging!H242)","v":0},{"$f":"IF(ISBLANK(Staging!I242),-100,+Staging!I242)","v":0},{"$f":"IF(ISBLANK(Staging!J242),-100,+Staging!J242)","v":0}]
[240,{"$f":"IF(ISBLANK(Staging!D243),-100,+Staging!D243)","v":0},{"$f":"IF(ISBLANK(Staging!E243),-100,+Staging!E243)","v":0},{"$f":"IF(ISBLANK(Staging!F243),-100,+Staging!F243)","v":0},{"$f":"IF(ISBLANK(Staging!G243),-100,+Staging!G243)","v":0},{"$f":"IF(ISBLANK(Staging!H243),-100,+Staging!H243)","v":0},{"$f":"IF(ISBLANK(Staging!I243),-100,+Staging!I243)","v":0},{"$f":"IF(ISBLANK(Staging!J243),-100,+Staging!J243)","v":0}]
[241,{"$f":"IF(ISBLANK(Staging!D244),-100,+Staging!D244)","v":0},{"$f":"IF(ISBLANK(Staging!E244),-100,+Staging!E244)","v":0},{"$f":"IF(ISBLANK(Staging!F244),-100,+Staging!F244)","v":0},{"$f":"IF(ISBLANK(Staging!G244),-100,+Staging!G244)","v":0},{"$f":"IF(ISBLANK(Staging!H244),-100,+Staging!H244)","v":0},{"$f":"IF(ISBLANK(Staging!I244),-100,+Staging!I244)","v":0},{"$f":"IF(ISBLANK(Staging!J244),-100,+Staging!J244)","v":0}]
[242,{"$f":"IF(ISBLANK(Staging!D245),-100,+Staging!D245)","v":0},{"$f":"IF(ISBLANK(Staging!E245),-100,+Staging!E245)","v":0},{"$f":"IF(ISBLANK(Staging!F245),-100,+Staging!F245)","v":0},{"$f":"IF(ISBLANK(Staging!G245),-100,+Staging!G245)","v":0},{"$f":"IF(ISBLANK(Staging!H245),-100,+Staging!H245)","v":0},{"$f":"IF(ISBLANK(Staging!I245),-100,+Staging!I245)","v":0},{"$f":"IF(ISBLANK(Staging!J245),-100,+Staging!J245)","v":0}]
[243,{"$f":"IF(ISBLANK(Staging!D246),-100,+Staging!D246)","v":0},{"$f":"IF(ISBLANK(Staging!E246),-100,+Staging!E246)","v":0},{"$f":"IF(ISBLANK(Staging!F246),-100,+Staging!F246)","v":0},{"$f":"IF(ISBLANK(Staging!G246),-100,+Staging!G246)","v":0},{"$f":"IF(ISBLANK(Staging!H246),-100,+Staging!H246)","v":0},{"$f":"IF(ISBLANK(Staging!I246),-100,+Staging!I246)","v":0},{"$f":"IF(ISBLANK(Staging!J246),-100,+Staging!J246)","v":0}]
[244,{"$f":"IF(ISBLANK(Staging!D247),-100,+Staging!D247)","v":0},{"$f":"IF(ISBLANK(Staging!E247),-100,+Staging!E247)","v":0},{"$f":"IF(ISBLANK(Staging!F247),-100,+Staging!F247)","v":0},{"$f":"IF(ISBLANK(Staging!G247),-100,+Staging!G247)","v":0},{"$f":"IF(ISBLANK(Staging!H247),-100,+Staging!H247)","v":0},{"$f":"IF(ISBLANK(Staging!I247),-100,+Staging!I247)","v":0},{"$f":"IF(ISBLANK(Staging!J247),-100,+Staging!J247)","v":0}]
[245,{"$f":"IF(ISBLANK(Staging!D248),-100,+Staging!D248)","v":0},{"$f":"IF(ISBLANK(Staging!E248),-100,+Staging!E248)","v":0},{"$f":"IF(ISBLANK(Staging!F248),-100,+Staging!F248)","v":0},{"$f":"IF(ISBLANK(Staging!G248),-100,+Staging!G248)","v":0},{"$f":"IF(ISBLANK(Staging!H248),-100,+Staging!H248)","v":0},{"$f":"IF(ISBLANK(Staging!I248),-100,+Staging!I248)","v":0},{"$f":"IF(ISBLANK(Staging!J248),-100,+Staging!J248)","v":0}]
[246,{"$f":"IF(ISBLANK(Staging!D249),-100,+Staging!D249)","v":0},{"$f":"IF(ISBLANK(Staging!E249),-100,+Staging!E249)","v":0},{"$f":"IF(ISBLANK(Staging!F249),-100,+Staging!F249)","v":0},{"$f":"IF(ISBLANK(Staging!G249),-100,+Staging!G249)","v":0},{"$f":"IF(ISBLANK(Staging!H249),-100,+Staging!H249)","v":0},{"$f":"IF(ISBLANK(Staging!I249),-100,+Staging!I249)","v":0},{"$f":"IF(ISBLANK(Staging!J249),-100,+Staging!J249)","v":0}]
[247,{"$f":"IF(ISBLANK(Staging!D250),-100,+Staging!D250)","v":0},{"$f":"IF(ISBLANK(Staging!E250),-100,+Staging!E250)","v":0},{"$f":"IF(ISBLANK(Staging!F250),-100,+Staging!F250)","v":0},{"$f":"IF(ISBLANK(Staging!G250),-100,+Staging!G250)","v":0},{"$f":"IF(ISBLANK(Staging!H250),-100,+Staging!H250)","v":0},{"$f":"IF(ISBLANK(Staging!I250),-100,+Staging!I250)","v":0},{"$f":"IF(ISBLANK(Staging!J250),-100,+Staging!J250)","v":0}]
[248,{"$f":"IF(ISBLANK(Staging!D251),-100,+Staging!D251)","v":0},{"$f":"IF(ISBLANK(Staging!E251),-100,+Staging!E251)","v":0},{"$f":"IF(ISBLANK(Staging!F251),-100,+Staging!F251)","v":0},{"$f":"IF(ISBLANK(Staging!G251),-100,+Staging!G251)","v":0},{"$f":"IF(ISBLANK(Staging!H251),-100,+Staging!H251)","v":0},{"$f":"IF(ISBLANK(Staging!I251),-100,+Staging!I251)","v":0},{"$f":"IF(ISBLANK(Staging!J251),-100,+Staging!J251)","v":0}]
[249,{"$f":"IF(ISBLANK(Staging!D252),-100,+Staging!D252)","v":0},{"$f":"IF(ISBLANK(Staging!E252),-100,+Staging!E252)","v":0},{"$f":"IF(ISBLANK(Staging!F252),-100,+Staging!F252)","v":0},{"$f":"IF(ISBLANK(Staging!G252),-100,+Staging!G252)","v":0},{"$f":"IF(ISBLANK(Staging!H252),-100,+Staging!H252)","v":0},{"$f":"IF(ISBLANK(Staging!I252),-100,+Staging!I252)","v":0},{"$f":"IF(ISBLANK(Staging!J252),-100,+Staging!J252)","v":0}]
[250,{"$f":"IF(ISBLANK(Staging!D253),-100,+Staging!D253)","v":0},{"$f":"IF(ISBLANK(Staging!E253),-100,+Staging!E253)","v":0},{"$f":"IF(ISBLANK(Staging!F253),-100,+Staging!F253)","v":0},{"$f":"IF(ISBLANK(Staging!G253),-100,+Staging!G253)","v":0},{"$f":"IF(ISBLANK(Staging!H253),-100,+Staging!H253)","v":0},{"$f":"IF(ISBLANK(Staging!I253),-100,+Staging!I253)","v":0},{"$f":"IF(ISBLANK(Staging!J253),-100,+Staging!J253)","v":0}]
[251,{"$f":"IF(ISBLANK(Staging!D254),-100,+Staging!D254)","v":0},{"$f":"IF(ISBLANK(Staging!E254),-100,+Staging!E254)","v":0},{"$f":"IF(ISBLANK(Staging!F254),-100,+Staging!F254)","v":0},{"$f":"IF(ISBLANK(Staging!G254),-100,+Staging!G254)","v":0},{"$f":"IF(ISBLANK(Staging!H254),-100,+Staging!H254)","v":0},{"$f":"IF(ISBLANK(Staging!I254),-100,+Staging!I254)","v":0},{"$f":"IF(ISBLANK(Staging!J254),-100,+Staging!J254)","v":0}]
[252,{"$f":"IF(ISBLANK(Staging!D255),-100,+Staging!D255)","v":0},{"$f":"IF(ISBLANK(Staging!E255),-100,+Staging!E255)","v":0},{"$f":"IF(ISBLANK(Staging!F255),-100,+Staging!F255)","v":0},{"$f":"IF(ISBLANK(Staging!G255),-100,+Staging!G255)","v":0},{"$f":"IF(ISBLANK(Staging!H255),-100,+Staging!H255)","v":0},{"$f":"IF(ISBLANK(Staging!I255),-100,+Staging!I255)","v":0},{"$f":"IF(ISBLANK(Staging!J255),-100,+Staging!J255)","v":0}]
[253,{"$f":"IF(ISBLANK(Staging!D256),-100,+Staging!D256)","v":0},{"$f":"IF(ISBLANK(Staging!E256),-100,+Staging!E256)","v":0},{"$f":"IF(ISBLANK(Staging!F256),-100,+Staging!F256)","v":0},{"$f":"IF(ISBLANK(Staging!G256),-100,+Staging!G256)","v":0},{"$f":"IF(ISBLANK(Staging!H256),-100,+Staging!H256)","v":0},{"$f":"IF(ISBLANK(Staging!I256),-100,+Staging!I256)","v":0},{"$f":"IF(ISBLANK(Staging!J256),-100,+Staging!J256)","v":0}]
[254,{"$f":"IF(ISBLANK(Staging!D257),-100,+Staging!D257)","v":0},{"$f":"IF(ISBLANK(Staging!E257),-100,+Staging!E257)","v":0},{"$f":"IF(ISBLANK(Staging!F257),-100,+Staging!F257)","v":0},{"$f":"IF(ISBLANK(Staging!G257),-100,+Staging!G257)","v":0},{"$f":"IF(ISBLANK(Staging!H257),-100,+Staging!H257)","v":0},{"$f":"IF(ISBLANK(Staging!I257),-100,+Staging!I257)","v":0},{"$f":"IF(ISBLANK(Staging!J257),-100,+Staging!J257)","v":0}]
[255,{"$f":"IF(ISBLANK(Staging!D258),-100,+Staging!D258)","v":0},{"$f":"IF(ISBLANK(Staging!E258),-100,+Staging!E258)","v":0},{"$f":"IF(ISBLANK(Staging!F258),-100,+Staging!F258)","v":0},{"$f":"IF(ISBLANK(Staging!G258),-100,+Staging!G258)","v":0},{"$f":"IF(ISBLANK(Staging!H258),-100,+Staging!H258)","v":0},{"$f":"IF(ISBLANK(Staging!I258),-100,+Staging!I258)","v":0},{"$f":"IF(ISBLANK(Staging!J258),-100,+Staging!J258)","v":0}]
[256,{"$f":"IF(ISBLANK(Staging!D259),-100,+Staging!D259)","v":0},{"$f":"IF(ISBLANK(Staging!E259),-100,+Staging!E259)","v":0},{"$f":"IF(ISBLANK(Staging!F259),-100,+Staging!F259)","v":0},{"$f":"IF(ISBLANK(Staging!G259),-100,+Staging!G259)","v":0},{"$f":"IF(ISBLANK(Staging!H259),-100,+Staging!H259)","v":0},{"$f":"IF(ISBLANK(Staging!I259),-100,+Staging!I259)","v":0},{"$f":"IF(ISBLANK(Staging!J259),-100,+Staging!J259)","v":0}]
[257,{"$f":"IF(ISBLANK(Staging!D260),-100,+Staging!D260)","v":0},{"$f":"IF(ISBLANK(Staging!E260),-100,+Staging!E260)","v":0},{"$f":"IF(ISBLANK(Staging!F260),-100,+Staging!F260)","v":0},{"$f":"IF(ISBLANK(Staging!G260),-100,+Staging!G260)","v":0},{"$f":"IF(ISBLANK(Staging!H260),-100,+Staging!H260)","v":0},{"$f":"IF(ISBLANK(Staging!I260),-100,+Staging!I260)","v":0},{"$f":"IF(ISBLANK(Staging!J260),-100,+Staging!J260)","v":0}]
[258,{"$f":"IF(ISBLANK(Staging!D261),-100,+Staging!D261)","v":0},{"$f":"IF(ISBLANK(Staging!E261),-100,+Staging!E261)","v":0},{"$f":"IF(ISBLANK(Staging!F261),-100,+Staging!F261)","v":0},{"$f":"IF(ISBLANK(Staging!G261),-100,+Staging!G261)","v":0},{"$f":"IF(ISBLANK(Staging!H261),-100,+Staging!H261)","v":0},{"$f":"IF(ISBLANK(Staging!I261),-100,+Staging!I261)","v":0},{"$f":"IF(ISBLANK(Staging!J261),-100,+Staging!J261)","v":0}]
[259,{"$f":"IF(ISBLANK(Staging!D262),-100,+Staging!D262)","v":0},{"$f":"IF(ISBLANK(Staging!E262),-100,+Staging!E262)","v":0},{"$f":"IF(ISBLANK(Staging!F262),-100,+Staging!F262)","v":0},{"$f":"IF(ISBLANK(Staging!G262),-100,+Staging!G262)","v":0},{"$f":"IF(ISBLANK(Staging!H262),-100,+Staging!H262)","v":0},{"$f":"IF(ISBLANK(Staging!I262),-100,+Staging!I262)","v":0},{"$f":"IF(ISBLANK(Staging!J262),-100,+Staging!J262)","v":0}]
[260,{"$f":"IF(ISBLANK(Staging!D263),-100,+Staging!D263)","v":0},{"$f":"IF(ISBLANK(Staging!E263),-100,+Staging!E263)","v":0},{"$f":"IF(ISBLANK(Staging!F263),-100,+Staging!F263)","v":0},{"$f":"IF(ISBLANK(Staging!G263),-100,+Staging!G263)","v":0},{"$f":"IF(ISBLANK(Staging!H263),-100,+Staging!H263)","v":0},{"$f":"IF(ISBLANK(Staging!I263),-100,+Staging!I263)","v":0},{"$f":"IF(ISBLANK(Staging!J263),-100,+Staging!J263)","v":0}]
[261,{"$f":"IF(ISBLANK(Staging!D264),-100,+Staging!D264)","v":0},{"$f":"IF(ISBLANK(Staging!E264),-100,+Staging!E264)","v":0},{"$f":"IF(ISBLANK(Staging!F264),-100,+Staging!F264)","v":0},{"$f":"IF(ISBLANK(Staging!G264),-100,+Staging!G264)","v":0},{"$f":"IF(ISBLANK(Staging!H264),-100,+Staging!H264)","v":0},{"$f":"IF(ISBLANK(Staging!I264),-100,+Staging!I264)","v":0},{"$f":"IF(ISBLANK(Staging!J264),-100,+Staging!J264)","v":0}]
[262,{"$f":"IF(ISBLANK(Staging!D265),-100,+Staging!D265)","v":0},{"$f":"IF(ISBLANK(Staging!E265),-100,+Staging!E265)","v":0},{"$f":"IF(ISBLANK(Staging!F265),-100,+Staging!F265)","v":0},{"$f":"IF(ISBLANK(Staging!G265),-100,+Staging!G265)","v":0},{"$f":"IF(ISBLANK(Staging!H265),-100,+Staging!H265)","v":0},{"$f":"IF(ISBLANK(Staging!I265),-100,+Staging!I265)","v":0},{"$f":"IF(ISBLANK(Staging!J265),-100,+Staging!J265)","v":0}]
[263,{"$f":"IF(ISBLANK(Staging!D266),-100,+Staging!D266)","v":0},{"$f":"IF(ISBLANK(Staging!E266),-100,+Staging!E266)","v":0},{"$f":"IF(ISBLANK(Staging!F266),-100,+Staging!F266)","v":0},{"$f":"IF(ISBLANK(Staging!G266),-100,+Staging!G266)","v":0},{"$f":"IF(ISBLANK(Staging!H266),-100,+Staging!H266)","v":0},{"$f":"IF(ISBLANK(Staging!I266),-100,+Staging!I266)","v":0},{"$f":"IF(ISBLANK(Staging!J266),-100,+Staging!J266)","v":0}]
[264,{"$f":"IF(ISBLANK(Staging!D267),-100,+Staging!D267)","v":0},{"$f":"IF(ISBLANK(Staging!E267),-100,+Staging!E267)","v":0},{"$f":"IF(ISBLANK(Staging!F267),-100,+Staging!F267)","v":0},{"$f":"IF(ISBLANK(Staging!G267),-100,+Staging!G267)","v":0},{"$f":"IF(ISBLANK(Staging!H267),-100,+Staging!H267)","v":0},{"$f":"IF(ISBLANK(Staging!I267),-100,+Staging!I267)","v":0},{"$f":"IF(ISBLANK(Staging!J267),-100,+Staging!J267)","v":0}]
[265,{"$f":"IF(ISBLANK(Staging!D268),-100,+Staging!D268)","v":0},{"$f":"IF(ISBLANK(Staging!E268),-100,+Staging!E268)","v":0},{"$f":"IF(ISBLANK(Staging!F268),-100,+Staging!F268)","v":0},{"$f":"IF(ISBLANK(Staging!G268),-100,+Staging!G268)","v":0},{"$f":"IF(ISBLANK(Staging!H268),-100,+Staging!H268)","v":0},{"$f":"IF(ISBLANK(Staging!I268),-100,+Staging!I268)","v":0},{"$f":"IF(ISBLANK(Staging!J268),-100,+Staging!J268)","v":0}]
[266,{"$f":"IF(ISBLANK(Staging!D269),-100,+Staging!D269)","v":0},{"$f":"IF(ISBLANK(Staging!E269),-100,+Staging!E269)","v":0},{"$f":"IF(ISBLANK(Staging!F269),-100,+Staging!F269)","v":0},{"$f":"IF(ISBLANK(Staging!G269),-100,+Staging!G269)","v":0},{"$f":"IF(ISBLANK(Staging!H269),-100,+Staging!H269)","v":0},{"$f":"IF(ISBLANK(Staging!I269),-100,+Staging!I269)","v":0},{"$f":"IF(ISBLANK(Staging!J269),-100,+Staging!J269)","v":0}]
[267,{"$f":"IF(ISBLANK(Staging!D270),-100,+Staging!D270)","v":0},{"$f":"IF(ISBLANK(Staging!E270),-100,+Staging!E270)","v":0},{"$f":"IF(ISBLANK(Staging!F270),-100,+Staging!F270)","v":0},{"$f":"IF(ISBLANK(Staging!G270),-100,+Staging!G270)","v":0},{"$f":"IF(ISBLANK(Staging!H270),-100,+Staging!H270)","v":0},{"$f":"IF(ISBLANK(Staging!I270),-100,+Staging!I270)","v":0},{"$f":"IF(ISBLANK(Staging!J270),-100,+Staging!J270)","v":0}]
[268,{"$f":"IF(ISBLANK(Staging!D271),-100,+Staging!D271)","v":0},{"$f":"IF(ISBLANK(Staging!E271),-100,+Staging!E271)","v":0},{"$f":"IF(ISBLANK(Staging!F271),-100,+Staging!F271)","v":0},{"$f":"IF(ISBLANK(Staging!G271),-100,+Staging!G271)","v":0},{"$f":"IF(ISBLANK(Staging!H271),-100,+Staging!H271)","v":0},{"$f":"IF(ISBLANK(Staging!I271),-100,+Staging!I271)","v":0},{"$f":"IF(ISBLANK(Staging!J271),-100,+Staging!J271)","v":0}]
[269,{"$f":"IF(ISBLANK(Staging!D272),-100,+Staging!D272)","v":0},{"$f":"IF(ISBLANK(Staging!E272),-100,+Staging!E272)","v":0},{"$f":"IF(ISBLANK(Staging!F272),-100,+Staging!F272)","v":0},{"$f":"IF(ISBLANK(Staging!G272),-100,+Staging!G272)","v":0},{"$f":"IF(ISBLANK(Staging!H272),-100,+Staging!H272)","v":0},{"$f":"IF(ISBLANK(Staging!I272),-100,+Staging!I272)","v":0},{"$f":"IF(ISBLANK(Staging!J272),-100,+Staging!J272)","v":0}]
[270,{"$f":"IF(ISBLANK(Staging!D273),-100,+Staging!D273)","v":0},{"$f":"IF(ISBLANK(Staging!E273),-100,+Staging!E273)","v":0},{"$f":"IF(ISBLANK(Staging!F273),-100,+Staging!F273)","v":0},{"$f":"IF(ISBLANK(Staging!G273),-100,+Staging!G273)","v":0},{"$f":"IF(ISBLANK(Staging!H273),-100,+Staging!H273)","v":0},{"$f":"IF(ISBLANK(Staging!I273),-100,+Staging!I273)","v":0},{"$f":"IF(ISBLANK(Staging!J273),-100,+Staging!J273)","v":0}]
[271,{"$f":"IF(ISBLANK(Staging!D274),-100,+Staging!D274)","v":0},{"$f":"IF(ISBLANK(Staging!E274),-100,+Staging!E274)","v":0},{"$f":"IF(ISBLANK(Staging!F274),-100,+Staging!F274)","v":0},{"$f":"IF(ISBLANK(Staging!G274),-100,+Staging!G274)","v":0},{"$f":"IF(ISBLANK(Staging!H274),-100,+Staging!H274)","v":0},{"$f":"IF(ISBLANK(Staging!I274),-100,+Staging!I274)","v":0},{"$f":"IF(ISBLANK(Staging!J274),-100,+Staging!J274)","v":0}]
[272,{"$f":"IF(ISBLANK(Staging!D275),-100,+Staging!D275)","v":0},{"$f":"IF(ISBLANK(Staging!E275),-100,+Staging!E275)","v":0},{"$f":"IF(ISBLANK(Staging!F275),-100,+Staging!F275)","v":0},{"$f":"IF(ISBLANK(Staging!G275),-100,+Staging!G275)","v":0},{"$f":"IF(ISBLANK(Staging!H275),-100,+Staging!H275)","v":0},{"$f":"IF(ISBLANK(Staging!I275),-100,+Staging!I275)","v":0},{"$f":"IF(ISBLANK(Staging!J275),-100,+Staging!J275)","v":0}]
[273,{"$f":"IF(ISBLANK(Staging!D276),-100,+Staging!D276)","v":0},{"$f":"IF(ISBLANK(Staging!E276),-100,+Staging!E276)","v":0},{"$f":"IF(ISBLANK(Staging!F276),-100,+Staging!F276)","v":0},{"$f":"IF(ISBLANK(Staging!G276),-100,+Staging!G276)","v":0},{"$f":"IF(ISBLANK(Staging!H276),-100,+Staging!H276)","v":0},{"$f":"IF(ISBLANK(Staging!I276),-100,+Staging!I276)","v":0},{"$f":"IF(ISBLANK(Staging!J276),-100,+Staging!J276)","v":0}]
[274,{"$f":"IF(ISBLANK(Staging!D277),-100,+Staging!D277)","v":0},{"$f":"IF(ISBLANK(Staging!E277),-100,+Staging!E277)","v":0},{"$f":"IF(ISBLANK(Staging!F277),-100,+Staging!F277)","v":0},{"$f":"IF(ISBLANK(Staging!G277),-100,+Staging!G277)","v":0},{"$f":"IF(ISBLANK(Staging!H277),-100,+Staging!H277)","v":0},{"$f":"IF(ISBLANK(Staging!I277),-100,+Staging!I277)","v":0},{"$f":"IF(ISBLANK(Staging!J277),-100,+Staging!J277)","v":0}]
[275,{"$f":"IF(ISBLANK(Staging!D278),-100,+Staging!D278)","v":0},{"$f":"IF(ISBLANK(Staging!E278),-100,+Staging!E278)","v":0},{"$f":"IF(ISBLANK(Staging!F278),-100,+Staging!F278)","v":0},{"$f":"IF(ISBLANK(Staging!G278),-100,+Staging!G278)","v":0},{"$f":"IF(ISBLANK(Staging!H278),-100,+Staging!H278)","v":0},{"$f":"IF(ISBLANK(Staging!I278),-100,+Staging!I278)","v":0},{"$f":"IF(ISBLANK(Staging!J278),-100,+Staging!J278)","v":0}]
[276,{"$f":"IF(ISBLANK(Staging!D279),-100,+Staging!D279)","v":0},{"$f":"IF(ISBLANK(Staging!E279),-100,+Staging!E279)","v":0},{"$f":"IF(ISBLANK(Staging!F279),-100,+Staging!F279)","v":0},{"$f":"IF(ISBLANK(Staging!G279),-100,+Staging!G279)","v":0},{"$f":"IF(ISBLANK(Staging!H279),-100,+Staging!H279)","v":0},{"$f":"IF(ISBLANK(Staging!I279),-100,+Staging!I279)","v":0},{"$f":"IF(ISBLANK(Staging!J279),-100,+Staging!J279)","v":0}]
[277,{"$f":"IF(ISBLANK(Staging!D280),-100,+Staging!D280)","v":0},{"$f":"IF(ISBLANK(Staging!E280),-100,+Staging!E280)","v":0},{"$f":"IF(ISBLANK(Staging!F280),-100,+Staging!F280)","v":0},{"$f":"IF(ISBLANK(Staging!G280),-100,+Staging!G280)","v":0},{"$f":"IF(ISBLANK(Staging!H280),-100,+Staging!H280)","v":0},{"$f":"IF(ISBLANK(Staging!I280),-100,+Staging!I280)","v":0},{"$f":"IF(ISBLANK(Staging!J280),-100,+Staging!J280)","v":0}]
[278,{"$f":"IF(ISBLANK(Staging!D281),-100,+Staging!D281)","v":0},{"$f":"IF(ISBLANK(Staging!E281),-100,+Staging!E281)","v":0},{"$f":"IF(ISBLANK(Staging!F281),-100,+Staging!F281)","v":0},{"$f":"IF(ISBLANK(Staging!G281),-100,+Staging!G281)","v":0},{"$f":"IF(ISBLANK(Staging!H281),-100,+Staging!H281)","v":0},{"$f":"IF(ISBLANK(Staging!I281),-100,+Staging!I281)","v":0},{"$f":"IF(ISBLANK(Staging!J281),-100,+Staging!J281)","v":0}]
[279,{"$f":"IF(ISBLANK(Staging!D282),-100,+Staging!D282)","v":0},{"$f":"IF(ISBLANK(Staging!E282),-100,+Staging!E282)","v":0},{"$f":"IF(ISBLANK(Staging!F282),-100,+Staging!F282)","v":0},{"$f":"IF(ISBLANK(Staging!G282),-100,+Staging!G282)","v":0},{"$f":"IF(ISBLANK(Staging!H282),-100,+Staging!H282)","v":0},{"$f":"IF(ISBLANK(Staging!I282),-100,+Staging!I282)","v":0},{"$f":"IF(ISBLANK(Staging!J282),-100,+Staging!J282)","v":0}]
[280,{"$f":"IF(ISBLANK(Staging!D283),-100,+Staging!D283)","v":0},{"$f":"IF(ISBLANK(Staging!E283),-100,+Staging!E283)","v":0},{"$f":"IF(ISBLANK(Staging!F283),-100,+Staging!F283)","v":0},{"$f":"IF(ISBLANK(Staging!G283),-100,+Staging!G283)","v":0},{"$f":"IF(ISBLANK(Staging!H283),-100,+Staging!H283)","v":0},{"$f":"IF(ISBLANK(Staging!I283),-100,+Staging!I283)","v":0},{"$f":"IF(ISBLANK(Staging!J283),-100,+Staging!J283)","v":0}]
[281,{"$f":"IF(ISBLANK(Staging!D284),-100,+Staging!D284)","v":0},{"$f":"IF(ISBLANK(Staging!E284),-100,+Staging!E284)","v":0},{"$f":"IF(ISBLANK(Staging!F284),-100,+Staging!F284)","v":0},{"$f":"IF(ISBLANK(Staging!G284),-100,+Staging!G284)","v":0},{"$f":"IF(ISBLANK(Staging!H284),-100,+Staging!H284)","v":0},{"$f":"IF(ISBLANK(Staging!I284),-100,+Staging!I284)","v":0},{"$f":"IF(ISBLANK(Staging!J284),-100,+Staging!J284)","v":0}]
[282,{"$f":"IF(ISBLANK(Staging!D285),-100,+Staging!D285)","v":0},{"$f":"IF(ISBLANK(Staging!E285),-100,+Staging!E285)","v":0},{"$f":"IF(ISBLANK(Staging!F285),-100,+Staging!F285)","v":0},{"$f":"IF(ISBLANK(Staging!G285),-100,+Staging!G285)","v":0},{"$f":"IF(ISBLANK(Staging!H285),-100,+Staging!H285)","v":0},{"$f":"IF(ISBLANK(Staging!I285),-100,+Staging!I285)","v":0},{"$f":"IF(ISBLANK(Staging!J285),-100,+Staging!J285)","v":0}]
[283,{"$f":"IF(ISBLANK(Staging!D286),-100,+Staging!D286)","v":0},{"$f":"IF(ISBLANK(Staging!E286),-100,+Staging!E286)","v":0},{"$f":"IF(ISBLANK(Staging!F286),-100,+Staging!F286)","v":0},{"$f":"IF(ISBLANK(Staging!G286),-100,+Staging!G286)","v":0},{"$f":"IF(ISBLANK(Staging!H286),-100,+Staging!H286)","v":0},{"$f":"IF(ISBLANK(Staging!I286),-100,+Staging!I286)","v":0},{"$f":"IF(ISBLANK(Staging!J286),-100,+Staging!J286)","v":0}]
[284,{"$f":"IF(ISBLANK(Staging!D287),-100,+Staging!D287)","v":0},{"$f":"IF(ISBLANK(Staging!E287),-100,+Staging!E287)","v":0},{"$f":"IF(ISBLANK(Staging!F287),-100,+Staging!F287)","v":0},{"$f":"IF(ISBLANK(Staging!G287),-100,+Staging!G287)","v":0},{"$f":"IF(ISBLANK(Staging!H287),-100,+Staging!H287)","v":0},{"$f":"IF(ISBLANK(Staging!I287),-100,+Staging!I287)","v":0},{"$f":"IF(ISBLANK(Staging!J287),-100,+Staging!J287)","v":0}]
[285,{"$f":"IF(ISBLANK(Staging!D288),-100,+Staging!D288)","v":0},{"$f":"IF(ISBLANK(Staging!E288),-100,+Staging!E288)","v":0},{"$f":"IF(ISBLANK(Staging!F288),-100,+Staging!F288)","v":0},{"$f":"IF(ISBLANK(Staging!G288),-100,+Staging!G288)","v":0},{"$f":"IF(ISBLANK(Staging!H288),-100,+Staging!H288)","v":0},{"$f":"IF(ISBLANK(Staging!I288),-100,+Staging!I288)","v":0},{"$f":"IF(ISBLANK(Staging!J288),-100,+Staging!J288)","v":0}]
[286,{"$f":"IF(ISBLANK(Staging!D289),-100,+Staging!D289)","v":0},{"$f":"IF(ISBLANK(Staging!E289),-100,+Staging!E289)","v":0},{"$f":"IF(ISBLANK(Staging!F289),-100,+Staging!F289)","v":0},{"$f":"IF(ISBLANK(Staging!G289),-100,+Staging!G289)","v":0},{"$f":"IF(ISBLANK(Staging!H289),-100,+Staging!H289)","v":0},{"$f":"IF(ISBLANK(Staging!I289),-100,+Staging!I289)","v":0},{"$f":"IF(ISBLANK(Staging!J289),-100,+Staging!J289)","v":0}]
[287,{"$f":"IF(ISBLANK(Staging!D290),-100,+Staging!D290)","v":0},{"$f":"IF(ISBLANK(Staging!E290),-100,+Staging!E290)","v":0},{"$f":"IF(ISBLANK(Staging!F290),-100,+Staging!F290)","v":0},{"$f":"IF(ISBLANK(Staging!G290),-100,+Staging!G290)","v":0},{"$f":"IF(ISBLANK(Staging!H290),-100,+Staging!H290)","v":0},{"$f":"IF(ISBLANK(Staging!I290),-100,+Staging!I290)","v":0},{"$f":"IF(ISBLANK(Staging!J290),-100,+Staging!J290)","v":0}]
[288,{"$f":"IF(ISBLANK(Staging!D291),-100,+Staging!D291)","v":0},{"$f":"IF(ISBLANK(Staging!E291),-100,+Staging!E291)","v":0},{"$f":"IF(ISBLANK(Staging!F291),-100,+Staging!F291)","v":0},{"$f":"IF(ISBLANK(Staging!G291),-100,+Staging!G291)","v":0},{"$f":"IF(ISBLANK(Staging!H291),-100,+Staging!H291)","v":0},{"$f":"IF(ISBLANK(Staging!I291),-100,+Staging!I291)","v":0},{"$f":"IF(ISBLANK(Staging!J291),-100,+Staging!J291)","v":0}]
[289,{"$f":"IF(ISBLANK(Staging!D292),-100,+Staging!D292)","v":0},{"$f":"IF(ISBLANK(Staging!E292),-100,+Staging!E292)","v":0},{"$f":"IF(ISBLANK(Staging!F292),-100,+Staging!F292)","v":0},{"$f":"IF(ISBLANK(Staging!G292),-100,+Staging!G292)","v":0},{"$f":"IF(ISBLANK(Staging!H292),-100,+Staging!H292)","v":0},{"$f":"IF(ISBLANK(Staging!I292),-100,+Staging!I292)","v":0},{"$f":"IF(ISBLANK(Staging!J292),-100,+Staging!J292)","v":0}]
[290,{"$f":"IF(ISBLANK(Staging!D293),-100,+Staging!D293)","v":0},{"$f":"IF(ISBLANK(Staging!E293),-100,+Staging!E293)","v":0},{"$f":"IF(ISBLANK(Staging!F293),-100,+Staging!F293)","v":0},{"$f":"IF(ISBLANK(Staging!G293),-100,+Staging!G293)","v":0},{"$f":"IF(ISBLANK(Staging!H293),-100,+Staging!H293)","v":0},{"$f":"IF(ISBLANK(Staging!I293),-100,+Staging!I293)","v":0},{"$f":"IF(ISBLANK(Staging!J293),-100,+Staging!J293)","v":0}]
[291,{"$f":"IF(ISBLANK(Staging!D294),-100,+Staging!D294)","v":0},{"$f":"IF(ISBLANK(Staging!E294),-100,+Staging!E294)","v":0},{"$f":"IF(ISBLANK(Staging!F294),-100,+Staging!F294)","v":0},{"$f":"IF(ISBLANK(Staging!G294),-100,+Staging!G294)","v":0},{"$f":"IF(ISBLANK(Staging!H294),-100,+Staging!H294)","v":0},{"$f":"IF(ISBLANK(Staging!I294),-100,+Staging!I294)","v":0},{"$f":"IF(ISBLANK(Staging!J294),-100,+Staging!J294)","v":0}]
[292,{"$f":"IF(ISBLANK(Staging!D295),-100,+Staging!D295)","v":0},{"$f":"IF(ISBLANK(Staging!E295),-100,+Staging!E295)","v":0},{"$f":"IF(ISBLANK(Staging!F295),-100,+Staging!F295)","v":0},{"$f":"IF(ISBLANK(Staging!G295),-100,+Staging!G295)","v":0},{"$f":"IF(ISBLANK(Staging!H295),-100,+Staging!H295)","v":0},{"$f":"IF(ISBLANK(Staging!I295),-100,+Staging!I295)","v":0},{"$f":"IF(ISBLANK(Staging!J295),-100,+Staging!J295)","v":0}]
[293,{"$f":"IF(ISBLANK(Staging!D296),-100,+Staging!D296)","v":0},{"$f":"IF(ISBLANK(Staging!E296),-100,+Staging!E296)","v":0},{"$f":"IF(ISBLANK(Staging!F296),-100,+Staging!F296)","v":0},{"$f":"IF(ISBLANK(Staging!G296),-100,+Staging!G296)","v":0},{"$f":"IF(ISBLANK(Staging!H296),-100,+Staging!H296)","v":0},{"$f":"IF(ISBLANK(Staging!I296),-100,+Staging!I296)","v":0},{"$f":"IF(ISBLANK(Staging!J296),-100,+Staging!J296)","v":0}]
[294,{"$f":"IF(ISBLANK(Staging!D297),-100,+Staging!D297)","v":0},{"$f":"IF(ISBLANK(Staging!E297),-100,+Staging!E297)","v":0},{"$f":"IF(ISBLANK(Staging!F297),-100,+Staging!F297)","v":0},{"$f":"IF(ISBLANK(Staging!G297),-100,+Staging!G297)","v":0},{"$f":"IF(ISBLANK(Staging!H297),-100,+Staging!H297)","v":0},{"$f":"IF(ISBLANK(Staging!I297),-100,+Staging!I297)","v":0},{"$f":"IF(ISBLANK(Staging!J297),-100,+Staging!J297)","v":0}]
[295,{"$f":"IF(ISBLANK(Staging!D298),-100,+Staging!D298)","v":0},{"$f":"IF(ISBLANK(Staging!E298),-100,+Staging!E298)","v":0},{"$f":"IF(ISBLANK(Staging!F298),-100,+Staging!F298)","v":0},{"$f":"IF(ISBLANK(Staging!G298),-100,+Staging!G298)","v":0},{"$f":"IF(ISBLANK(Staging!H298),-100,+Staging!H298)","v":0},{"$f":"IF(ISBLANK(Staging!I298),-100,+Staging!I298)","v":0},{"$f":"IF(ISBLANK(Staging!J298),-100,+Staging!J298)","v":0}]
[296,{"$f":"IF(ISBLANK(Staging!D299),-100,+Staging!D299)","v":0},{"$f":"IF(ISBLANK(Staging!E299),-100,+Staging!E299)","v":0},{"$f":"IF(ISBLANK(Staging!F299),-100,+Staging!F299)","v":0},{"$f":"IF(ISBLANK(Staging!G299),-100,+Staging!G299)","v":0},{"$f":"IF(ISBLANK(Staging!H299),-100,+Staging!H299)","v":0},{"$f":"IF(ISBLANK(Staging!I299),-100,+Staging!I299)","v":0},{"$f":"IF(ISBLANK(Staging!J299),-100,+Staging!J299)","v":0}]
[297,{"$f":"IF(ISBLANK(Staging!D300),-100,+Staging!D300)","v":0},{"$f":"IF(ISBLANK(Staging!E300),-100,+Staging!E300)","v":0},{"$f":"IF(ISBLANK(Staging!F300),-100,+Staging!F300)","v":0},{"$f":"IF(ISBLANK(Staging!G300),-100,+Staging!G300)","v":0},{"$f":"IF(ISBLANK(Staging!H300),-100,+Staging!H300)","v":0},{"$f":"IF(ISBLANK(Staging!I300),-100,+Staging!I300)","v":0},{"$f":"IF(ISBLANK(Staging!J300),-100,+Staging!J300)","v":0}]
[298,{"$f":"IF(ISBLANK(Staging!D301),-100,+Staging!D301)","v":0},{"$f":"IF(ISBLANK(Staging!E301),-100,+Staging!E301)","v":0},{"$f":"IF(ISBLANK(Staging!F301),-100,+Staging!F301)","v":0},{"$f":"IF(ISBLANK(Staging!G301),-100,+Staging!G301)","v":0},{"$f":"IF(ISBLANK(Staging!H301),-100,+Staging!H301)","v":0},{"$f":"IF(ISBLANK(Staging!I301),-100,+Staging!I301)","v":0},{"$f":"IF(ISBLANK(Staging!J301),-100,+Staging!J301)","v":0}]
[299,{"$f":"IF(ISBLANK(Staging!D302),-100,+Staging!D302)","v":0},{"$f":"IF(ISBLANK(Staging!E302),-100,+Staging!E302)","v":0},{"$f":"IF(ISBLANK(Staging!F302),-100,+Staging!F302)","v":0},{"$f":"IF(ISBLANK(Staging!G302),-100,+Staging!G302)","v":0},{"$f":"IF(ISBLANK(Staging!H302),-100,+Staging!H302)","v":0},{"$f":"IF(ISBLANK(Staging!I302),-100,+Staging!I302)","v":0},{"$f":"IF(ISBLANK(Staging!J302),-100,+Staging!J302)","v":0}]
[300,{"$f":"IF(ISBLANK(Staging!D303),-100,+Staging!D303)","v":0},{"$f":"IF(ISBLANK(Staging!E303),-100,+Staging!E303)","v":0},{"$f":"IF(ISBLANK(Staging!F303),-100,+Staging!F303)","v":0},{"$f":"IF(ISBLANK(Staging!G303),-100,+Staging!G303)","v":0},{"$f":"IF(ISBLANK(Staging!H303),-100,+Staging!H303)","v":0},{"$f":"IF(ISBLANK(Staging!I303),-100,+Staging!I303)","v":0},{"$f":"IF(ISBLANK(Staging!J303),-100,+Staging!J303)","v":0}]
[301,{"$f":"IF(ISBLANK(Staging!D304),-100,+Staging!D304)","v":0},{"$f":"IF(ISBLANK(Staging!E304),-100,+Staging!E304)","v":0},{"$f":"IF(ISBLANK(Staging!F304),-100,+Staging!F304)","v":0},{"$f":"IF(ISBLANK(Staging!G304),-100,+Staging!G304)","v":0},{"$f":"IF(ISBLANK(Staging!H304),-100,+Staging!H304)","v":0},{"$f":"IF(ISBLANK(Staging!I304),-100,+Staging!I304)","v":0},{"$f":"IF(ISBLANK(Staging!J304),-100,+Staging!J304)","v":0}]
[302,{"$f":"IF(ISBLANK(Staging!D305),-100,+Staging!D305)","v":0},{"$f":"IF(ISBLANK(Staging!E305),-100,+Staging!E305)","v":0},{"$f":"IF(ISBLANK(Staging!F305),-100,+Staging!F305)","v":0},{"$f":"IF(ISBLANK(Staging!G305),-100,+Staging!G305)","v":0},{"$f":"IF(ISBLANK(Staging!H305),-100,+Staging!H305)","v":0},{"$f":"IF(ISBLANK(Staging!I305),-100,+Staging!I305)","v":0},{"$f":"IF(ISBLANK(Staging!J305),-100,+Staging!J305)","v":0}]
[303,{"$f":"IF(ISBLANK(Staging!D306),-100,+Staging!D306)","v":0},{"$f":"IF(ISBLANK(Staging!E306),-100,+Staging!E306)","v":0},{"$f":"IF(ISBLANK(Staging!F306),-100,+Staging!F306)","v":0},{"$f":"IF(ISBLANK(Staging!G306),-100,+Staging!G306)","v":0},{"$f":"IF(ISBLANK(Staging!H306),-100,+Staging!H306)","v":0},{"$f":"IF(ISBLANK(Staging!I306),-100,+Staging!I306)","v":0},{"$f":"IF(ISBLANK(Staging!J306),-100,+Staging!J306)","v":0}]
[304,{"$f":"IF(ISBLANK(Staging!D307),-100,+Staging!D307)","v":0},{"$f":"IF(ISBLANK(Staging!E307),-100,+Staging!E307)","v":0},{"$f":"IF(ISBLANK(Staging!F307),-100,+Staging!F307)","v":0},{"$f":"IF(ISBLANK(Staging!G307),-100,+Staging!G307)","v":0},{"$f":"IF(ISBLANK(Staging!H307),-100,+Staging!H307)","v":0},{"$f":"IF(ISBLANK(Staging!I307),-100,+Staging!I307)","v":0},{"$f":"IF(ISBLANK(Staging!J307),-100,+Staging!J307)","v":0}]
[305,{"$f":"IF(ISBLANK(Staging!D308),-100,+Staging!D308)","v":0},{"$f":"IF(ISBLANK(Staging!E308),-100,+Staging!E308)","v":0},{"$f":"IF(ISBLANK(Staging!F308),-100,+Staging!F308)","v":0},{"$f":"IF(ISBLANK(Staging!G308),-100,+Staging!G308)","v":0},{"$f":"IF(ISBLANK(Staging!H308),-100,+Staging!H308)","v":0},{"$f":"IF(ISBLANK(Staging!I308),-100,+Staging!I308)","v":0},{"$f":"IF(ISBLANK(Staging!J308),-100,+Staging!J308)","v":0}]
[306,{"$f":"IF(ISBLANK(Staging!D309),-100,+Staging!D309)","v":0},{"$f":"IF(ISBLANK(Staging!E309),-100,+Staging!E309)","v":0},{"$f":"IF(ISBLANK(Staging!F309),-100,+Staging!F309)","v":0},{"$f":"IF(ISBLANK(Staging!G309),-100,+Staging!G309)","v":0},{"$f":"IF(ISBLANK(Staging!H309),-100,+Staging!H309)","v":0},{"$f":"IF(ISBLANK(Staging!I309),-100,+Staging!I309)","v":0},{"$f":"IF(ISBLANK(Staging!J309),-100,+Staging!J309)","v":0}]
[307,{"$f":"IF(ISBLANK(Staging!D310),-100,+Staging!D310)","v":0},{"$f":"IF(ISBLANK(Staging!E310),-100,+Staging!E310)","v":0},{"$f":"IF(ISBLANK(Staging!F310),-100,+Staging!F310)","v":0},{"$f":"IF(ISBLANK(Staging!G310),-100,+Staging!G310)","v":0},{"$f":"IF(ISBLANK(Staging!H310),-100,+Staging!H310)","v":0},{"$f":"IF(ISBLANK(Staging!I310),-100,+Staging!I310)","v":0},{"$f":"IF(ISBLANK(Staging!J310),-100,+Staging!J310)","v":0}]
[308,{"$f":"IF(ISBLANK(Staging!D311),-100,+Staging!D311)","v":0},{"$f":"IF(ISBLANK(Staging!E311),-100,+Staging!E311)","v":0},{"$f":"IF(ISBLANK(Staging!F311),-100,+Staging!F311)","v":0},{"$f":"IF(ISBLANK(Staging!G311),-100,+Staging!G311)","v":0},{"$f":"IF(ISBLANK(Staging!H311),-100,+Staging!H311)","v":0},{"$f":"IF(ISBLANK(Staging!I311),-100,+Staging!I311)","v":0},{"$f":"IF(ISBLANK(Staging!J311),-100,+Staging!J311)","v":0}]
[309,{"$f":"IF(ISBLANK(Staging!D312),-100,+Staging!D312)","v":0},{"$f":"IF(ISBLANK(Staging!E312),-100,+Staging!E312)","v":0},{"$f":"IF(ISBLANK(Staging!F312),-100,+Staging!F312)","v":0},{"$f":"IF(ISBLANK(Staging!G312),-100,+Staging!G312)","v":0},{"$f":"IF(ISBLANK(Staging!H312),-100,+Staging!H312)","v":0},{"$f":"IF(ISBLANK(Staging!I312),-100,+Staging!I312)","v":0},{"$f":"IF(ISBLANK(Staging!J312),-100,+Staging!J312)","v":0}]
[310,{"$f":"IF(ISBLANK(Staging!D313),-100,+Staging!D313)","v":0},{"$f":"IF(ISBLANK(Staging!E313),-100,+Staging!E313)","v":0},{"$f":"IF(ISBLANK(Staging!F313),-100,+Staging!F313)","v":0},{"$f":"IF(ISBLANK(Staging!G313),-100,+Staging!G313)","v":0},{"$f":"IF(ISBLANK(Staging!H313),-100,+Staging!H313)","v":0},{"$f":"IF(ISBLANK(Staging!I313),-100,+Staging!I313)","v":0},{"$f":"IF(ISBLANK(Staging!J313),-100,+Staging!J313)","v":0}]
[311,{"$f":"IF(ISBLANK(Staging!D314),-100,+Staging!D314)","v":0},{"$f":"IF(ISBLANK(Staging!E314),-100,+Staging!E314)","v":0},{"$f":"IF(ISBLANK(Staging!F314),-100,+Staging!F314)","v":0},{"$f":"IF(ISBLANK(Staging!G314),-100,+Staging!G314)","v":0},{"$f":"IF(ISBLANK(Staging!H314),-100,+Staging!H314)","v":0},{"$f":"IF(ISBLANK(Staging!I314),-100,+Staging!I314)","v":0},{"$f":"IF(ISBLANK(Staging!J314),-100,+Staging!J314)","v":0}]
[312,{"$f":"IF(ISBLANK(Staging!D315),-100,+Staging!D315)","v":0},{"$f":"IF(ISBLANK(Staging!E315),-100,+Staging!E315)","v":0},{"$f":"IF(ISBLANK(Staging!F315),-100,+Staging!F315)","v":0},{"$f":"IF(ISBLANK(Staging!G315),-100,+Staging!G315)","v":0},{"$f":"IF(ISBLANK(Staging!H315),-100,+Staging!H315)","v":0},{"$f":"IF(ISBLANK(Staging!I315),-100,+Staging!I315)","v":0},{"$f":"IF(ISBLANK(Staging!J315),-100,+Staging!J315)","v":0}]
[313,{"$f":"IF(ISBLANK(Staging!D316),-100,+Staging!D316)","v":0},{"$f":"IF(ISBLANK(Staging!E316),-100,+Staging!E316)","v":0},{"$f":"IF(ISBLANK(Staging!F316),-100,+Staging!F316)","v":0},{"$f":"IF(ISBLANK(Staging!G316),-100,+Staging!G316)","v":0},{"$f":"IF(ISBLANK(Staging!H316),-100,+Staging!H316)","v":0},{"$f":"IF(ISBLANK(Staging!I316),-100,+Staging!I316)","v":0},{"$f":"IF(ISBLANK(Staging!J316),-100,+Staging!J316)","v":0}]
[314,{"$f":"IF(ISBLANK(Staging!D317),-100,+Staging!D317)","v":0},{"$f":"IF(ISBLANK(Staging!E317),-100,+Staging!E317)","v":0},{"$f":"IF(ISBLANK(Staging!F317),-100,+Staging!F317)","v":0},{"$f":"IF(ISBLANK(Staging!G317),-100,+Staging!G317)","v":0},{"$f":"IF(ISBLANK(Staging!H317),-100,+Staging!H317)","v":0},{"$f":"IF(ISBLANK(Staging!I317),-100,+Staging!I317)","v":0},{"$f":"IF(ISBLANK(Staging!J317),-100,+Staging!J317)","v":0}]
[315,{"$f":"IF(ISBLANK(Staging!D318),-100,+Staging!D318)","v":0},{"$f":"IF(ISBLANK(Staging!E318),-100,+Staging!E318)","v":0},{"$f":"IF(ISBLANK(Staging!F318),-100,+Staging!F318)","v":0},{"$f":"IF(ISBLANK(Staging!G318),-100,+Staging!G318)","v":0},{"$f":"IF(ISBLANK(Staging!H318),-100,+Staging!H318)","v":0},{"$f":"IF(ISBLANK(Staging!I318),-100,+Staging!I318)","v":0},{"$f":"IF(ISBLANK(Staging!J318),-100,+Staging!J318)","v":0}]
[316,{"$f":"IF(ISBLANK(Staging!D319),-100,+Staging!D319)","v":0},{"$f":"IF(ISBLANK(Staging!E319),-100,+Staging!E319)","v":0},{"$f":"IF(ISBLANK(Staging!F319),-100,+Staging!F319)","v":0},{"$f":"IF(ISBLANK(Staging!G319),-100,+Staging!G319)","v":0},{"$f":"IF(ISBLANK(Staging!H319),-100,+Staging!H319)","v":0},{"$f":"IF(ISBLANK(Staging!I319),-100,+Staging!I319)","v":0},{"$f":"IF(ISBLANK(Staging!J319),-100,+Staging!J319)","v":0}]
[317,{"$f":"IF(ISBLANK(Staging!D320),-100,+Staging!D320)","v":0},{"$f":"IF(ISBLANK(Staging!E320),-100,+Staging!E320)","v":0},{"$f":"IF(ISBLANK(Staging!F320),-100,+Staging!F320)","v":0},{"$f":"IF(ISBLANK(Staging!G320),-100,+Staging!G320)","v":0},{"$f":"IF(ISBLANK(Staging!H320),-100,+Staging!H320)","v":0},{"$f":"IF(ISBLANK(Staging!I320),-100,+Staging!I320)","v":0},{"$f":"IF(ISBLANK(Staging!J320),-100,+Staging!J320)","v":0}]
[318,{"$f":"IF(ISBLANK(Staging!D321),-100,+Staging!D321)","v":0},{"$f":"IF(ISBLANK(Staging!E321),-100,+Staging!E321)","v":0},{"$f":"IF(ISBLANK(Staging!F321),-100,+Staging!F321)","v":0},{"$f":"IF(ISBLANK(Staging!G321),-100,+Staging!G321)","v":0},{"$f":"IF(ISBLANK(Staging!H321),-100,+Staging!H321)","v":0},{"$f":"IF(ISBLANK(Staging!I321),-100,+Staging!I321)","v":0},{"$f":"IF(ISBLANK(Staging!J321),-100,+Staging!J321)","v":0}]
[319,{"$f":"IF(ISBLANK(Staging!D322),-100,+Staging!D322)","v":0},{"$f":"IF(ISBLANK(Staging!E322),-100,+Staging!E322)","v":0},{"$f":"IF(ISBLANK(Staging!F322),-100,+Staging!F322)","v":0},{"$f":"IF(ISBLANK(Staging!G322),-100,+Staging!G322)","v":0},{"$f":"IF(ISBLANK(Staging!H322),-100,+Staging!H322)","v":0},{"$f":"IF(ISBLANK(Staging!I322),-100,+Staging!I322)","v":0},{"$f":"IF(ISBLANK(Staging!J322),-100,+Staging!J322)","v":0}]
[320,{"$f":"IF(ISBLANK(Staging!D323),-100,+Staging!D323)","v":0},{"$f":"IF(ISBLANK(Staging!E323),-100,+Staging!E323)","v":0},{"$f":"IF(ISBLANK(Staging!F323),-100,+Staging!F323)","v":0},{"$f":"IF(ISBLANK(Staging!G323),-100,+Staging!G323)","v":0},{"$f":"IF(ISBLANK(Staging!H323),-100,+Staging!H323)","v":0},{"$f":"IF(ISBLANK(Staging!I323),-100,+Staging!I323)","v":0},{"$f":"IF(ISBLANK(Staging!J323),-100,+Staging!J323)","v":0}]
[321,{"$f":"IF(ISBLANK(Staging!D324),-100,+Staging!D324)","v":0},{"$f":"IF(ISBLANK(Staging!E324),-100,+Staging!E324)","v":0},{"$f":"IF(ISBLANK(Staging!F324),-100,+Staging!F324)","v":0},{"$f":"IF(ISBLANK(Staging!G324),-100,+Staging!G324)","v":0},{"$f":"IF(ISBLANK(Staging!H324),-100,+Staging!H324)","v":0},{"$f":"IF(ISBLANK(Staging!I324),-100,+Staging!I324)","v":0},{"$f":"IF(ISBLANK(Staging!J324),-100,+Staging!J324)","v":0}]
[322,{"$f":"IF(ISBLANK(Staging!D325),-100,+Staging!D325)","v":0},{"$f":"IF(ISBLANK(Staging!E325),-100,+Staging!E325)","v":0},{"$f":"IF(ISBLANK(Staging!F325),-100,+Staging!F325)","v":0},{"$f":"IF(ISBLANK(Staging!G325),-100,+Staging!G325)","v":0},{"$f":"IF(ISBLANK(Staging!H325),-100,+Staging!H325)","v":0},{"$f":"IF(ISBLANK(Staging!I325),-100,+Staging!I325)","v":0},{"$f":"IF(ISBLANK(Staging!J325),-100,+Staging!J325)","v":0}]
[323,{"$f":"IF(ISBLANK(Staging!D326),-100,+Staging!D326)","v":0},{"$f":"IF(ISBLANK(Staging!E326),-100,+Staging!E326)","v":0},{"$f":"IF(ISBLANK(Staging!F326),-100,+Staging!F326)","v":0},{"$f":"IF(ISBLANK(Staging!G326),-100,+Staging!G326)","v":0},{"$f":"IF(ISBLANK(Staging!H326),-100,+Staging!H326)","v":0},{"$f":"IF(ISBLANK(Staging!I326),-100,+Staging!I326)","v":0},{"$f":"IF(ISBLANK(Staging!J326),-100,+Staging!J326)","v":0}]
[324,{"$f":"IF(ISBLANK(Staging!D327),-100,+Staging!D327)","v":0},{"$f":"IF(ISBLANK(Staging!E327),-100,+Staging!E327)","v":0},{"$f":"IF(ISBLANK(Staging!F327),-100,+Staging!F327)","v":0},{"$f":"IF(ISBLANK(Staging!G327),-100,+Staging!G327)","v":0},{"$f":"IF(ISBLANK(Staging!H327),-100,+Staging!H327)","v":0},{"$f":"IF(ISBLANK(Staging!I327),-100,+Staging!I327)","v":0},{"$f":"IF(ISBLANK(Staging!J327),-100,+Staging!J327)","v":0}]
[325,{"$f":"IF(ISBLANK(Staging!D328),-100,+Staging!D328)","v":0},{"$f":"IF(ISBLANK(Staging!E328),-100,+Staging!E328)","v":0},{"$f":"IF(ISBLANK(Staging!F328),-100,+Staging!F328)","v":0},{"$f":"IF(ISBLANK(Staging!G328),-100,+Staging!G328)","v":0},{"$f":"IF(ISBLANK(Staging!H328),-100,+Staging!H328)","v":0},{"$f":"IF(ISBLANK(Staging!I328),-100,+Staging!I328)","v":0},{"$f":"IF(ISBLANK(Staging!J328),-100,+Staging!J328)","v":0}]
[326,{"$f":"IF(ISBLANK(Staging!D329),-100,+Staging!D329)","v":0},{"$f":"IF(ISBLANK(Staging!E329),-100,+Staging!E329)","v":0},{"$f":"IF(ISBLANK(Staging!F329),-100,+Staging!F329)","v":0},{"$f":"IF(ISBLANK(Staging!G329),-100,+Staging!G329)","v":0},{"$f":"IF(ISBLANK(Staging!H329),-100,+Staging!H329)","v":0},{"$f":"IF(ISBLANK(Staging!I329),-100,+Staging!I329)","v":0},{"$f":"IF(ISBLANK(Staging!J329),-100,+Staging!J329)","v":0}]
[327,{"$f":"IF(ISBLANK(Staging!D330),-100,+Staging!D330)","v":0},{"$f":"IF(ISBLANK(Staging!E330),-100,+Staging!E330)","v":0},{"$f":"IF(ISBLANK(Staging!F330),-100,+Staging!F330)","v":0},{"$f":"IF(ISBLANK(Staging!G330),-100,+Staging!G330)","v":0},{"$f":"IF(ISBLANK(Staging!H330),-100,+Staging!H330)","v":0},{"$f":"IF(ISBLANK(Staging!I330),-100,+Staging!I330)","v":0},{"$f":"IF(ISBLANK(Staging!J330),-100,+Staging!J330)","v":0}]
[328,{"$f":"IF(ISBLANK(Staging!D331),-100,+Staging!D331)","v":0},{"$f":"IF(ISBLANK(Staging!E331),-100,+Staging!E331)","v":0},{"$f":"IF(ISBLANK(Staging!F331),-100,+Staging!F331)","v":0},{"$f":"IF(ISBLANK(Staging!G331),-100,+Staging!G331)","v":0},{"$f":"IF(ISBLANK(Staging!H331),-100,+Staging!H331)","v":0},{"$f":"IF(ISBLANK(Staging!I331),-100,+Staging!I331)","v":0},{"$f":"IF(ISBLANK(Staging!J331),-100,+Staging!J331)","v":0}]
[329,{"$f":"IF(ISBLANK(Staging!D332),-100,+Staging!D332)","v":0},{"$f":"IF(ISBLANK(Staging!E332),-100,+Staging!E332)","v":0},{"$f":"IF(ISBLANK(Staging!F332),-100,+Staging!F332)","v":0},{"$f":"IF(ISBLANK(Staging!G332),-100,+Staging!G332)","v":0},{"$f":"IF(ISBLANK(Staging!H332),-100,+Staging!H332)","v":0},{"$f":"IF(ISBLANK(Staging!I332),-100,+Staging!I332)","v":0},{"$f":"IF(ISBLANK(Staging!J332),-100,+Staging!J332)","v":0}]
[330,{"$f":"IF(ISBLANK(Staging!D333),-100,+Staging!D333)","v":0},{"$f":"IF(ISBLANK(Staging!E333),-100,+Staging!E333)","v":0},{"$f":"IF(ISBLANK(Staging!F333),-100,+Staging!F333)","v":0},{"$f":"IF(ISBLANK(Staging!G333),-100,+Staging!G333)","v":0},{"$f":"IF(ISBLANK(Staging!H333),-100,+Staging!H333)","v":0},{"$f":"IF(ISBLANK(Staging!I333),-100,+Staging!I333)","v":0},{"$f":"IF(ISBLANK(Staging!J333),-100,+Staging!J333)","v":0}]
[331,{"$f":"IF(ISBLANK(Staging!D334),-100,+Staging!D334)","v":0},{"$f":"IF(ISBLANK(Staging!E334),-100,+Staging!E334)","v":0},{"$f":"IF(ISBLANK(Staging!F334),-100,+Staging!F334)","v":0},{"$f":"IF(ISBLANK(Staging!G334),-100,+Staging!G334)","v":0},{"$f":"IF(ISBLANK(Staging!H334),-100,+Staging!H334)","v":0},{"$f":"IF(ISBLANK(Staging!I334),-100,+Staging!I334)","v":0},{"$f":"IF(ISBLANK(Staging!J334),-100,+Staging!J334)","v":0}]
[332,{"$f":"IF(ISBLANK(Staging!D335),-100,+Staging!D335)","v":0},{"$f":"IF(ISBLANK(Staging!E335),-100,+Staging!E335)","v":0},{"$f":"IF(ISBLANK(Staging!F335),-100,+Staging!F335)","v":0},{"$f":"IF(ISBLANK(Staging!G335),-100,+Staging!G335)","v":0},{"$f":"IF(ISBLANK(Staging!H335),-100,+Staging!H335)","v":0},{"$f":"IF(ISBLANK(Staging!I335),-100,+Staging!I335)","v":0},{"$f":"IF(ISBLANK(Staging!J335),-100,+Staging!J335)","v":0}]
[333,{"$f":"IF(ISBLANK(Staging!D336),-100,+Staging!D336)","v":0},{"$f":"IF(ISBLANK(Staging!E336),-100,+Staging!E336)","v":0},{"$f":"IF(ISBLANK(Staging!F336),-100,+Staging!F336)","v":0},{"$f":"IF(ISBLANK(Staging!G336),-100,+Staging!G336)","v":0},{"$f":"IF(ISBLANK(Staging!H336),-100,+Staging!H336)","v":0},{"$f":"IF(ISBLANK(Staging!I336),-100,+Staging!I336)","v":0},{"$f":"IF(ISBLANK(Staging!J336),-100,+Staging!J336)","v":0}]
[334,{"$f":"IF(ISBLANK(Staging!D337),-100,+Staging!D337)","v":0},{"$f":"IF(ISBLANK(Staging!E337),-100,+Staging!E337)","v":0},{"$f":"IF(ISBLANK(Staging!F337),-100,+Staging!F337)","v":0},{"$f":"IF(ISBLANK(Staging!G337),-100,+Staging!G337)","v":0},{"$f":"IF(ISBLANK(Staging!H337),-100,+Staging!H337)","v":0},{"$f":"IF(ISBLANK(Staging!I337),-100,+Staging!I337)","v":0},{"$f":"IF(ISBLANK(Staging!J337),-100,+Staging!J337)","v":0}]
[335,{"$f":"IF(ISBLANK(Staging!D338),-100,+Staging!D338)","v":0},{"$f":"IF(ISBLANK(Staging!E338),-100,+Staging!E338)","v":0},{"$f":"IF(ISBLANK(Staging!F338),-100,+Staging!F338)","v":0},{"$f":"IF(ISBLANK(Staging!G338),-100,+Staging!G338)","v":0},{"$f":"IF(ISBLANK(Staging!H338),-100,+Staging!H338)","v":0},{"$f":"IF(ISBLANK(Staging!I338),-100,+Staging!I338)","v":0},{"$f":"IF(ISBLANK(Staging!J338),-100,+Staging!J338)","v":0}]
[336,{"$f":"IF(ISBLANK(Staging!D339),-100,+Staging!D339)","v":0},{"$f":"IF(ISBLANK(Staging!E339),-100,+Staging!E339)","v":0},{"$f":"IF(ISBLANK(Staging!F339),-100,+Staging!F339)","v":0},{"$f":"IF(ISBLANK(Staging!G339),-100,+Staging!G339)","v":0},{"$f":"IF(ISBLANK(Staging!H339),-100,+Staging!H339)","v":0},{"$f":"IF(ISBLANK(Staging!I339),-100,+Staging!I339)","v":0},{"$f":"IF(ISBLANK(Staging!J339),-100,+Staging!J339)","v":0}]
[337,{"$f":"IF(ISBLANK(Staging!D340),-100,+Staging!D340)","v":0},{"$f":"IF(ISBLANK(Staging!E340),-100,+Staging!E340)","v":0},{"$f":"IF(ISBLANK(Staging!F340),-100,+Staging!F340)","v":0},{"$f":"IF(ISBLANK(Staging!G340),-100,+Staging!G340)","v":0},{"$f":"IF(ISBLANK(Staging!H340),-100,+Staging!H340)","v":0},{"$f":"IF(ISBLANK(Staging!I340),-100,+Staging!I340)","v":0},{"$f":"IF(ISBLANK(Staging!J340),-100,+Staging!J340)","v":0}]
[338,{"$f":"IF(ISBLANK(Staging!D341),-100,+Staging!D341)","v":0},{"$f":"IF(ISBLANK(Staging!E341),-100,+Staging!E341)","v":0},{"$f":"IF(ISBLANK(Staging!F341),-100,+Staging!F341)","v":0},{"$f":"IF(ISBLANK(Staging!G341),-100,+Staging!G341)","v":0},{"$f":"IF(ISBLANK(Staging!H341),-100,+Staging!H341)","v":0},{"$f":"IF(ISBLANK(Staging!I341),-100,+Staging!I341)","v":0},{"$f":"IF(ISBLANK(Staging!J341),-100,+Staging!J341)","v":0}]
[339,{"$f":"IF(ISBLANK(Staging!D342),-100,+Staging!D342)","v":0},{"$f":"IF(ISBLANK(Staging!E342),-100,+Staging!E342)","v":0},{"$f":"IF(ISBLANK(Staging!F342),-100,+Staging!F342)","v":0},{"$f":"IF(ISBLANK(Staging!G342),-100,+Staging!G342)","v":0},{"$f":"IF(ISBLANK(Staging!H342),-100,+Staging!H342)","v":0},{"$f":"IF(ISBLANK(Staging!I342),-100,+Staging!I342)","v":0},{"$f":"IF(ISBLANK(Staging!J342),-100,+Staging!J342)","v":0}]
[340,{"$f":"IF(ISBLANK(Staging!D343),-100,+Staging!D343)","v":0},{"$f":"IF(ISBLANK(Staging!E343),-100,+Staging!E343)","v":0},{"$f":"IF(ISBLANK(Staging!F343),-100,+Staging!F343)","v":0},{"$f":"IF(ISBLANK(Staging!G343),-100,+Staging!G343)","v":0},{"$f":"IF(ISBLANK(Staging!H343),-100,+Staging!H343)","v":0},{"$f":"IF(ISBLANK(Staging!I343),-100,+Staging!I343)","v":0},{"$f":"IF(ISBLANK(Staging!J343),-100,+Staging!J343)","v":0}]
[341,{"$f":"IF(ISBLANK(Staging!D344),-100,+Staging!D344)","v":0},{"$f":"IF(ISBLANK(Staging!E344),-100,+Staging!E344)","v":0},{"$f":"IF(ISBLANK(Staging!F344),-100,+Staging!F344)","v":0},{"$f":"IF(ISBLANK(Staging!G344),-100,+Staging!G344)","v":0},{"$f":"IF(ISBLANK(Staging!H344),-100,+Staging!H344)","v":0},{"$f":"IF(ISBLANK(Staging!I344),-100,+Staging!I344)","v":0},{"$f":"IF(ISBLANK(Staging!J344),-100,+Staging!J344)","v":0}]
[342,{"$f":"IF(ISBLANK(Staging!D345),-100,+Staging!D345)","v":0},{"$f":"IF(ISBLANK(Staging!E345),-100,+Staging!E345)","v":0},{"$f":"IF(ISBLANK(Staging!F345),-100,+Staging!F345)","v":0},{"$f":"IF(ISBLANK(Staging!G345),-100,+Staging!G345)","v":0},{"$f":"IF(ISBLANK(Staging!H345),-100,+Staging!H345)","v":0},{"$f":"IF(ISBLANK(Staging!I345),-100,+Staging!I345)","v":0},{"$f":"IF(ISBLANK(Staging!J345),-100,+Staging!J345)","v":0}]
[343,{"$f":"IF(ISBLANK(Staging!D346),-100,+Staging!D346)","v":0},{"$f":"IF(ISBLANK(Staging!E346),-100,+Staging!E346)","v":0},{"$f":"IF(ISBLANK(Staging!F346),-100,+Staging!F346)","v":0},{"$f":"IF(ISBLANK(Staging!G346),-100,+Staging!G346)","v":0},{"$f":"IF(ISBLANK(Staging!H346),-100,+Staging!H346)","v":0},{"$f":"IF(ISBLANK(Staging!I346),-100,+Staging!I346)","v":0},{"$f":"IF(ISBLANK(Staging!J346),-100,+Staging!J346)","v":0}]
[344,{"$f":"IF(ISBLANK(Staging!D347),-100,+Staging!D347)","v":0},{"$f":"IF(ISBLANK(Staging!E347),-100,+Staging!E347)","v":0},{"$f":"IF(ISBLANK(Staging!F347),-100,+Staging!F347)","v":0},{"$f":"IF(ISBLANK(Staging!G347),-100,+Staging!G347)","v":0},{"$f":"IF(ISBLANK(Staging!H347),-100,+Staging!H347)","v":0},{"$f":"IF(ISBLANK(Staging!I347),-100,+Staging!I347)","v":0},{"$f":"IF(ISBLANK(Staging!J347),-100,+Staging!J347)","v":0}]
[345,{"$f":"IF(ISBLANK(Staging!D348),-100,+Staging!D348)","v":0},{"$f":"IF(ISBLANK(Staging!E348),-100,+Staging!E348)","v":0},{"$f":"IF(ISBLANK(Staging!F348),-100,+Staging!F348)","v":0},{"$f":"IF(ISBLANK(Staging!G348),-100,+Staging!G348)","v":0},{"$f":"IF(ISBLANK(Staging!H348),-100,+Staging!H348)","v":0},{"$f":"IF(ISBLANK(Staging!I348),-100,+Staging!I348)","v":0},{"$f":"IF(ISBLANK(Staging!J348),-100,+Staging!J348)","v":0}]
[346,{"$f":"IF(ISBLANK(Staging!D349),-100,+Staging!D349)","v":0},{"$f":"IF(ISBLANK(Staging!E349),-100,+Staging!E349)","v":0},{"$f":"IF(ISBLANK(Staging!F349),-100,+Staging!F349)","v":0},{"$f":"IF(ISBLANK(Staging!G349),-100,+Staging!G349)","v":0},{"$f":"IF(ISBLANK(Staging!H349),-100,+Staging!H349)","v":0},{"$f":"IF(ISBLANK(Staging!I349),-100,+Staging!I349)","v":0},{"$f":"IF(ISBLANK(Staging!J349),-100,+Staging!J349)","v":0}]
[347,{"$f":"IF(ISBLANK(Staging!D350),-100,+Staging!D350)","v":0},{"$f":"IF(ISBLANK(Staging!E350),-100,+Staging!E350)","v":0},{"$f":"IF(ISBLANK(Staging!F350),-100,+Staging!F350)","v":0},{"$f":"IF(ISBLANK(Staging!G350),-100,+Staging!G350)","v":0},{"$f":"IF(ISBLANK(Staging!H350),-100,+Staging!H350)","v":0},{"$f":"IF(ISBLANK(Staging!I350),-100,+Staging!I350)","v":0},{"$f":"IF(ISBLANK(Staging!J350),-100,+Staging!J350)","v":0}]
[348,{"$f":"IF(ISBLANK(Staging!D351),-100,+Staging!D351)","v":0},{"$f":"IF(ISBLANK(Staging!E351),-100,+Staging!E351)","v":0},{"$f":"IF(ISBLANK(Staging!F351),-100,+Staging!F351)","v":0},{"$f":"IF(ISBLANK(Staging!G351),-100,+Staging!G351)","v":0},{"$f":"IF(ISBLANK(Staging!H351),-100,+Staging!H351)","v":0},{"$f":"IF(ISBLANK(Staging!I351),-100,+Staging!I351)","v":0},{"$f":"IF(ISBLANK(Staging!J351),-100,+Staging!J351)","v":0}]
[349,{"$f":"IF(ISBLANK(Staging!D352),-100,+Staging!D352)","v":0},{"$f":"IF(ISBLANK(Staging!E352),-100,+Staging!E352)","v":0},{"$f":"IF(ISBLANK(Staging!F352),-100,+Staging!F352)","v":0},{"$f":"IF(ISBLANK(Staging!G352),-100,+Staging!G352)","v":0},{"$f":"IF(ISBLANK(Staging!H352),-100,+Staging!H352)","v":0},{"$f":"IF(ISBLANK(Staging!I352),-100,+Staging!I352)","v":0},{"$f":"IF(ISBLANK(Staging!J352),-100,+Staging!J352)","v":0}]
[350,{"$f":"IF(ISBLANK(Staging!D353),-100,+Staging!D353)","v":0},{"$f":"IF(ISBLANK(Staging!E353),-100,+Staging!E353)","v":0},{"$f":"IF(ISBLANK(Staging!F353),-100,+Staging!F353)","v":0},{"$f":"IF(ISBLANK(Staging!G353),-100,+Staging!G353)","v":0},{"$f":"IF(ISBLANK(Staging!H353),-100,+Staging!H353)","v":0},{"$f":"IF(ISBLANK(Staging!I353),-100,+Staging!I353)","v":0},{"$f":"IF(ISBLANK(Staging!J353),-100,+Staging!J353)","v":0}]
[351,{"$f":"IF(ISBLANK(Staging!D354),-100,+Staging!D354)","v":0},{"$f":"IF(ISBLANK(Staging!E354),-100,+Staging!E354)","v":0},{"$f":"IF(ISBLANK(Staging!F354),-100,+Staging!F354)","v":0},{"$f":"IF(ISBLANK(Staging!G354),-100,+Staging!G354)","v":0},{"$f":"IF(ISBLANK(Staging!H354),-100,+Staging!H354)","v":0},{"$f":"IF(ISBLANK(Staging!I354),-100,+Staging!I354)","v":0},{"$f":"IF(ISBLANK(Staging!J354),-100,+Staging!J354)","v":0}]
[352,{"$f":"IF(ISBLANK(Staging!D355),-100,+Staging!D355)","v":0},{"$f":"IF(ISBLANK(Staging!E355),-100,+Staging!E355)","v":0},{"$f":"IF(ISBLANK(Staging!F355),-100,+Staging!F355)","v":0},{"$f":"IF(ISBLANK(Staging!G355),-100,+Staging!G355)","v":0},{"$f":"IF(ISBLANK(Staging!H355),-100,+Staging!H355)","v":0},{"$f":"IF(ISBLANK(Staging!I355),-100,+Staging!I355)","v":0},{"$f":"IF(ISBLANK(Staging!J355),-100,+Staging!J355)","v":0}]
[353,{"$f":"IF(ISBLANK(Staging!D356),-100,+Staging!D356)","v":0},{"$f":"IF(ISBLANK(Staging!E356),-100,+Staging!E356)","v":0},{"$f":"IF(ISBLANK(Staging!F356),-100,+Staging!F356)","v":0},{"$f":"IF(ISBLANK(Staging!G356),-100,+Staging!G356)","v":0},{"$f":"IF(ISBLANK(Staging!H356),-100,+Staging!H356)","v":0},{"$f":"IF(ISBLANK(Staging!I356),-100,+Staging!I356)","v":0},{"$f":"IF(ISBLANK(Staging!J356),-100,+Staging!J356)","v":0}]
[354,{"$f":"IF(ISBLANK(Staging!D357),-100,+Staging!D357)","v":0},{"$f":"IF(ISBLANK(Staging!E357),-100,+Staging!E357)","v":0},{"$f":"IF(ISBLANK(Staging!F357),-100,+Staging!F357)","v":0},{"$f":"IF(ISBLANK(Staging!G357),-100,+Staging!G357)","v":0},{"$f":"IF(ISBLANK(Staging!H357),-100,+Staging!H357)","v":0},{"$f":"IF(ISBLANK(Staging!I357),-100,+Staging!I357)","v":0},{"$f":"IF(ISBLANK(Staging!J357),-100,+Staging!J357)","v":0}]
[355,{"$f":"IF(ISBLANK(Staging!D358),-100,+Staging!D358)","v":0},{"$f":"IF(ISBLANK(Staging!E358),-100,+Staging!E358)","v":0},{"$f":"IF(ISBLANK(Staging!F358),-100,+Staging!F358)","v":0},{"$f":"IF(ISBLANK(Staging!G358),-100,+Staging!G358)","v":0},{"$f":"IF(ISBLANK(Staging!H358),-100,+Staging!H358)","v":0},{"$f":"IF(ISBLANK(Staging!I358),-100,+Staging!I358)","v":0},{"$f":"IF(ISBLANK(Staging!J358),-100,+Staging!J358)","v":0}]
[356,{"$f":"IF(ISBLANK(Staging!D359),-100,+Staging!D359)","v":0},{"$f":"IF(ISBLANK(Staging!E359),-100,+Staging!E359)","v":0},{"$f":"IF(ISBLANK(Staging!F359),-100,+Staging!F359)","v":0},{"$f":"IF(ISBLANK(Staging!G359),-100,+Staging!G359)","v":0},{"$f":"IF(ISBLANK(Staging!H359),-100,+Staging!H359)","v":0},{"$f":"IF(ISBLANK(Staging!I359),-100,+Staging!I359)","v":0},{"$f":"IF(ISBLANK(Staging!J359),-100,+Staging!J359)","v":0}]
[357,{"$f":"IF(ISBLANK(Staging!D360),-100,+Staging!D360)","v":0},{"$f":"IF(ISBLANK(Staging!E360),-100,+Staging!E360)","v":0},{"$f":"IF(ISBLANK(Staging!F360),-100,+Staging!F360)","v":0},{"$f":"IF(ISBLANK(Staging!G360),-100,+Staging!G360)","v":0},{"$f":"IF(ISBLANK(Staging!H360),-100,+Staging!H360)","v":0},{"$f":"IF(ISBLANK(Staging!I360),-100,+Staging!I360)","v":0},{"$f":"IF(ISBLANK(Staging!J360),-100,+Staging!J360)","v":0}]
[358,{"$f":"IF(ISBLANK(Staging!D361),-100,+Staging!D361)","v":0},{"$f":"IF(ISBLANK(Staging!E361),-100,+Staging!E361)","v":0},{"$f":"IF(ISBLANK(Staging!F361),-100,+Staging!F361)","v":0},{"$f":"IF(ISBLANK(Staging!G361),-100,+Staging!G361)","v":0},{"$f":"IF(ISBLANK(Staging!H361),-100,+Staging!H361)","v":0},{"$f":"IF(ISBLANK(Staging!I361),-100,+Staging!I361)","v":0},{"$f":"IF(ISBLANK(Staging!J361),-100,+Staging!J361)","v":0}]
[359,{"$f":"IF(ISBLANK(Staging!D362),-100,+Staging!D362)","v":0},{"$f":"IF(ISBLANK(Staging!E362),-100,+Staging!E362)","v":0},{"$f":"IF(ISBLANK(Staging!F362),-100,+Staging!F362)","v":0},{"$f":"IF(ISBLANK(Staging!G362),-100,+Staging!G362)","v":0},{"$f":"IF(ISBLANK(Staging!H362),-100,+Staging!H362)","v":0},{"$f":"IF(ISBLANK(Staging!I362),-100,+Staging!I362)","v":0},{"$f":"IF(ISBLANK(Staging!J362),-100,+Staging!J362)","v":0}]
[360,{"$f":"IF(ISBLANK(Staging!D363),-100,+Staging!D363)","v":0},{"$f":"IF(ISBLANK(Staging!E363),-100,+Staging!E363)","v":0},{"$f":"IF(ISBLANK(Staging!F363),-100,+Staging!F363)","v":0},{"$f":"IF(ISBLANK(Staging!G363),-100,+Staging!G363)","v":0},{"$f":"IF(ISBLANK(Staging!H363),-100,+Staging!H363)","v":0},{"$f":"IF(ISBLANK(Staging!I363),-100,+Staging!I363)","v":0},{"$f":"IF(ISBLANK(Staging!J363),-100,+Staging!J363)","v":0}]
[361,{"$f":"IF(ISBLANK(Staging!D364),-100,+Staging!D364)","v":0},{"$f":"IF(ISBLANK(Staging!E364),-100,+Staging!E364)","v":0},{"$f":"IF(ISBLANK(Staging!F364),-100,+Staging!F364)","v":0},{"$f":"IF(ISBLANK(Staging!G364),-100,+Staging!G364)","v":0},{"$f":"IF(ISBLANK(Staging!H364),-100,+Staging!H364)","v":0},{"$f":"IF(ISBLANK(Staging!I364),-100,+Staging!I364)","v":0},{"$f":"IF(ISBLANK(Staging!J364),-100,+Staging!J364)","v":0}]
[362,{"$f":"IF(ISBLANK(Staging!D365),-100,+Staging!D365)","v":0},{"$f":"IF(ISBLANK(Staging!E365),-100,+Staging!E365)","v":0},{"$f":"IF(ISBLANK(Staging!F365),-100,+Staging!F365)","v":0},{"$f":"IF(ISBLANK(Staging!G365),-100,+Staging!G365)","v":0},{"$f":"IF(ISBLANK(Staging!H365),-100,+Staging!H365)","v":0},{"$f":"IF(ISBLANK(Staging!I365),-100,+Staging!I365)","v":0},{"$f":"IF(ISBLANK(Staging!J365),-100,+Staging!J365)","v":0}]
[363,{"$f":"IF(ISBLANK(Staging!D366),-100,+Staging!D366)","v":0},{"$f":"IF(ISBLANK(Staging!E366),-100,+Staging!E366)","v":0},{"$f":"IF(ISBLANK(Staging!F366),-100,+Staging!F366)","v":0},{"$f":"IF(ISBLANK(Staging!G366),-100,+Staging!G366)","v":0},{"$f":"IF(ISBLANK(Staging!H366),-100,+Staging!H366)","v":0},{"$f":"IF(ISBLANK(Staging!I366),-100,+Staging!I366)","v":0},{"$f":"IF(ISBLANK(Staging!J366),-100,+Staging!J366)","v":0}]
[364,{"$f":"IF(ISBLANK(Staging!D367),-100,+Staging!D367)","v":0},{"$f":"IF(ISBLANK(Staging!E367),-100,+Staging!E367)","v":0},{"$f":"IF(ISBLANK(Staging!F367),-100,+Staging!F367)","v":0},{"$f":"IF(ISBLANK(Staging!G367),-100,+Staging!G367)","v":0},{"$f":"IF(ISBLANK(Staging!H367),-100,+Staging!H367)","v":0},{"$f":"IF(ISBLANK(Staging!I367),-100,+Staging!I367)","v":0},{"$f":"IF(ISBLANK(Staging!J367),-100,+Staging!J367)","v":0}]
[365,{"$f":"IF(ISBLANK(Staging!D368),-100,+Staging!D368)","v":0},{"$f":"IF(ISBLANK(Staging!E368),-100,+Staging!E368)","v":0},{"$f":"IF(ISBLANK(Staging!F368),-100,+Staging!F368)","v":0},{"$f":"IF(ISBLANK(Staging!G368),-100,+Staging!G368)","v":0},{"$f":"IF(ISBLANK(Staging!H368),-100,+Staging!H368)","v":0},{"$f":"IF(ISBLANK(Staging!I368),-100,+Staging!I368)","v":0},{"$f":"IF(ISBLANK(Staging!J368),-100,+Staging!J368)","v":0}]
[366,{"$f":"IF(ISBLANK(Staging!D369),-100,+Staging!D369)","v":0},{"$f":"IF(ISBLANK(Staging!E369),-100,+Staging!E369)","v":0},{"$f":"IF(ISBLANK(Staging!F369),-100,+Staging!F369)","v":0},{"$f":"IF(ISBLANK(Staging!G369),-100,+Staging!G369)","v":0},{"$f":"IF(ISBLANK(Staging!H369),-100,+Staging!H369)","v":0},{"$f":"IF(ISBLANK(Staging!I369),-100,+Staging!I369)","v":0},{"$f":"IF(ISBLANK(Staging!J369),-100,+Staging!J369)","v":0}]
[367,{"$f":"IF(ISBLANK(Staging!D370),-100,+Staging!D370)","v":0},{"$f":"IF(ISBLANK(Staging!E370),-100,+Staging!E370)","v":0},{"$f":"IF(ISBLANK(Staging!F370),-100,+Staging!F370)","v":0},{"$f":"IF(ISBLANK(Staging!G370),-100,+Staging!G370)","v":0},{"$f":"IF(ISBLANK(Staging!H370),-100,+Staging!H370)","v":0},{"$f":"IF(ISBLANK(Staging!I370),-100,+Staging!I370)","v":0},{"$f":"IF(ISBLANK(Staging!J370),-100,+Staging!J370)","v":0}]
[368,{"$f":"IF(ISBLANK(Staging!D371),-100,+Staging!D371)","v":0},{"$f":"IF(ISBLANK(Staging!E371),-100,+Staging!E371)","v":0},{"$f":"IF(ISBLANK(Staging!F371),-100,+Staging!F371)","v":0},{"$f":"IF(ISBLANK(Staging!G371),-100,+Staging!G371)","v":0},{"$f":"IF(ISBLANK(Staging!H371),-100,+Staging!H371)","v":0},{"$f":"IF(ISBLANK(Staging!I371),-100,+Staging!I371)","v":0},{"$f":"IF(ISBLANK(Staging!J371),-100,+Staging!J371)","v":0}]
[369,{"$f":"IF(ISBLANK(Staging!D372),-100,+Staging!D372)","v":0},{"$f":"IF(ISBLANK(Staging!E372),-100,+Staging!E372)","v":0},{"$f":"IF(ISBLANK(Staging!F372),-100,+Staging!F372)","v":0},{"$f":"IF(ISBLANK(Staging!G372),-100,+Staging!G372)","v":0},{"$f":"IF(ISBLANK(Staging!H372),-100,+Staging!H372)","v":0},{"$f":"IF(ISBLANK(Staging!I372),-100,+Staging!I372)","v":0},{"$f":"IF(ISBLANK(Staging!J372),-100,+Staging!J372)","v":0}]
[370,{"$f":"IF(ISBLANK(Staging!D373),-100,+Staging!D373)","v":0},{"$f":"IF(ISBLANK(Staging!E373),-100,+Staging!E373)","v":0},{"$f":"IF(ISBLANK(Staging!F373),-100,+Staging!F373)","v":0},{"$f":"IF(ISBLANK(Staging!G373),-100,+Staging!G373)","v":0},{"$f":"IF(ISBLANK(Staging!H373),-100,+Staging!H373)","v":0},{"$f":"IF(ISBLANK(Staging!I373),-100,+Staging!I373)","v":0},{"$f":"IF(ISBLANK(Staging!J373),-100,+Staging!J373)","v":0}]
[371,{"$f":"IF(ISBLANK(Staging!D374),-100,+Staging!D374)","v":0},{"$f":"IF(ISBLANK(Staging!E374),-100,+Staging!E374)","v":0},{"$f":"IF(ISBLANK(Staging!F374),-100,+Staging!F374)","v":0},{"$f":"IF(ISBLANK(Staging!G374),-100,+Staging!G374)","v":0},{"$f":"IF(ISBLANK(Staging!H374),-100,+Staging!H374)","v":0},{"$f":"IF(ISBLANK(Staging!I374),-100,+Staging!I374)","v":0},{"$f":"IF(ISBLANK(Staging!J374),-100,+Staging!J374)","v":0}]
[372,{"$f":"IF(ISBLANK(Staging!D375),-100,+Staging!D375)","v":0},{"$f":"IF(ISBLANK(Staging!E375),-100,+Staging!E375)","v":0},{"$f":"IF(ISBLANK(Staging!F375),-100,+Staging!F375)","v":0},{"$f":"IF(ISBLANK(Staging!G375),-100,+Staging!G375)","v":0},{"$f":"IF(ISBLANK(Staging!H375),-100,+Staging!H375)","v":0},{"$f":"IF(ISBLANK(Staging!I375),-100,+Staging!I375)","v":0},{"$f":"IF(ISBLANK(Staging!J375),-100,+Staging!J375)","v":0}]
[373,{"$f":"IF(ISBLANK(Staging!D376),-100,+Staging!D376)","v":0},{"$f":"IF(ISBLANK(Staging!E376),-100,+Staging!E376)","v":0},{"$f":"IF(ISBLANK(Staging!F376),-100,+Staging!F376)","v":0},{"$f":"IF(ISBLANK(Staging!G376),-100,+Staging!G376)","v":0},{"$f":"IF(ISBLANK(Staging!H376),-100,+Staging!H376)","v":0},{"$f":"IF(ISBLANK(Staging!I376),-100,+Staging!I376)","v":0},{"$f":"IF(ISBLANK(Staging!J376),-100,+Staging!J376)","v":0}]
[374,{"$f":"IF(ISBLANK(Staging!D377),-100,+Staging!D377)","v":0},{"$f":"IF(ISBLANK(Staging!E377),-100,+Staging!E377)","v":0},{"$f":"IF(ISBLANK(Staging!F377),-100,+Staging!F377)","v":0},{"$f":"IF(ISBLANK(Staging!G377),-100,+Staging!G377)","v":0},{"$f":"IF(ISBLANK(Staging!H377),-100,+Staging!H377)","v":0},{"$f":"IF(ISBLANK(Staging!I377),-100,+Staging!I377)","v":0},{"$f":"IF(ISBLANK(Staging!J377),-100,+Staging!J377)","v":0}]
[375,{"$f":"IF(ISBLANK(Staging!D378),-100,+Staging!D378)","v":0},{"$f":"IF(ISBLANK(Staging!E378),-100,+Staging!E378)","v":0},{"$f":"IF(ISBLANK(Staging!F378),-100,+Staging!F378)","v":0},{"$f":"IF(ISBLANK(Staging!G378),-100,+Staging!G378)","v":0},{"$f":"IF(ISBLANK(Staging!H378),-100,+Staging!H378)","v":0},{"$f":"IF(ISBLANK(Staging!I378),-100,+Staging!I378)","v":0},{"$f":"IF(ISBLANK(Staging!J378),-100,+Staging!J378)","v":0}]
[376,{"$f":"IF(ISBLANK(Staging!D379),-100,+Staging!D379)","v":0},{"$f":"IF(ISBLANK(Staging!E379),-100,+Staging!E379)","v":0},{"$f":"IF(ISBLANK(Staging!F379),-100,+Staging!F379)","v":0},{"$f":"IF(ISBLANK(Staging!G379),-100,+Staging!G379)","v":0},{"$f":"IF(ISBLANK(Staging!H379),-100,+Staging!H379)","v":0},{"$f":"IF(ISBLANK(Staging!I379),-100,+Staging!I379)","v":0},{"$f":"IF(ISBLANK(Staging!J379),-100,+Staging!J379)","v":0}]
[377,{"$f":"IF(ISBLANK(Staging!D380),-100,+Staging!D380)","v":0},{"$f":"IF(ISBLANK(Staging!E380),-100,+Staging!E380)","v":0},{"$f":"IF(ISBLANK(Staging!F380),-100,+Staging!F380)","v":0},{"$f":"IF(ISBLANK(Staging!G380),-100,+Staging!G380)","v":0},{"$f":"IF(ISBLANK(Staging!H380),-100,+Staging!H380)","v":0},{"$f":"IF(ISBLANK(Staging!I380),-100,+Staging!I380)","v":0},{"$f":"IF(ISBLANK(Staging!J380),-100,+Staging!J380)","v":0}]
[378,{"$f":"IF(ISBLANK(Staging!D381),-100,+Staging!D381)","v":0},{"$f":"IF(ISBLANK(Staging!E381),-100,+Staging!E381)","v":0},{"$f":"IF(ISBLANK(Staging!F381),-100,+Staging!F381)","v":0},{"$f":"IF(ISBLANK(Staging!G381),-100,+Staging!G381)","v":0},{"$f":"IF(ISBLANK(Staging!H381),-100,+Staging!H381)","v":0},{"$f":"IF(ISBLANK(Staging!I381),-100,+Staging!I381)","v":0},{"$f":"IF(ISBLANK(Staging!J381),-100,+Staging!J381)","v":0}]
[379,{"$f":"IF(ISBLANK(Staging!D382),-100,+Staging!D382)","v":0},{"$f":"IF(ISBLANK(Staging!E382),-100,+Staging!E382)","v":0},{"$f":"IF(ISBLANK(Staging!F382),-100,+Staging!F382)","v":0},{"$f":"IF(ISBLANK(Staging!G382),-100,+Staging!G382)","v":0},{"$f":"IF(ISBLANK(Staging!H382),-100,+Staging!H382)","v":0},{"$f":"IF(ISBLANK(Staging!I382),-100,+Staging!I382)","v":0},{"$f":"IF(ISBLANK(Staging!J382),-100,+Staging!J382)","v":0}]
[380,{"$f":"IF(ISBLANK(Staging!D383),-100,+Staging!D383)","v":0},{"$f":"IF(ISBLANK(Staging!E383),-100,+Staging!E383)","v":0},{"$f":"IF(ISBLANK(Staging!F383),-100,+Staging!F383)","v":0},{"$f":"IF(ISBLANK(Staging!G383),-100,+Staging!G383)","v":0},{"$f":"IF(ISBLANK(Staging!H383),-100,+Staging!H383)","v":0},{"$f":"IF(ISBLANK(Staging!I383),-100,+Staging!I383)","v":0},{"$f":"IF(ISBLANK(Staging!J383),-100,+Staging!J383)","v":0}]
[381,{"$f":"IF(ISBLANK(Staging!D384),-100,+Staging!D384)","v":0},{"$f":"IF(ISBLANK(Staging!E384),-100,+Staging!E384)","v":0},{"$f":"IF(ISBLANK(Staging!F384),-100,+Staging!F384)","v":0},{"$f":"IF(ISBLANK(Staging!G384),-100,+Staging!G384)","v":0},{"$f":"IF(ISBLANK(Staging!H384),-100,+Staging!H384)","v":0},{"$f":"IF(ISBLANK(Staging!I384),-100,+Staging!I384)","v":0},{"$f":"IF(ISBLANK(Staging!J384),-100,+Staging!J384)","v":0}]
[382,{"$f":"IF(ISBLANK(Staging!D385),-100,+Staging!D385)","v":0},{"$f":"IF(ISBLANK(Staging!E385),-100,+Staging!E385)","v":0},{"$f":"IF(ISBLANK(Staging!F385),-100,+Staging!F385)","v":0},{"$f":"IF(ISBLANK(Staging!G385),-100,+Staging!G385)","v":0},{"$f":"IF(ISBLANK(Staging!H385),-100,+Staging!H385)","v":0},{"$f":"IF(ISBLANK(Staging!I385),-100,+Staging!I385)","v":0},{"$f":"IF(ISBLANK(Staging!J385),-100,+Staging!J385)","v":0}]
[383,{"$f":"IF(ISBLANK(Staging!D386),-100,+Staging!D386)","v":0},{"$f":"IF(ISBLANK(Staging!E386),-100,+Staging!E386)","v":0},{"$f":"IF(ISBLANK(Staging!F386),-100,+Staging!F386)","v":0},{"$f":"IF(ISBLANK(Staging!G386),-100,+Staging!G386)","v":0},{"$f":"IF(ISBLANK(Staging!H386),-100,+Staging!H386)","v":0},{"$f":"IF(ISBLANK(Staging!I386),-100,+Staging!I386)","v":0},{"$f":"IF(ISBLANK(Staging!J386),-100,+Staging!J386)","v":0}]
[384,{"$f":"IF(ISBLANK(Staging!D387),-100,+Staging!D387)","v":0},{"$f":"IF(ISBLANK(Staging!E387),-100,+Staging!E387)","v":0},{"$f":"IF(ISBLANK(Staging!F387),-100,+Staging!F387)","v":0},{"$f":"IF(ISBLANK(Staging!G387),-100,+Staging!G387)","v":0},{"$f":"IF(ISBLANK(Staging!H387),-100,+Staging!H387)","v":0},{"$f":"IF(ISBLANK(Staging!I387),-100,+Staging!I387)","v":0},{"$f":"IF(ISBLANK(Staging!J387),-100,+Staging!J387)","v":0}]
[385,{"$f":"IF(ISBLANK(Staging!D388),-100,+Staging!D388)","v":0},{"$f":"IF(ISBLANK(Staging!E388),-100,+Staging!E388)","v":0},{"$f":"IF(ISBLANK(Staging!F388),-100,+Staging!F388)","v":0},{"$f":"IF(ISBLANK(Staging!G388),-100,+Staging!G388)","v":0},{"$f":"IF(ISBLANK(Staging!H388),-100,+Staging!H388)","v":0},{"$f":"IF(ISBLANK(Staging!I388),-100,+Staging!I388)","v":0},{"$f":"IF(ISBLANK(Staging!J388),-100,+Staging!J388)","v":0}]
[386,{"$f":"IF(ISBLANK(Staging!D389),-100,+Staging!D389)","v":0},{"$f":"IF(ISBLANK(Staging!E389),-100,+Staging!E389)","v":0},{"$f":"IF(ISBLANK(Staging!F389),-100,+Staging!F389)","v":0},{"$f":"IF(ISBLANK(Staging!G389),-100,+Staging!G389)","v":0},{"$f":"IF(ISBLANK(Staging!H389),-100,+Staging!H389)","v":0},{"$f":"IF(ISBLANK(Staging!I389),-100,+Staging!I389)","v":0},{"$f":"IF(ISBLANK(Staging!J389),-100,+Staging!J389)","v":0}]
[387,{"$f":"IF(ISBLANK(Staging!D390),-100,+Staging!D390)","v":0},{"$f":"IF(ISBLANK(Staging!E390),-100,+Staging!E390)","v":0},{"$f":"IF(ISBLANK(Staging!F390),-100,+Staging!F390)","v":0},{"$f":"IF(ISBLANK(Staging!G390),-100,+Staging!G390)","v":0},{"$f":"IF(ISBLANK(Staging!H390),-100,+Staging!H390)","v":0},{"$f":"IF(ISBLANK(Staging!I390),-100,+Staging!I390)","v":0},{"$f":"IF(ISBLANK(Staging!J390),-100,+Staging!J390)","v":0}]
[388,{"$f":"IF(ISBLANK(Staging!D391),-100,+Staging!D391)","v":0},{"$f":"IF(ISBLANK(Staging!E391),-100,+Staging!E391)","v":0},{"$f":"IF(ISBLANK(Staging!F391),-100,+Staging!F391)","v":0},{"$f":"IF(ISBLANK(Staging!G391),-100,+Staging!G391)","v":0},{"$f":"IF(ISBLANK(Staging!H391),-100,+Staging!H391)","v":0},{"$f":"IF(ISBLANK(Staging!I391),-100,+Staging!I391)","v":0},{"$f":"IF(ISBLANK(Staging!J391),-100,+Staging!J391)","v":0}]
[389,{"$f":"IF(ISBLANK(Staging!D392),-100,+Staging!D392)","v":0},{"$f":"IF(ISBLANK(Staging!E392),-100,+Staging!E392)","v":0},{"$f":"IF(ISBLANK(Staging!F392),-100,+Staging!F392)","v":0},{"$f":"IF(ISBLANK(Staging!G392),-100,+Staging!G392)","v":0},{"$f":"IF(ISBLANK(Staging!H392),-100,+Staging!H392)","v":0},{"$f":"IF(ISBLANK(Staging!I392),-100,+Staging!I392)","v":0},{"$f":"IF(ISBLANK(Staging!J392),-100,+Staging!J392)","v":0}]
[390,{"$f":"IF(ISBLANK(Staging!D393),-100,+Staging!D393)","v":0},{"$f":"IF(ISBLANK(Staging!E393),-100,+Staging!E393)","v":0},{"$f":"IF(ISBLANK(Staging!F393),-100,+Staging!F393)","v":0},{"$f":"IF(ISBLANK(Staging!G393),-100,+Staging!G393)","v":0},{"$f":"IF(ISBLANK(Staging!H393),-100,+Staging!H393)","v":0},{"$f":"IF(ISBLANK(Staging!I393),-100,+Staging!I393)","v":0},{"$f":"IF(ISBLANK(Staging!J393),-100,+Staging!J393)","v":0}]
[391,{"$f":"IF(ISBLANK(Staging!D394),-100,+Staging!D394)","v":0},{"$f":"IF(ISBLANK(Staging!E394),-100,+Staging!E394)","v":0},{"$f":"IF(ISBLANK(Staging!F394),-100,+Staging!F394)","v":0},{"$f":"IF(ISBLANK(Staging!G394),-100,+Staging!G394)","v":0},{"$f":"IF(ISBLANK(Staging!H394),-100,+Staging!H394)","v":0},{"$f":"IF(ISBLANK(Staging!I394),-100,+Staging!I394)","v":0},{"$f":"IF(ISBLANK(Staging!J394),-100,+Staging!J394)","v":0}]
[392,{"$f":"IF(ISBLANK(Staging!D395),-100,+Staging!D395)","v":0},{"$f":"IF(ISBLANK(Staging!E395),-100,+Staging!E395)","v":0},{"$f":"IF(ISBLANK(Staging!F395),-100,+Staging!F395)","v":0},{"$f":"IF(ISBLANK(Staging!G395),-100,+Staging!G395)","v":0},{"$f":"IF(ISBLANK(Staging!H395),-100,+Staging!H395)","v":0},{"$f":"IF(ISBLANK(Staging!I395),-100,+Staging!I395)","v":0},{"$f":"IF(ISBLANK(Staging!J395),-100,+Staging!J395)","v":0}]
[393,{"$f":"IF(ISBLANK(Staging!D396),-100,+Staging!D396)","v":0},{"$f":"IF(ISBLANK(Staging!E396),-100,+Staging!E396)","v":0},{"$f":"IF(ISBLANK(Staging!F396),-100,+Staging!F396)","v":0},{"$f":"IF(ISBLANK(Staging!G396),-100,+Staging!G396)","v":0},{"$f":"IF(ISBLANK(Staging!H396),-100,+Staging!H396)","v":0},{"$f":"IF(ISBLANK(Staging!I396),-100,+Staging!I396)","v":0},{"$f":"IF(ISBLANK(Staging!J396),-100,+Staging!J396)","v":0}]
[394,{"$f":"IF(ISBLANK(Staging!D397),-100,+Staging!D397)","v":0},{"$f":"IF(ISBLANK(Staging!E397),-100,+Staging!E397)","v":0},{"$f":"IF(ISBLANK(Staging!F397),-100,+Staging!F397)","v":0},{"$f":"IF(ISBLANK(Staging!G397),-100,+Staging!G397)","v":0},{"$f":"IF(ISBLANK(Staging!H397),-100,+Staging!H397)","v":0},{"$f":"IF(ISBLANK(Staging!I397),-100,+Staging!I397)","v":0},{"$f":"IF(ISBLANK(Staging!J397),-100,+Staging!J397)","v":0}]
[395,{"$f":"IF(ISBLANK(Staging!D398),-100,+Staging!D398)","v":0},{"$f":"IF(ISBLANK(Staging!E398),-100,+Staging!E398)","v":0},{"$f":"IF(ISBLANK(Staging!F398),-100,+Staging!F398)","v":0},{"$f":"IF(ISBLANK(Staging!G398),-100,+Staging!G398)","v":0},{"$f":"IF(ISBLANK(Staging!H398),-100,+Staging!H398)","v":0},{"$f":"IF(ISBLANK(Staging!I398),-100,+Staging!I398)","v":0},{"$f":"IF(ISBLANK(Staging!J398),-100,+Staging!J398)","v":0}]
[396,{"$f":"IF(ISBLANK(Staging!D399),-100,+Staging!D399)","v":0},{"$f":"IF(ISBLANK(Staging!E399),-100,+Staging!E399)","v":0},{"$f":"IF(ISBLANK(Staging!F399),-100,+Staging!F399)","v":0},{"$f":"IF(ISBLANK(Staging!G399),-100,+Staging!G399)","v":0},{"$f":"IF(ISBLANK(Staging!H399),-100,+Staging!H399)","v":0},{"$f":"IF(ISBLANK(Staging!I399),-100,+Staging!I399)","v":0},{"$f":"IF(ISBLANK(Staging!J399),-100,+Staging!J399)","v":0}]
[397,{"$f":"IF(ISBLANK(Staging!D400),-100,+Staging!D400)","v":0},{"$f":"IF(ISBLANK(Staging!E400),-100,+Staging!E400)","v":0},{"$f":"IF(ISBLANK(Staging!F400),-100,+Staging!F400)","v":0},{"$f":"IF(ISBLANK(Staging!G400),-100,+Staging!G400)","v":0},{"$f":"IF(ISBLANK(Staging!H400),-100,+Staging!H400)","v":0},{"$f":"IF(ISBLANK(Staging!I400),-100,+Staging!I400)","v":0},{"$f":"IF(ISBLANK(Staging!J400),-100,+Staging!J400)","v":0}]
[398,{"$f":"IF(ISBLANK(Staging!D401),-100,+Staging!D401)","v":0},{"$f":"IF(ISBLANK(Staging!E401),-100,+Staging!E401)","v":0},{"$f":"IF(ISBLANK(Staging!F401),-100,+Staging!F401)","v":0},{"$f":"IF(ISBLANK(Staging!G401),-100,+Staging!G401)","v":0},{"$f":"IF(ISBLANK(Staging!H401),-100,+Staging!H401)","v":0},{"$f":"IF(ISBLANK(Staging!I401),-100,+Staging!I401)","v":0},{"$f":"IF(ISBLANK(Staging!J401),-100,+Staging!J401)","v":0}]
[399,{"$f":"IF(ISBLANK(Staging!D402),-100,+Staging!D402)","v":0},{"$f":"IF(ISBLANK(Staging!E402),-100,+Staging!E402)","v":0},{"$f":"IF(ISBLANK(Staging!F402),-100,+Staging!F402)","v":0},{"$f":"IF(ISBLANK(Staging!G402),-100,+Staging!G402)","v":0},{"$f":"IF(ISBLANK(Staging!H402),-100,+Staging!H402)","v":0},{"$f":"IF(ISBLANK(Staging!I402),-100,+Staging!I402)","v":0},{"$f":"IF(ISBLANK(Staging!J402),-100,+Staging!J402)","v":0}]
[400,{"$f":"IF(ISBLANK(Staging!D403),-100,+Staging!D403)","v":0},{"$f":"IF(ISBLANK(Staging!E403),-100,+Staging!E403)","v":0},{"$f":"IF(ISBLANK(Staging!F403),-100,+Staging!F403)","v":0},{"$f":"IF(ISBLANK(Staging!G403),-100,+Staging!G403)","v":0},{"$f":"IF(ISBLANK(Staging!H403),-100,+Staging!H403)","v":0},{"$f":"IF(ISBLANK(Staging!I403),-100,+Staging!I403)","v":0},{"$f":"IF(ISBLANK(Staging!J403),-100,+Staging!J403)","v":0}]
[401,{"$f":"IF(ISBLANK(Staging!D404),-100,+Staging!D404)","v":0},{"$f":"IF(ISBLANK(Staging!E404),-100,+Staging!E404)","v":0},{"$f":"IF(ISBLANK(Staging!F404),-100,+Staging!F404)","v":0},{"$f":"IF(ISBLANK(Staging!G404),-100,+Staging!G404)","v":0},{"$f":"IF(ISBLANK(Staging!H404),-100,+Staging!H404)","v":0},{"$f":"IF(ISBLANK(Staging!I404),-100,+Staging!I404)","v":0},{"$f":"IF(ISBLANK(Staging!J404),-100,+Staging!J404)","v":0}]
[402,{"$f":"IF(ISBLANK(Staging!D405),-100,+Staging!D405)","v":0},{"$f":"IF(ISBLANK(Staging!E405),-100,+Staging!E405)","v":0},{"$f":"IF(ISBLANK(Staging!F405),-100,+Staging!F405)","v":0},{"$f":"IF(ISBLANK(Staging!G405),-100,+Staging!G405)","v":0},{"$f":"IF(ISBLANK(Staging!H405),-100,+Staging!H405)","v":0},{"$f":"IF(ISBLANK(Staging!I405),-100,+Staging!I405)","v":0},{"$f":"IF(ISBLANK(Staging!J405),-100,+Staging!J405)","v":0}]
[403,{"$f":"IF(ISBLANK(Staging!D406),-100,+Staging!D406)","v":0},{"$f":"IF(ISBLANK(Staging!E406),-100,+Staging!E406)","v":0},{"$f":"IF(ISBLANK(Staging!F406),-100,+Staging!F406)","v":0},{"$f":"IF(ISBLANK(Staging!G406),-100,+Staging!G406)","v":0},{"$f":"IF(ISBLANK(Staging!H406),-100,+Staging!H406)","v":0},{"$f":"IF(ISBLANK(Staging!I406),-100,+Staging!I406)","v":0},{"$f":"IF(ISBLANK(Staging!J406),-100,+Staging!J406)","v":0}]
[404,{"$f":"IF(ISBLANK(Staging!D407),-100,+Staging!D407)","v":0},{"$f":"IF(ISBLANK(Staging!E407),-100,+Staging!E407)","v":0},{"$f":"IF(ISBLANK(Staging!F407),-100,+Staging!F407)","v":0},{"$f":"IF(ISBLANK(Staging!G407),-100,+Staging!G407)","v":0},{"$f":"IF(ISBLANK(Staging!H407),-100,+Staging!H407)","v":0},{"$f":"IF(ISBLANK(Staging!I407),-100,+Staging!I407)","v":0},{"$f":"IF(ISBLANK(Staging!J407),-100,+Staging!J407)","v":0}]
[405,{"$f":"IF(ISBLANK(Staging!D408),-100,+Staging!D408)","v":0},{"$f":"IF(ISBLANK(Staging!E408),-100,+Staging!E408)","v":0},{"$f":"IF(ISBLANK(Staging!F408),-100,+Staging!F408)","v":0},{"$f":"IF(ISBLANK(Staging!G408),-100,+Staging!G408)","v":0},{"$f":"IF(ISBLANK(Staging!H408),-100,+Staging!H408)","v":0},{"$f":"IF(ISBLANK(Staging!I408),-100,+Staging!I408)","v":0},{"$f":"IF(ISBLANK(Staging!J408),-100,+Staging!J408)","v":0}]
[406,{"$f":"IF(ISBLANK(Staging!D409),-100,+Staging!D409)","v":0},{"$f":"IF(ISBLANK(Staging!E409),-100,+Staging!E409)","v":0},{"$f":"IF(ISBLANK(Staging!F409),-100,+Staging!F409)","v":0},{"$f":"IF(ISBLANK(Staging!G409),-100,+Staging!G409)","v":0},{"$f":"IF(ISBLANK(Staging!H409),-100,+Staging!H409)","v":0},{"$f":"IF(ISBLANK(Staging!I409),-100,+Staging!I409)","v":0},{"$f":"IF(ISBLANK(Staging!J409),-100,+Staging!J409)","v":0}]
[407,{"$f":"IF(ISBLANK(Staging!D410),-100,+Staging!D410)","v":0},{"$f":"IF(ISBLANK(Staging!E410),-100,+Staging!E410)","v":0},{"$f":"IF(ISBLANK(Staging!F410),-100,+Staging!F410)","v":0},{"$f":"IF(ISBLANK(Staging!G410),-100,+Staging!G410)","v":0},{"$f":"IF(ISBLANK(Staging!H410),-100,+Staging!H410)","v":0},{"$f":"IF(ISBLANK(Staging!I410),-100,+Staging!I410)","v":0},{"$f":"IF(ISBLANK(Staging!J410),-100,+Staging!J410)","v":0}]
[408,{"$f":"IF(ISBLANK(Staging!D411),-100,+Staging!D411)","v":0},{"$f":"IF(ISBLANK(Staging!E411),-100,+Staging!E411)","v":0},{"$f":"IF(ISBLANK(Staging!F411),-100,+Staging!F411)","v":0},{"$f":"IF(ISBLANK(Staging!G411),-100,+Staging!G411)","v":0},{"$f":"IF(ISBLANK(Staging!H411),-100,+Staging!H411)","v":0},{"$f":"IF(ISBLANK(Staging!I411),-100,+Staging!I411)","v":0},{"$f":"IF(ISBLANK(Staging!J411),-100,+Staging!J411)","v":0}]
[409,{"$f":"IF(ISBLANK(Staging!D412),-100,+Staging!D412)","v":0},{"$f":"IF(ISBLANK(Staging!E412),-100,+Staging!E412)","v":0},{"$f":"IF(ISBLANK(Staging!F412),-100,+Staging!F412)","v":0},{"$f":"IF(ISBLANK(Staging!G412),-100,+Staging!G412)","v":0},{"$f":"IF(ISBLANK(Staging!H412),-100,+Staging!H412)","v":0},{"$f":"IF(ISBLANK(Staging!I412),-100,+Staging!I412)","v":0},{"$f":"IF(ISBLANK(Staging!J412),-100,+Staging!J412)","v":0}]
[410,{"$f":"IF(ISBLANK(Staging!D413),-100,+Staging!D413)","v":0},{"$f":"IF(ISBLANK(Staging!E413),-100,+Staging!E413)","v":0},{"$f":"IF(ISBLANK(Staging!F413),-100,+Staging!F413)","v":0},{"$f":"IF(ISBLANK(Staging!G413),-100,+Staging!G413)","v":0},{"$f":"IF(ISBLANK(Staging!H413),-100,+Staging!H413)","v":0},{"$f":"IF(ISBLANK(Staging!I413),-100,+Staging!I413)","v":0},{"$f":"IF(ISBLANK(Staging!J413),-100,+Staging!J413)","v":0}]
[411,{"$f":"IF(ISBLANK(Staging!D414),-100,+Staging!D414)","v":0},{"$f":"IF(ISBLANK(Staging!E414),-100,+Staging!E414)","v":0},{"$f":"IF(ISBLANK(Staging!F414),-100,+Staging!F414)","v":0},{"$f":"IF(ISBLANK(Staging!G414),-100,+Staging!G414)","v":0},{"$f":"IF(ISBLANK(Staging!H414),-100,+Staging!H414)","v":0},{"$f":"IF(ISBLANK(Staging!I414),-100,+Staging!I414)","v":0},{"$f":"IF(ISBLANK(Staging!J414),-100,+Staging!J414)","v":0}]
[412,{"$f":"IF(ISBLANK(Staging!D415),-100,+Staging!D415)","v":0},{"$f":"IF(ISBLANK(Staging!E415),-100,+Staging!E415)","v":0},{"$f":"IF(ISBLANK(Staging!F415),-100,+Staging!F415)","v":0},{"$f":"IF(ISBLANK(Staging!G415),-100,+Staging!G415)","v":0},{"$f":"IF(ISBLANK(Staging!H415),-100,+Staging!H415)","v":0},{"$f":"IF(ISBLANK(Staging!I415),-100,+Staging!I415)","v":0},{"$f":"IF(ISBLANK(Staging!J415),-100,+Staging!J415)","v":0}]
[413,{"$f":"IF(ISBLANK(Staging!D416),-100,+Staging!D416)","v":0},{"$f":"IF(ISBLANK(Staging!E416),-100,+Staging!E416)","v":0},{"$f":"IF(ISBLANK(Staging!F416),-100,+Staging!F416)","v":0},{"$f":"IF(ISBLANK(Staging!G416),-100,+Staging!G416)","v":0},{"$f":"IF(ISBLANK(Staging!H416),-100,+Staging!H416)","v":0},{"$f":"IF(ISBLANK(Staging!I416),-100,+Staging!I416)","v":0},{"$f":"IF(ISBLANK(Staging!J416),-100,+Staging!J416)","v":0}]
[414,{"$f":"IF(ISBLANK(Staging!D417),-100,+Staging!D417)","v":0},{"$f":"IF(ISBLANK(Staging!E417),-100,+Staging!E417)","v":0},{"$f":"IF(ISBLANK(Staging!F417),-100,+Staging!F417)","v":0},{"$f":"IF(ISBLANK(Staging!G417),-100,+Staging!G417)","v":0},{"$f":"IF(ISBLANK(Staging!H417),-100,+Staging!H417)","v":0},{"$f":"IF(ISBLANK(Staging!I417),-100,+Staging!I417)","v":0},{"$f":"IF(ISBLANK(Staging!J417),-100,+Staging!J417)","v":0}]
[415,{"$f":"IF(ISBLANK(Staging!D418),-100,+Staging!D418)","v":0},{"$f":"IF(ISBLANK(Staging!E418),-100,+Staging!E418)","v":0},{"$f":"IF(ISBLANK(Staging!F418),-100,+Staging!F418)","v":0},{"$f":"IF(ISBLANK(Staging!G418),-100,+Staging!G418)","v":0},{"$f":"IF(ISBLANK(Staging!H418),-100,+Staging!H418)","v":0},{"$f":"IF(ISBLANK(Staging!I418),-100,+Staging!I418)","v":0},{"$f":"IF(ISBLANK(Staging!J418),-100,+Staging!J418)","v":0}]
[416,{"$f":"IF(ISBLANK(Staging!D419),-100,+Staging!D419)","v":0},{"$f":"IF(ISBLANK(Staging!E419),-100,+Staging!E419)","v":0},{"$f":"IF(ISBLANK(Staging!F419),-100,+Staging!F419)","v":0},{"$f":"IF(ISBLANK(Staging!G419),-100,+Staging!G419)","v":0},{"$f":"IF(ISBLANK(Staging!H419),-100,+Staging!H419)","v":0},{"$f":"IF(ISBLANK(Staging!I419),-100,+Staging!I419)","v":0},{"$f":"IF(ISBLANK(Staging!J419),-100,+Staging!J419)","v":0}]
[417,{"$f":"IF(ISBLANK(Staging!D420),-100,+Staging!D420)","v":0},{"$f":"IF(ISBLANK(Staging!E420),-100,+Staging!E420)","v":0},{"$f":"IF(ISBLANK(Staging!F420),-100,+Staging!F420)","v":0},{"$f":"IF(ISBLANK(Staging!G420),-100,+Staging!G420)","v":0},{"$f":"IF(ISBLANK(Staging!H420),-100,+Staging!H420)","v":0},{"$f":"IF(ISBLANK(Staging!I420),-100,+Staging!I420)","v":0},{"$f":"IF(ISBLANK(Staging!J420),-100,+Staging!J420)","v":0}]
[418,{"$f":"IF(ISBLANK(Staging!D421),-100,+Staging!D421)","v":0},{"$f":"IF(ISBLANK(Staging!E421),-100,+Staging!E421)","v":0},{"$f":"IF(ISBLANK(Staging!F421),-100,+Staging!F421)","v":0},{"$f":"IF(ISBLANK(Staging!G421),-100,+Staging!G421)","v":0},{"$f":"IF(ISBLANK(Staging!H421),-100,+Staging!H421)","v":0},{"$f":"IF(ISBLANK(Staging!I421),-100,+Staging!I421)","v":0},{"$f":"IF(ISBLANK(Staging!J421),-100,+Staging!J421)","v":0}]
[419,{"$f":"IF(ISBLANK(Staging!D422),-100,+Staging!D422)","v":0},{"$f":"IF(ISBLANK(Staging!E422),-100,+Staging!E422)","v":0},{"$f":"IF(ISBLANK(Staging!F422),-100,+Staging!F422)","v":0},{"$f":"IF(ISBLANK(Staging!G422),-100,+Staging!G422)","v":0},{"$f":"IF(ISBLANK(Staging!H422),-100,+Staging!H422)","v":0},{"$f":"IF(ISBLANK(Staging!I422),-100,+Staging!I422)","v":0},{"$f":"IF(ISBLANK(Staging!J422),-100,+Staging!J422)","v":0}]
[420,{"$f":"IF(ISBLANK(Staging!D423),-100,+Staging!D423)","v":0},{"$f":"IF(ISBLANK(Staging!E423),-100,+Staging!E423)","v":0},{"$f":"IF(ISBLANK(Staging!F423),-100,+Staging!F423)","v":0},{"$f":"IF(ISBLANK(Staging!G423),-100,+Staging!G423)","v":0},{"$f":"IF(ISBLANK(Staging!H423),-100,+Staging!H423)","v":0},{"$f":"IF(ISBLANK(Staging!I423),-100,+Staging!I423)","v":0},{"$f":"IF(ISBLANK(Staging!J423),-100,+Staging!J423)","v":0}]
[421,{"$f":"IF(ISBLANK(Staging!D424),-100,+Staging!D424)","v":0},{"$f":"IF(ISBLANK(Staging!E424),-100,+Staging!E424)","v":0},{"$f":"IF(ISBLANK(Staging!F424),-100,+Staging!F424)","v":0},{"$f":"IF(ISBLANK(Staging!G424),-100,+Staging!G424)","v":0},{"$f":"IF(ISBLANK(Staging!H424),-100,+Staging!H424)","v":0},{"$f":"IF(ISBLANK(Staging!I424),-100,+Staging!I424)","v":0},{"$f":"IF(ISBLANK(Staging!J424),-100,+Staging!J424)","v":0}]
[422,{"$f":"IF(ISBLANK(Staging!D425),-100,+Staging!D425)","v":0},{"$f":"IF(ISBLANK(Staging!E425),-100,+Staging!E425)","v":0},{"$f":"IF(ISBLANK(Staging!F425),-100,+Staging!F425)","v":0},{"$f":"IF(ISBLANK(Staging!G425),-100,+Staging!G425)","v":0},{"$f":"IF(ISBLANK(Staging!H425),-100,+Staging!H425)","v":0},{"$f":"IF(ISBLANK(Staging!I425),-100,+Staging!I425)","v":0},{"$f":"IF(ISBLANK(Staging!J425),-100,+Staging!J425)","v":0}]
[423,{"$f":"IF(ISBLANK(Staging!D426),-100,+Staging!D426)","v":0},{"$f":"IF(ISBLANK(Staging!E426),-100,+Staging!E426)","v":0},{"$f":"IF(ISBLANK(Staging!F426),-100,+Staging!F426)","v":0},{"$f":"IF(ISBLANK(Staging!G426),-100,+Staging!G426)","v":0},{"$f":"IF(ISBLANK(Staging!H426),-100,+Staging!H426)","v":0},{"$f":"IF(ISBLANK(Staging!I426),-100,+Staging!I426)","v":0},{"$f":"IF(ISBLANK(Staging!J426),-100,+Staging!J426)","v":0}]
[424,{"$f":"IF(ISBLANK(Staging!D427),-100,+Staging!D427)","v":0},{"$f":"IF(ISBLANK(Staging!E427),-100,+Staging!E427)","v":0},{"$f":"IF(ISBLANK(Staging!F427),-100,+Staging!F427)","v":0},{"$f":"IF(ISBLANK(Staging!G427),-100,+Staging!G427)","v":0},{"$f":"IF(ISBLANK(Staging!H427),-100,+Staging!H427)","v":0},{"$f":"IF(ISBLANK(Staging!I427),-100,+Staging!I427)","v":0},{"$f":"IF(ISBLANK(Staging!J427),-100,+Staging!J427)","v":0}]
[425,{"$f":"IF(ISBLANK(Staging!D428),-100,+Staging!D428)","v":0},{"$f":"IF(ISBLANK(Staging!E428),-100,+Staging!E428)","v":0},{"$f":"IF(ISBLANK(Staging!F428),-100,+Staging!F428)","v":0},{"$f":"IF(ISBLANK(Staging!G428),-100,+Staging!G428)","v":0},{"$f":"IF(ISBLANK(Staging!H428),-100,+Staging!H428)","v":0},{"$f":"IF(ISBLANK(Staging!I428),-100,+Staging!I428)","v":0},{"$f":"IF(ISBLANK(Staging!J428),-100,+Staging!J428)","v":0}]
[426,{"$f":"IF(ISBLANK(Staging!D429),-100,+Staging!D429)","v":0},{"$f":"IF(ISBLANK(Staging!E429),-100,+Staging!E429)","v":0},{"$f":"IF(ISBLANK(Staging!F429),-100,+Staging!F429)","v":0},{"$f":"IF(ISBLANK(Staging!G429),-100,+Staging!G429)","v":0},{"$f":"IF(ISBLANK(Staging!H429),-100,+Staging!H429)","v":0},{"$f":"IF(ISBLANK(Staging!I429),-100,+Staging!I429)","v":0},{"$f":"IF(ISBLANK(Staging!J429),-100,+Staging!J429)","v":0}]
[427,{"$f":"IF(ISBLANK(Staging!D430),-100,+Staging!D430)","v":0},{"$f":"IF(ISBLANK(Staging!E430),-100,+Staging!E430)","v":0},{"$f":"IF(ISBLANK(Staging!F430),-100,+Staging!F430)","v":0},{"$f":"IF(ISBLANK(Staging!G430),-100,+Staging!G430)","v":0},{"$f":"IF(ISBLANK(Staging!H430),-100,+Staging!H430)","v":0},{"$f":"IF(ISBLANK(Staging!I430),-100,+Staging!I430)","v":0},{"$f":"IF(ISBLANK(Staging!J430),-100,+Staging!J430)","v":0}]
[428,{"$f":"IF(ISBLANK(Staging!D431),-100,+Staging!D431)","v":0},{"$f":"IF(ISBLANK(Staging!E431),-100,+Staging!E431)","v":0},{"$f":"IF(ISBLANK(Staging!F431),-100,+Staging!F431)","v":0},{"$f":"IF(ISBLANK(Staging!G431),-100,+Staging!G431)","v":0},{"$f":"IF(ISBLANK(Staging!H431),-100,+Staging!H431)","v":0},{"$f":"IF(ISBLANK(Staging!I431),-100,+Staging!I431)","v":0},{"$f":"IF(ISBLANK(Staging!J431),-100,+Staging!J431)","v":0}]
[429,{"$f":"IF(ISBLANK(Staging!D432),-100,+Staging!D432)","v":0},{"$f":"IF(ISBLANK(Staging!E432),-100,+Staging!E432)","v":0},{"$f":"IF(ISBLANK(Staging!F432),-100,+Staging!F432)","v":0},{"$f":"IF(ISBLANK(Staging!G432),-100,+Staging!G432)","v":0},{"$f":"IF(ISBLANK(Staging!H432),-100,+Staging!H432)","v":0},{"$f":"IF(ISBLANK(Staging!I432),-100,+Staging!I432)","v":0},{"$f":"IF(ISBLANK(Staging!J432),-100,+Staging!J432)","v":0}]
[430,{"$f":"IF(ISBLANK(Staging!D433),-100,+Staging!D433)","v":0},{"$f":"IF(ISBLANK(Staging!E433),-100,+Staging!E433)","v":0},{"$f":"IF(ISBLANK(Staging!F433),-100,+Staging!F433)","v":0},{"$f":"IF(ISBLANK(Staging!G433),-100,+Staging!G433)","v":0},{"$f":"IF(ISBLANK(Staging!H433),-100,+Staging!H433)","v":0},{"$f":"IF(ISBLANK(Staging!I433),-100,+Staging!I433)","v":0},{"$f":"IF(ISBLANK(Staging!J433),-100,+Staging!J433)","v":0}]
[431,{"$f":"IF(ISBLANK(Staging!D434),-100,+Staging!D434)","v":0},{"$f":"IF(ISBLANK(Staging!E434),-100,+Staging!E434)","v":0},{"$f":"IF(ISBLANK(Staging!F434),-100,+Staging!F434)","v":0},{"$f":"IF(ISBLANK(Staging!G434),-100,+Staging!G434)","v":0},{"$f":"IF(ISBLANK(Staging!H434),-100,+Staging!H434)","v":0},{"$f":"IF(ISBLANK(Staging!I434),-100,+Staging!I434)","v":0},{"$f":"IF(ISBLANK(Staging!J434),-100,+Staging!J434)","v":0}]
[432,{"$f":"IF(ISBLANK(Staging!D435),-100,+Staging!D435)","v":0},{"$f":"IF(ISBLANK(Staging!E435),-100,+Staging!E435)","v":0},{"$f":"IF(ISBLANK(Staging!F435),-100,+Staging!F435)","v":0},{"$f":"IF(ISBLANK(Staging!G435),-100,+Staging!G435)","v":0},{"$f":"IF(ISBLANK(Staging!H435),-100,+Staging!H435)","v":0},{"$f":"IF(ISBLANK(Staging!I435),-100,+Staging!I435)","v":0},{"$f":"IF(ISBLANK(Staging!J435),-100,+Staging!J435)","v":0}]
[433,{"$f":"IF(ISBLANK(Staging!D436),-100,+Staging!D436)","v":0},{"$f":"IF(ISBLANK(Staging!E436),-100,+Staging!E436)","v":0},{"$f":"IF(ISBLANK(Staging!F436),-100,+Staging!F436)","v":0},{"$f":"IF(ISBLANK(Staging!G436),-100,+Staging!G436)","v":0},{"$f":"IF(ISBLANK(Staging!H436),-100,+Staging!H436)","v":0},{"$f":"IF(ISBLANK(Staging!I436),-100,+Staging!I436)","v":0},{"$f":"IF(ISBLANK(Staging!J436),-100,+Staging!J436)","v":0}]
[434,{"$f":"IF(ISBLANK(Staging!D437),-100,+Staging!D437)","v":0},{"$f":"IF(ISBLANK(Staging!E437),-100,+Staging!E437)","v":0},{"$f":"IF(ISBLANK(Staging!F437),-100,+Staging!F437)","v":0},{"$f":"IF(ISBLANK(Staging!G437),-100,+Staging!G437)","v":0},{"$f":"IF(ISBLANK(Staging!H437),-100,+Staging!H437)","v":0},{"$f":"IF(ISBLANK(Staging!I437),-100,+Staging!I437)","v":0},{"$f":"IF(ISBLANK(Staging!J437),-100,+Staging!J437)","v":0}]
[435,{"$f":"IF(ISBLANK(Staging!D438),-100,+Staging!D438)","v":0},{"$f":"IF(ISBLANK(Staging!E438),-100,+Staging!E438)","v":0},{"$f":"IF(ISBLANK(Staging!F438),-100,+Staging!F438)","v":0},{"$f":"IF(ISBLANK(Staging!G438),-100,+Staging!G438)","v":0},{"$f":"IF(ISBLANK(Staging!H438),-100,+Staging!H438)","v":0},{"$f":"IF(ISBLANK(Staging!I438),-100,+Staging!I438)","v":0},{"$f":"IF(ISBLANK(Staging!J438),-100,+Staging!J438)","v":0}]
[436,{"$f":"IF(ISBLANK(Staging!D439),-100,+Staging!D439)","v":0},{"$f":"IF(ISBLANK(Staging!E439),-100,+Staging!E439)","v":0},{"$f":"IF(ISBLANK(Staging!F439),-100,+Staging!F439)","v":0},{"$f":"IF(ISBLANK(Staging!G439),-100,+Staging!G439)","v":0},{"$f":"IF(ISBLANK(Staging!H439),-100,+Staging!H439)","v":0},{"$f":"IF(ISBLANK(Staging!I439),-100,+Staging!I439)","v":0},{"$f":"IF(ISBLANK(Staging!J439),-100,+Staging!J439)","v":0}]
[437,{"$f":"IF(ISBLANK(Staging!D440),-100,+Staging!D440)","v":0},{"$f":"IF(ISBLANK(Staging!E440),-100,+Staging!E440)","v":0},{"$f":"IF(ISBLANK(Staging!F440),-100,+Staging!F440)","v":0},{"$f":"IF(ISBLANK(Staging!G440),-100,+Staging!G440)","v":0},{"$f":"IF(ISBLANK(Staging!H440),-100,+Staging!H440)","v":0},{"$f":"IF(ISBLANK(Staging!I440),-100,+Staging!I440)","v":0},{"$f":"IF(ISBLANK(Staging!J440),-100,+Staging!J440)","v":0}]
[438,{"$f":"IF(ISBLANK(Staging!D441),-100,+Staging!D441)","v":0},{"$f":"IF(ISBLANK(Staging!E441),-100,+Staging!E441)","v":0},{"$f":"IF(ISBLANK(Staging!F441),-100,+Staging!F441)","v":0},{"$f":"IF(ISBLANK(Staging!G441),-100,+Staging!G441)","v":0},{"$f":"IF(ISBLANK(Staging!H441),-100,+Staging!H441)","v":0},{"$f":"IF(ISBLANK(Staging!I441),-100,+Staging!I441)","v":0},{"$f":"IF(ISBLANK(Staging!J441),-100,+Staging!J441)","v":0}]
[439,{"$f":"IF(ISBLANK(Staging!D442),-100,+Staging!D442)","v":0},{"$f":"IF(ISBLANK(Staging!E442),-100,+Staging!E442)","v":0},{"$f":"IF(ISBLANK(Staging!F442),-100,+Staging!F442)","v":0},{"$f":"IF(ISBLANK(Staging!G442),-100,+Staging!G442)","v":0},{"$f":"IF(ISBLANK(Staging!H442),-100,+Staging!H442)","v":0},{"$f":"IF(ISBLANK(Staging!I442),-100,+Staging!I442)","v":0},{"$f":"IF(ISBLANK(Staging!J442),-100,+Staging!J442)","v":0}]
[440,{"$f":"IF(ISBLANK(Staging!D443),-100,+Staging!D443)","v":0},{"$f":"IF(ISBLANK(Staging!E443),-100,+Staging!E443)","v":0},{"$f":"IF(ISBLANK(Staging!F443),-100,+Staging!F443)","v":0},{"$f":"IF(ISBLANK(Staging!G443),-100,+Staging!G443)","v":0},{"$f":"IF(ISBLANK(Staging!H443),-100,+Staging!H443)","v":0},{"$f":"IF(ISBLANK(Staging!I443),-100,+Staging!I443)","v":0},{"$f":"IF(ISBLANK(Staging!J443),-100,+Staging!J443)","v":0}]
[441,{"$f":"IF(ISBLANK(Staging!D444),-100,+Staging!D444)","v":0},{"$f":"IF(ISBLANK(Staging!E444),-100,+Staging!E444)","v":0},{"$f":"IF(ISBLANK(Staging!F444),-100,+Staging!F444)","v":0},{"$f":"IF(ISBLANK(Staging!G444),-100,+Staging!G444)","v":0},{"$f":"IF(ISBLANK(Staging!H444),-100,+Staging!H444)","v":0},{"$f":"IF(ISBLANK(Staging!I444),-100,+Staging!I444)","v":0},{"$f":"IF(ISBLANK(Staging!J444),-100,+Staging!J444)","v":0}]
[442,{"$f":"IF(ISBLANK(Staging!D445),-100,+Staging!D445)","v":0},{"$f":"IF(ISBLANK(Staging!E445),-100,+Staging!E445)","v":0},{"$f":"IF(ISBLANK(Staging!F445),-100,+Staging!F445)","v":0},{"$f":"IF(ISBLANK(Staging!G445),-100,+Staging!G445)","v":0},{"$f":"IF(ISBLANK(Staging!H445),-100,+Staging!H445)","v":0},{"$f":"IF(ISBLANK(Staging!I445),-100,+Staging!I445)","v":0},{"$f":"IF(ISBLANK(Staging!J445),-100,+Staging!J445)","v":0}]
[443,{"$f":"IF(ISBLANK(Staging!D446),-100,+Staging!D446)","v":0},{"$f":"IF(ISBLANK(Staging!E446),-100,+Staging!E446)","v":0},{"$f":"IF(ISBLANK(Staging!F446),-100,+Staging!F446)","v":0},{"$f":"IF(ISBLANK(Staging!G446),-100,+Staging!G446)","v":0},{"$f":"IF(ISBLANK(Staging!H446),-100,+Staging!H446)","v":0},{"$f":"IF(ISBLANK(Staging!I446),-100,+Staging!I446)","v":0},{"$f":"IF(ISBLANK(Staging!J446),-100,+Staging!J446)","v":0}]
[444,{"$f":"IF(ISBLANK(Staging!D447),-100,+Staging!D447)","v":0},{"$f":"IF(ISBLANK(Staging!E447),-100,+Staging!E447)","v":0},{"$f":"IF(ISBLANK(Staging!F447),-100,+Staging!F447)","v":0},{"$f":"IF(ISBLANK(Staging!G447),-100,+Staging!G447)","v":0},{"$f":"IF(ISBLANK(Staging!H447),-100,+Staging!H447)","v":0},{"$f":"IF(ISBLANK(Staging!I447),-100,+Staging!I447)","v":0},{"$f":"IF(ISBLANK(Staging!J447),-100,+Staging!J447)","v":0}]
[445,{"$f":"IF(ISBLANK(Staging!D448),-100,+Staging!D448)","v":0},{"$f":"IF(ISBLANK(Staging!E448),-100,+Staging!E448)","v":0},{"$f":"IF(ISBLANK(Staging!F448),-100,+Staging!F448)","v":0},{"$f":"IF(ISBLANK(Staging!G448),-100,+Staging!G448)","v":0},{"$f":"IF(ISBLANK(Staging!H448),-100,+Staging!H448)","v":0},{"$f":"IF(ISBLANK(Staging!I448),-100,+Staging!I448)","v":0},{"$f":"IF(ISBLANK(Staging!J448),-100,+Staging!J448)","v":0}]
[446,{"$f":"IF(ISBLANK(Staging!D449),-100,+Staging!D449)","v":0},{"$f":"IF(ISBLANK(Staging!E449),-100,+Staging!E449)","v":0},{"$f":"IF(ISBLANK(Staging!F449),-100,+Staging!F449)","v":0},{"$f":"IF(ISBLANK(Staging!G449),-100,+Staging!G449)","v":0},{"$f":"IF(ISBLANK(Staging!H449),-100,+Staging!H449)","v":0},{"$f":"IF(ISBLANK(Staging!I449),-100,+Staging!I449)","v":0},{"$f":"IF(ISBLANK(Staging!J449),-100,+Staging!J449)","v":0}]
[447,{"$f":"IF(ISBLANK(Staging!D450),-100,+Staging!D450)","v":0},{"$f":"IF(ISBLANK(Staging!E450),-100,+Staging!E450)","v":0},{"$f":"IF(ISBLANK(Staging!F450),-100,+Staging!F450)","v":0},{"$f":"IF(ISBLANK(Staging!G450),-100,+Staging!G450)","v":0},{"$f":"IF(ISBLANK(Staging!H450),-100,+Staging!H450)","v":0},{"$f":"IF(ISBLANK(Staging!I450),-100,+Staging!I450)","v":0},{"$f":"IF(ISBLANK(Staging!J450),-100,+Staging!J450)","v":0}]
[448,{"$f":"IF(ISBLANK(Staging!D451),-100,+Staging!D451)","v":0},{"$f":"IF(ISBLANK(Staging!E451),-100,+Staging!E451)","v":0},{"$f":"IF(ISBLANK(Staging!F451),-100,+Staging!F451)","v":0},{"$f":"IF(ISBLANK(Staging!G451),-100,+Staging!G451)","v":0},{"$f":"IF(ISBLANK(Staging!H451),-100,+Staging!H451)","v":0},{"$f":"IF(ISBLANK(Staging!I451),-100,+Staging!I451)","v":0},{"$f":"IF(ISBLANK(Staging!J451),-100,+Staging!J451)","v":0}]
[449,{"$f":"IF(ISBLANK(Staging!D452),-100,+Staging!D452)","v":0},{"$f":"IF(ISBLANK(Staging!E452),-100,+Staging!E452)","v":0},{"$f":"IF(ISBLANK(Staging!F452),-100,+Staging!F452)","v":0},{"$f":"IF(ISBLANK(Staging!G452),-100,+Staging!G452)","v":0},{"$f":"IF(ISBLANK(Staging!H452),-100,+Staging!H452)","v":0},{"$f":"IF(ISBLANK(Staging!I452),-100,+Staging!I452)","v":0},{"$f":"IF(ISBLANK(Staging!J452),-100,+Staging!J452)","v":0}]
[450,{"$f":"IF(ISBLANK(Staging!D453),-100,+Staging!D453)","v":0},{"$f":"IF(ISBLANK(Staging!E453),-100,+Staging!E453)","v":0},{"$f":"IF(ISBLANK(Staging!F453),-100,+Staging!F453)","v":0},{"$f":"IF(ISBLANK(Staging!G453),-100,+Staging!G453)","v":0},{"$f":"IF(ISBLANK(Staging!H453),-100,+Staging!H453)","v":0},{"$f":"IF(ISBLANK(Staging!I453),-100,+Staging!I453)","v":0},{"$f":"IF(ISBLANK(Staging!J453),-100,+Staging!J453)","v":0}]
[451,{"$f":"IF(ISBLANK(Staging!D454),-100,+Staging!D454)","v":0},{"$f":"IF(ISBLANK(Staging!E454),-100,+Staging!E454)","v":0},{"$f":"IF(ISBLANK(Staging!F454),-100,+Staging!F454)","v":0},{"$f":"IF(ISBLANK(Staging!G454),-100,+Staging!G454)","v":0},{"$f":"IF(ISBLANK(Staging!H454),-100,+Staging!H454)","v":0},{"$f":"IF(ISBLANK(Staging!I454),-100,+Staging!I454)","v":0},{"$f":"IF(ISBLANK(Staging!J454),-100,+Staging!J454)","v":0}]
[452,{"$f":"IF(ISBLANK(Staging!D455),-100,+Staging!D455)","v":0},{"$f":"IF(ISBLANK(Staging!E455),-100,+Staging!E455)","v":0},{"$f":"IF(ISBLANK(Staging!F455),-100,+Staging!F455)","v":0},{"$f":"IF(ISBLANK(Staging!G455),-100,+Staging!G455)","v":0},{"$f":"IF(ISBLANK(Staging!H455),-100,+Staging!H455)","v":0},{"$f":"IF(ISBLANK(Staging!I455),-100,+Staging!I455)","v":0},{"$f":"IF(ISBLANK(Staging!J455),-100,+Staging!J455)","v":0}]
[453,{"$f":"IF(ISBLANK(Staging!D456),-100,+Staging!D456)","v":0},{"$f":"IF(ISBLANK(Staging!E456),-100,+Staging!E456)","v":0},{"$f":"IF(ISBLANK(Staging!F456),-100,+Staging!F456)","v":0},{"$f":"IF(ISBLANK(Staging!G456),-100,+Staging!G456)","v":0},{"$f":"IF(ISBLANK(Staging!H456),-100,+Staging!H456)","v":0},{"$f":"IF(ISBLANK(Staging!I456),-100,+Staging!I456)","v":0},{"$f":"IF(ISBLANK(Staging!J456),-100,+Staging!J456)","v":0}]
[454,{"$f":"IF(ISBLANK(Staging!D457),-100,+Staging!D457)","v":0},{"$f":"IF(ISBLANK(Staging!E457),-100,+Staging!E457)","v":0},{"$f":"IF(ISBLANK(Staging!F457),-100,+Staging!F457)","v":0},{"$f":"IF(ISBLANK(Staging!G457),-100,+Staging!G457)","v":0},{"$f":"IF(ISBLANK(Staging!H457),-100,+Staging!H457)","v":0},{"$f":"IF(ISBLANK(Staging!I457),-100,+Staging!I457)","v":0},{"$f":"IF(ISBLANK(Staging!J457),-100,+Staging!J457)","v":0}]
[455,{"$f":"IF(ISBLANK(Staging!D458),-100,+Staging!D458)","v":0},{"$f":"IF(ISBLANK(Staging!E458),-100,+Staging!E458)","v":0},{"$f":"IF(ISBLANK(Staging!F458),-100,+Staging!F458)","v":0},{"$f":"IF(ISBLANK(Staging!G458),-100,+Staging!G458)","v":0},{"$f":"IF(ISBLANK(Staging!H458),-100,+Staging!H458)","v":0},{"$f":"IF(ISBLANK(Staging!I458),-100,+Staging!I458)","v":0},{"$f":"IF(ISBLANK(Staging!J458),-100,+Staging!J458)","v":0}]
[456,{"$f":"IF(ISBLANK(Staging!D459),-100,+Staging!D459)","v":0},{"$f":"IF(ISBLANK(Staging!E459),-100,+Staging!E459)","v":0},{"$f":"IF(ISBLANK(Staging!F459),-100,+Staging!F459)","v":0},{"$f":"IF(ISBLANK(Staging!G459),-100,+Staging!G459)","v":0},{"$f":"IF(ISBLANK(Staging!H459),-100,+Staging!H459)","v":0},{"$f":"IF(ISBLANK(Staging!I459),-100,+Staging!I459)","v":0},{"$f":"IF(ISBLANK(Staging!J459),-100,+Staging!J459)","v":0}]
[457,{"$f":"IF(ISBLANK(Staging!D460),-100,+Staging!D460)","v":0},{"$f":"IF(ISBLANK(Staging!E460),-100,+Staging!E460)","v":0},{"$f":"IF(ISBLANK(Staging!F460),-100,+Staging!F460)","v":0},{"$f":"IF(ISBLANK(Staging!G460),-100,+Staging!G460)","v":0},{"$f":"IF(ISBLANK(Staging!H460),-100,+Staging!H460)","v":0},{"$f":"IF(ISBLANK(Staging!I460),-100,+Staging!I460)","v":0},{"$f":"IF(ISBLANK(Staging!J460),-100,+Staging!J460)","v":0}]
[458,{"$f":"IF(ISBLANK(Staging!D461),-100,+Staging!D461)","v":0},{"$f":"IF(ISBLANK(Staging!E461),-100,+Staging!E461)","v":0},{"$f":"IF(ISBLANK(Staging!F461),-100,+Staging!F461)","v":0},{"$f":"IF(ISBLANK(Staging!G461),-100,+Staging!G461)","v":0},{"$f":"IF(ISBLANK(Staging!H461),-100,+Staging!H461)","v":0},{"$f":"IF(ISBLANK(Staging!I461),-100,+Staging!I461)","v":0},{"$f":"IF(ISBLANK(Staging!J461),-100,+Staging!J461)","v":0}]
[459,{"$f":"IF(ISBLANK(Staging!D462),-100,+Staging!D462)","v":0},{"$f":"IF(ISBLANK(Staging!E462),-100,+Staging!E462)","v":0},{"$f":"IF(ISBLANK(Staging!F462),-100,+Staging!F462)","v":0},{"$f":"IF(ISBLANK(Staging!G462),-100,+Staging!G462)","v":0},{"$f":"IF(ISBLANK(Staging!H462),-100,+Staging!H462)","v":0},{"$f":"IF(ISBLANK(Staging!I462),-100,+Staging!I462)","v":0},{"$f":"IF(ISBLANK(Staging!J462),-100,+Staging!J462)","v":0}]
[460,{"$f":"IF(ISBLANK(Staging!D463),-100,+Staging!D463)","v":0},{"$f":"IF(ISBLANK(Staging!E463),-100,+Staging!E463)","v":0},{"$f":"IF(ISBLANK(Staging!F463),-100,+Staging!F463)","v":0},{"$f":"IF(ISBLANK(Staging!G463),-100,+Staging!G463)","v":0},{"$f":"IF(ISBLANK(Staging!H463),-100,+Staging!H463)","v":0},{"$f":"IF(ISBLANK(Staging!I463),-100,+Staging!I463)","v":0},{"$f":"IF(ISBLANK(Staging!J463),-100,+Staging!J463)","v":0}]
[461,{"$f":"IF(ISBLANK(Staging!D464),-100,+Staging!D464)","v":0},{"$f":"IF(ISBLANK(Staging!E464),-100,+Staging!E464)","v":0},{"$f":"IF(ISBLANK(Staging!F464),-100,+Staging!F464)","v":0},{"$f":"IF(ISBLANK(Staging!G464),-100,+Staging!G464)","v":0},{"$f":"IF(ISBLANK(Staging!H464),-100,+Staging!H464)","v":0},{"$f":"IF(ISBLANK(Staging!I464),-100,+Staging!I464)","v":0},{"$f":"IF(ISBLANK(Staging!J464),-100,+Staging!J464)","v":0}]
[462,{"$f":"IF(ISBLANK(Staging!D465),-100,+Staging!D465)","v":0},{"$f":"IF(ISBLANK(Staging!E465),-100,+Staging!E465)","v":0},{"$f":"IF(ISBLANK(Staging!F465),-100,+Staging!F465)","v":0},{"$f":"IF(ISBLANK(Staging!G465),-100,+Staging!G465)","v":0},{"$f":"IF(ISBLANK(Staging!H465),-100,+Staging!H465)","v":0},{"$f":"IF(ISBLANK(Staging!I465),-100,+Staging!I465)","v":0},{"$f":"IF(ISBLANK(Staging!J465),-100,+Staging!J465)","v":0}]
[463,{"$f":"IF(ISBLANK(Staging!D466),-100,+Staging!D466)","v":0},{"$f":"IF(ISBLANK(Staging!E466),-100,+Staging!E466)","v":0},{"$f":"IF(ISBLANK(Staging!F466),-100,+Staging!F466)","v":0},{"$f":"IF(ISBLANK(Staging!G466),-100,+Staging!G466)","v":0},{"$f":"IF(ISBLANK(Staging!H466),-100,+Staging!H466)","v":0},{"$f":"IF(ISBLANK(Staging!I466),-100,+Staging!I466)","v":0},{"$f":"IF(ISBLANK(Staging!J466),-100,+Staging!J466)","v":0}]
[464,{"$f":"IF(ISBLANK(Staging!D467),-100,+Staging!D467)","v":0},{"$f":"IF(ISBLANK(Staging!E467),-100,+Staging!E467)","v":0},{"$f":"IF(ISBLANK(Staging!F467),-100,+Staging!F467)","v":0},{"$f":"IF(ISBLANK(Staging!G467),-100,+Staging!G467)","v":0},{"$f":"IF(ISBLANK(Staging!H467),-100,+Staging!H467)","v":0},{"$f":"IF(ISBLANK(Staging!I467),-100,+Staging!I467)","v":0},{"$f":"IF(ISBLANK(Staging!J467),-100,+Staging!J467)","v":0}]
[465,{"$f":"IF(ISBLANK(Staging!D468),-100,+Staging!D468)","v":0},{"$f":"IF(ISBLANK(Staging!E468),-100,+Staging!E468)","v":0},{"$f":"IF(ISBLANK(Staging!F468),-100,+Staging!F468)","v":0},{"$f":"IF(ISBLANK(Staging!G468),-100,+Staging!G468)","v":0},{"$f":"IF(ISBLANK(Staging!H468),-100,+Staging!H468)","v":0},{"$f":"IF(ISBLANK(Staging!I468),-100,+Staging!I468)","v":0},{"$f":"IF(ISBLANK(Staging!J468),-100,+Staging!J468)","v":0}]
[466,{"$f":"IF(ISBLANK(Staging!D469),-100,+Staging!D469)","v":0},{"$f":"IF(ISBLANK(Staging!E469),-100,+Staging!E469)","v":0},{"$f":"IF(ISBLANK(Staging!F469),-100,+Staging!F469)","v":0},{"$f":"IF(ISBLANK(Staging!G469),-100,+Staging!G469)","v":0},{"$f":"IF(ISBLANK(Staging!H469),-100,+Staging!H469)","v":0},{"$f":"IF(ISBLANK(Staging!I469),-100,+Staging!I469)","v":0},{"$f":"IF(ISBLANK(Staging!J469),-100,+Staging!J469)","v":0}]
[467,{"$f":"IF(ISBLANK(Staging!D470),-100,+Staging!D470)","v":0},{"$f":"IF(ISBLANK(Staging!E470),-100,+Staging!E470)","v":0},{"$f":"IF(ISBLANK(Staging!F470),-100,+Staging!F470)","v":0},{"$f":"IF(ISBLANK(Staging!G470),-100,+Staging!G470)","v":0},{"$f":"IF(ISBLANK(Staging!H470),-100,+Staging!H470)","v":0},{"$f":"IF(ISBLANK(Staging!I470),-100,+Staging!I470)","v":0},{"$f":"IF(ISBLANK(Staging!J470),-100,+Staging!J470)","v":0}]
[468,{"$f":"IF(ISBLANK(Staging!D471),-100,+Staging!D471)","v":0},{"$f":"IF(ISBLANK(Staging!E471),-100,+Staging!E471)","v":0},{"$f":"IF(ISBLANK(Staging!F471),-100,+Staging!F471)","v":0},{"$f":"IF(ISBLANK(Staging!G471),-100,+Staging!G471)","v":0},{"$f":"IF(ISBLANK(Staging!H471),-100,+Staging!H471)","v":0},{"$f":"IF(ISBLANK(Staging!I471),-100,+Staging!I471)","v":0},{"$f":"IF(ISBLANK(Staging!J471),-100,+Staging!J471)","v":0}]
[469,{"$f":"IF(ISBLANK(Staging!D472),-100,+Staging!D472)","v":0},{"$f":"IF(ISBLANK(Staging!E472),-100,+Staging!E472)","v":0},{"$f":"IF(ISBLANK(Staging!F472),-100,+Staging!F472)","v":0},{"$f":"IF(ISBLANK(Staging!G472),-100,+Staging!G472)","v":0},{"$f":"IF(ISBLANK(Staging!H472),-100,+Staging!H472)","v":0},{"$f":"IF(ISBLANK(Staging!I472),-100,+Staging!I472)","v":0},{"$f":"IF(ISBLANK(Staging!J472),-100,+Staging!J472)","v":0}]
[470,{"$f":"IF(ISBLANK(Staging!D473),-100,+Staging!D473)","v":0},{"$f":"IF(ISBLANK(Staging!E473),-100,+Staging!E473)","v":0},{"$f":"IF(ISBLANK(Staging!F473),-100,+Staging!F473)","v":0},{"$f":"IF(ISBLANK(Staging!G473),-100,+Staging!G473)","v":0},{"$f":"IF(ISBLANK(Staging!H473),-100,+Staging!H473)","v":0},{"$f":"IF(ISBLANK(Staging!I473),-100,+Staging!I473)","v":0},{"$f":"IF(ISBLANK(Staging!J473),-100,+Staging!J473)","v":0}]
[471,{"$f":"IF(ISBLANK(Staging!D474),-100,+Staging!D474)","v":0},{"$f":"IF(ISBLANK(Staging!E474),-100,+Staging!E474)","v":0},{"$f":"IF(ISBLANK(Staging!F474),-100,+Staging!F474)","v":0},{"$f":"IF(ISBLANK(Staging!G474),-100,+Staging!G474)","v":0},{"$f":"IF(ISBLANK(Staging!H474),-100,+Staging!H474)","v":0},{"$f":"IF(ISBLANK(Staging!I474),-100,+Staging!I474)","v":0},{"$f":"IF(ISBLANK(Staging!J474),-100,+Staging!J474)","v":0}]
[472,{"$f":"IF(ISBLANK(Staging!D475),-100,+Staging!D475)","v":0},{"$f":"IF(ISBLANK(Staging!E475),-100,+Staging!E475)","v":0},{"$f":"IF(ISBLANK(Staging!F475),-100,+Staging!F475)","v":0},{"$f":"IF(ISBLANK(Staging!G475),-100,+Staging!G475)","v":0},{"$f":"IF(ISBLANK(Staging!H475),-100,+Staging!H475)","v":0},{"$f":"IF(ISBLANK(Staging!I475),-100,+Staging!I475)","v":0},{"$f":"IF(ISBLANK(Staging!J475),-100,+Staging!J475)","v":0}]
[473,{"$f":"IF(ISBLANK(Staging!D476),-100,+Staging!D476)","v":0},{"$f":"IF(ISBLANK(Staging!E476),-100,+Staging!E476)","v":0},{"$f":"IF(ISBLANK(Staging!F476),-100,+Staging!F476)","v":0},{"$f":"IF(ISBLANK(Staging!G476),-100,+Staging!G476)","v":0},{"$f":"IF(ISBLANK(Staging!H476),-100,+Staging!H476)","v":0},{"$f":"IF(ISBLANK(Staging!I476),-100,+Staging!I476)","v":0},{"$f":"IF(ISBLANK(Staging!J476),-100,+Staging!J476)","v":0}]
[474,{"$f":"IF(ISBLANK(Staging!D477),-100,+Staging!D477)","v":0},{"$f":"IF(ISBLANK(Staging!E477),-100,+Staging!E477)","v":0},{"$f":"IF(ISBLANK(Staging!F477),-100,+Staging!F477)","v":0},{"$f":"IF(ISBLANK(Staging!G477),-100,+Staging!G477)","v":0},{"$f":"IF(ISBLANK(Staging!H477),-100,+Staging!H477)","v":0},{"$f":"IF(ISBLANK(Staging!I477),-100,+Staging!I477)","v":0},{"$f":"IF(ISBLANK(Staging!J477),-100,+Staging!J477)","v":0}]
[475,{"$f":"IF(ISBLANK(Staging!D478),-100,+Staging!D478)","v":0},{"$f":"IF(ISBLANK(Staging!E478),-100,+Staging!E478)","v":0},{"$f":"IF(ISBLANK(Staging!F478),-100,+Staging!F478)","v":0},{"$f":"IF(ISBLANK(Staging!G478),-100,+Staging!G478)","v":0},{"$f":"IF(ISBLANK(Staging!H478),-100,+Staging!H478)","v":0},{"$f":"IF(ISBLANK(Staging!I478),-100,+Staging!I478)","v":0},{"$f":"IF(ISBLANK(Staging!J478),-100,+Staging!J478)","v":0}]
[476,{"$f":"IF(ISBLANK(Staging!D479),-100,+Staging!D479)","v":0},{"$f":"IF(ISBLANK(Staging!E479),-100,+Staging!E479)","v":0},{"$f":"IF(ISBLANK(Staging!F479),-100,+Staging!F479)","v":0},{"$f":"IF(ISBLANK(Staging!G479),-100,+Staging!G479)","v":0},{"$f":"IF(ISBLANK(Staging!H479),-100,+Staging!H479)","v":0},{"$f":"IF(ISBLANK(Staging!I479),-100,+Staging!I479)","v":0},{"$f":"IF(ISBLANK(Staging!J479),-100,+Staging!J479)","v":0}]
[477,{"$f":"IF(ISBLANK(Staging!D480),-100,+Staging!D480)","v":0},{"$f":"IF(ISBLANK(Staging!E480),-100,+Staging!E480)","v":0},{"$f":"IF(ISBLANK(Staging!F480),-100,+Staging!F480)","v":0},{"$f":"IF(ISBLANK(Staging!G480),-100,+Staging!G480)","v":0},{"$f":"IF(ISBLANK(Staging!H480),-100,+Staging!H480)","v":0},{"$f":"IF(ISBLANK(Staging!I480),-100,+Staging!I480)","v":0},{"$f":"IF(ISBLANK(Staging!J480),-100,+Staging!J480)","v":0}]
[478,{"$f":"IF(ISBLANK(Staging!D481),-100,+Staging!D481)","v":0},{"$f":"IF(ISBLANK(Staging!E481),-100,+Staging!E481)","v":0},{"$f":"IF(ISBLANK(Staging!F481),-100,+Staging!F481)","v":0},{"$f":"IF(ISBLANK(Staging!G481),-100,+Staging!G481)","v":0},{"$f":"IF(ISBLANK(Staging!H481),-100,+Staging!H481)","v":0},{"$f":"IF(ISBLANK(Staging!I481),-100,+Staging!I481)","v":0},{"$f":"IF(ISBLANK(Staging!J481),-100,+Staging!J481)","v":0}]
[479,{"$f":"IF(ISBLANK(Staging!D482),-100,+Staging!D482)","v":0},{"$f":"IF(ISBLANK(Staging!E482),-100,+Staging!E482)","v":0},{"$f":"IF(ISBLANK(Staging!F482),-100,+Staging!F482)","v":0},{"$f":"IF(ISBLANK(Staging!G482),-100,+Staging!G482)","v":0},{"$f":"IF(ISBLANK(Staging!H482),-100,+Staging!H482)","v":0},{"$f":"IF(ISBLANK(Staging!I482),-100,+Staging!I482)","v":0},{"$f":"IF(ISBLANK(Staging!J482),-100,+Staging!J482)","v":0}]
[480,{"$f":"IF(ISBLANK(Staging!D483),-100,+Staging!D483)","v":0},{"$f":"IF(ISBLANK(Staging!E483),-100,+Staging!E483)","v":0},{"$f":"IF(ISBLANK(Staging!F483),-100,+Staging!F483)","v":0},{"$f":"IF(ISBLANK(Staging!G483),-100,+Staging!G483)","v":0},{"$f":"IF(ISBLANK(Staging!H483),-100,+Staging!H483)","v":0},{"$f":"IF(ISBLANK(Staging!I483),-100,+Staging!I483)","v":0},{"$f":"IF(ISBLANK(Staging!J483),-100,+Staging!J483)","v":0}]
[481,{"$f":"IF(ISBLANK(Staging!D484),-100,+Staging!D484)","v":0},{"$f":"IF(ISBLANK(Staging!E484),-100,+Staging!E484)","v":0},{"$f":"IF(ISBLANK(Staging!F484),-100,+Staging!F484)","v":0},{"$f":"IF(ISBLANK(Staging!G484),-100,+Staging!G484)","v":0},{"$f":"IF(ISBLANK(Staging!H484),-100,+Staging!H484)","v":0},{"$f":"IF(ISBLANK(Staging!I484),-100,+Staging!I484)","v":0},{"$f":"IF(ISBLANK(Staging!J484),-100,+Staging!J484)","v":0}]
[482,{"$f":"IF(ISBLANK(Staging!D485),-100,+Staging!D485)","v":0},{"$f":"IF(ISBLANK(Staging!E485),-100,+Staging!E485)","v":0},{"$f":"IF(ISBLANK(Staging!F485),-100,+Staging!F485)","v":0},{"$f":"IF(ISBLANK(Staging!G485),-100,+Staging!G485)","v":0},{"$f":"IF(ISBLANK(Staging!H485),-100,+Staging!H485)","v":0},{"$f":"IF(ISBLANK(Staging!I485),-100,+Staging!I485)","v":0},{"$f":"IF(ISBLANK(Staging!J485),-100,+Staging!J485)","v":0}]
[483,{"$f":"IF(ISBLANK(Staging!D486),-100,+Staging!D486)","v":0},{"$f":"IF(ISBLANK(Staging!E486),-100,+Staging!E486)","v":0},{"$f":"IF(ISBLANK(Staging!F486),-100,+Staging!F486)","v":0},{"$f":"IF(ISBLANK(Staging!G486),-100,+Staging!G486)","v":0},{"$f":"IF(ISBLANK(Staging!H486),-100,+Staging!H486)","v":0},{"$f":"IF(ISBLANK(Staging!I486),-100,+Staging!I486)","v":0},{"$f":"IF(ISBLANK(Staging!J486),-100,+Staging!J486)","v":0}]
[484,{"$f":"IF(ISBLANK(Staging!D487),-100,+Staging!D487)","v":0},{"$f":"IF(ISBLANK(Staging!E487),-100,+Staging!E487)","v":0},{"$f":"IF(ISBLANK(Staging!F487),-100,+Staging!F487)","v":0},{"$f":"IF(ISBLANK(Staging!G487),-100,+Staging!G487)","v":0},{"$f":"IF(ISBLANK(Staging!H487),-100,+Staging!H487)","v":0},{"$f":"IF(ISBLANK(Staging!I487),-100,+Staging!I487)","v":0},{"$f":"IF(ISBLANK(Staging!J487),-100,+Staging!J487)","v":0}]
[485,{"$f":"IF(ISBLANK(Staging!D488),-100,+Staging!D488)","v":0},{"$f":"IF(ISBLANK(Staging!E488),-100,+Staging!E488)","v":0},{"$f":"IF(ISBLANK(Staging!F488),-100,+Staging!F488)","v":0},{"$f":"IF(ISBLANK(Staging!G488),-100,+Staging!G488)","v":0},{"$f":"IF(ISBLANK(Staging!H488),-100,+Staging!H488)","v":0},{"$f":"IF(ISBLANK(Staging!I488),-100,+Staging!I488)","v":0},{"$f":"IF(ISBLANK(Staging!J488),-100,+Staging!J488)","v":0}]
[486,{"$f":"IF(ISBLANK(Staging!D489),-100,+Staging!D489)","v":0},{"$f":"IF(ISBLANK(Staging!E489),-100,+Staging!E489)","v":0},{"$f":"IF(ISBLANK(Staging!F489),-100,+Staging!F489)","v":0},{"$f":"IF(ISBLANK(Staging!G489),-100,+Staging!G489)","v":0},{"$f":"IF(ISBLANK(Staging!H489),-100,+Staging!H489)","v":0},{"$f":"IF(ISBLANK(Staging!I489),-100,+Staging!I489)","v":0},{"$f":"IF(ISBLANK(Staging!J489),-100,+Staging!J489)","v":0}]
[487,{"$f":"IF(ISBLANK(Staging!D490),-100,+Staging!D490)","v":0},{"$f":"IF(ISBLANK(Staging!E490),-100,+Staging!E490)","v":0},{"$f":"IF(ISBLANK(Staging!F490),-100,+Staging!F490)","v":0},{"$f":"IF(ISBLANK(Staging!G490),-100,+Staging!G490)","v":0},{"$f":"IF(ISBLANK(Staging!H490),-100,+Staging!H490)","v":0},{"$f":"IF(ISBLANK(Staging!I490),-100,+Staging!I490)","v":0},{"$f":"IF(ISBLANK(Staging!J490),-100,+Staging!J490)","v":0}]
[488,{"$f":"IF(ISBLANK(Staging!D491),-100,+Staging!D491)","v":0},{"$f":"IF(ISBLANK(Staging!E491),-100,+Staging!E491)","v":0},{"$f":"IF(ISBLANK(Staging!F491),-100,+Staging!F491)","v":0},{"$f":"IF(ISBLANK(Staging!G491),-100,+Staging!G491)","v":0},{"$f":"IF(ISBLANK(Staging!H491),-100,+Staging!H491)","v":0},{"$f":"IF(ISBLANK(Staging!I491),-100,+Staging!I491)","v":0},{"$f":"IF(ISBLANK(Staging!J491),-100,+Staging!J491)","v":0}]
[489,{"$f":"IF(ISBLANK(Staging!D492),-100,+Staging!D492)","v":0},{"$f":"IF(ISBLANK(Staging!E492),-100,+Staging!E492)","v":0},{"$f":"IF(ISBLANK(Staging!F492),-100,+Staging!F492)","v":0},{"$f":"IF(ISBLANK(Staging!G492),-100,+Staging!G492)","v":0},{"$f":"IF(ISBLANK(Staging!H492),-100,+Staging!H492)","v":0},{"$f":"IF(ISBLANK(Staging!I492),-100,+Staging!I492)","v":0},{"$f":"IF(ISBLANK(Staging!J492),-100,+Staging!J492)","v":0}]
[490,{"$f":"IF(ISBLANK(Staging!D493),-100,+Staging!D493)","v":0},{"$f":"IF(ISBLANK(Staging!E493),-100,+Staging!E493)","v":0},{"$f":"IF(ISBLANK(Staging!F493),-100,+Staging!F493)","v":0},{"$f":"IF(ISBLANK(Staging!G493),-100,+Staging!G493)","v":0},{"$f":"IF(ISBLANK(Staging!H493),-100,+Staging!H493)","v":0},{"$f":"IF(ISBLANK(Staging!I493),-100,+Staging!I493)","v":0},{"$f":"IF(ISBLANK(Staging!J493),-100,+Staging!J493)","v":0}]
[491,{"$f":"IF(ISBLANK(Staging!D494),-100,+Staging!D494)","v":0},{"$f":"IF(ISBLANK(Staging!E494),-100,+Staging!E494)","v":0},{"$f":"IF(ISBLANK(Staging!F494),-100,+Staging!F494)","v":0},{"$f":"IF(ISBLANK(Staging!G494),-100,+Staging!G494)","v":0},{"$f":"IF(ISBLANK(Staging!H494),-100,+Staging!H494)","v":0},{"$f":"IF(ISBLANK(Staging!I494),-100,+Staging!I494)","v":0},{"$f":"IF(ISBLANK(Staging!J494),-100,+Staging!J494)","v":0}]
[492,{"$f":"IF(ISBLANK(Staging!D495),-100,+Staging!D495)","v":0},{"$f":"IF(ISBLANK(Staging!E495),-100,+Staging!E495)","v":0},{"$f":"IF(ISBLANK(Staging!F495),-100,+Staging!F495)","v":0},{"$f":"IF(ISBLANK(Staging!G495),-100,+Staging!G495)","v":0},{"$f":"IF(ISBLANK(Staging!H495),-100,+Staging!H495)","v":0},{"$f":"IF(ISBLANK(Staging!I495),-100,+Staging!I495)","v":0},{"$f":"IF(ISBLANK(Staging!J495),-100,+Staging!J495)","v":0}]
[493,{"$f":"IF(ISBLANK(Staging!D496),-100,+Staging!D496)","v":0},{"$f":"IF(ISBLANK(Staging!E496),-100,+Staging!E496)","v":0},{"$f":"IF(ISBLANK(Staging!F496),-100,+Staging!F496)","v":0},{"$f":"IF(ISBLANK(Staging!G496),-100,+Staging!G496)","v":0},{"$f":"IF(ISBLANK(Staging!H496),-100,+Staging!H496)","v":0},{"$f":"IF(ISBLANK(Staging!I496),-100,+Staging!I496)","v":0},{"$f":"IF(ISBLANK(Staging!J496),-100,+Staging!J496)","v":0}]
[494,{"$f":"IF(ISBLANK(Staging!D497),-100,+Staging!D497)","v":0},{"$f":"IF(ISBLANK(Staging!E497),-100,+Staging!E497)","v":0},{"$f":"IF(ISBLANK(Staging!F497),-100,+Staging!F497)","v":0},{"$f":"IF(ISBLANK(Staging!G497),-100,+Staging!G497)","v":0},{"$f":"IF(ISBLANK(Staging!H497),-100,+Staging!H497)","v":0},{"$f":"IF(ISBLANK(Staging!I497),-100,+Staging!I497)","v":0},{"$f":"IF(ISBLANK(Staging!J497),-100,+Staging!J497)","v":0}]
[495,{"$f":"IF(ISBLANK(Staging!D498),-100,+Staging!D498)","v":0},{"$f":"IF(ISBLANK(Staging!E498),-100,+Staging!E498)","v":0},{"$f":"IF(ISBLANK(Staging!F498),-100,+Staging!F498)","v":0},{"$f":"IF(ISBLANK(Staging!G498),-100,+Staging!G498)","v":0},{"$f":"IF(ISBLANK(Staging!H498),-100,+Staging!H498)","v":0},{"$f":"IF(ISBLANK(Staging!I498),-100,+Staging!I498)","v":0},{"$f":"IF(ISBLANK(Staging!J498),-100,+Staging!J498)","v":0}]
[496,{"$f":"IF(ISBLANK(Staging!D499),-100,+Staging!D499)","v":0},{"$f":"IF(ISBLANK(Staging!E499),-100,+Staging!E499)","v":0},{"$f":"IF(ISBLANK(Staging!F499),-100,+Staging!F499)","v":0},{"$f":"IF(ISBLANK(Staging!G499),-100,+Staging!G499)","v":0},{"$f":"IF(ISBLANK(Staging!H499),-100,+Staging!H499)","v":0},{"$f":"IF(ISBLANK(Staging!I499),-100,+Staging!I499)","v":0},{"$f":"IF(ISBLANK(Staging!J499),-100,+Staging!J499)","v":0}]
[497,{"$f":"IF(ISBLANK(Staging!D500),-100,+Staging!D500)","v":0},{"$f":"IF(ISBLANK(Staging!E500),-100,+Staging!E500)","v":0},{"$f":"IF(ISBLANK(Staging!F500),-100,+Staging!F500)","v":0},{"$f":"IF(ISBLANK(Staging!G500),-100,+Staging!G500)","v":0},{"$f":"IF(ISBLANK(Staging!H500),-100,+Staging!H500)","v":0},{"$f":"IF(ISBLANK(Staging!I500),-100,+Staging!I500)","v":0},{"$f":"IF(ISBLANK(Staging!J500),-100,+Staging!J500)","v":0}]
[498,{"$f":"IF(ISBLANK(Staging!D501),-100,+Staging!D501)","v":0},{"$f":"IF(ISBLANK(Staging!E501),-100,+Staging!E501)","v":0},{"$f":"IF(ISBLANK(Staging!F501),-100,+Staging!F501)","v":0},{"$f":"IF(ISBLANK(Staging!G501),-100,+Staging!G501)","v":0},{"$f":"IF(ISBLANK(Staging!H501),-100,+Staging!H501)","v":0},{"$f":"IF(ISBLANK(Staging!I501),-100,+Staging!I501)","v":0},{"$f":"IF(ISBLANK(Staging!J501),-100,+Staging!J501)","v":0}]
[499,{"$f":"IF(ISBLANK(Staging!D502),-100,+Staging!D502)","v":0},{"$f":"IF(ISBLANK(Staging!E502),-100,+Staging!E502)","v":0},{"$f":"IF(ISBLANK(Staging!F502),-100,+Staging!F502)","v":0},{"$f":"IF(ISBLANK(Staging!G502),-100,+Staging!G502)","v":0},{"$f":"IF(ISBLANK(Staging!H502),-100,+Staging!H502)","v":0},{"$f":"IF(ISBLANK(Staging!I502),-100,+Staging!I502)","v":0},{"$f":"IF(ISBLANK(Staging!J502),-100,+Staging!J502)","v":0}]
[500,{"$f":"IF(ISBLANK(Staging!D503),-100,+Staging!D503)","v":0},{"$f":"IF(ISBLANK(Staging!E503),-100,+Staging!E503)","v":0},{"$f":"IF(ISBLANK(Staging!F503),-100,+Staging!F503)","v":0},{"$f":"IF(ISBLANK(Staging!G503),-100,+Staging!G503)","v":0},{"$f":"IF(ISBLANK(Staging!H503),-100,+Staging!H503)","v":0},{"$f":"IF(ISBLANK(Staging!I503),-100,+Staging!I503)","v":0},{"$f":"IF(ISBLANK(Staging!J503),-100,+Staging!J503)","v":0}]
[501,{"$f":"IF(ISBLANK(Staging!D504),-100,+Staging!D504)","v":0},{"$f":"IF(ISBLANK(Staging!E504),-100,+Staging!E504)","v":0},{"$f":"IF(ISBLANK(Staging!F504),-100,+Staging!F504)","v":0},{"$f":"IF(ISBLANK(Staging!G504),-100,+Staging!G504)","v":0},{"$f":"IF(ISBLANK(Staging!H504),-100,+Staging!H504)","v":0},{"$f":"IF(ISBLANK(Staging!I504),-100,+Staging!I504)","v":0},{"$f":"IF(ISBLANK(Staging!J504),-100,+Staging!J504)","v":0}]
[502,{"$f":"IF(ISBLANK(Staging!D505),-100,+Staging!D505)","v":0},{"$f":"IF(ISBLANK(Staging!E505),-100,+Staging!E505)","v":0},{"$f":"IF(ISBLANK(Staging!F505),-100,+Staging!F505)","v":0},{"$f":"IF(ISBLANK(Staging!G505),-100,+Staging!G505)","v":0},{"$f":"IF(ISBLANK(Staging!H505),-100,+Staging!H505)","v":0},{"$f":"IF(ISBLANK(Staging!I505),-100,+Staging!I505)","v":0},{"$f":"IF(ISBLANK(Staging!J505),-100,+Staging!J505)","v":0}]
[503,{"$f":"IF(ISBLANK(Staging!D506),-100,+Staging!D506)","v":0},{"$f":"IF(ISBLANK(Staging!E506),-100,+Staging!E506)","v":0},{"$f":"IF(ISBLANK(Staging!F506),-100,+Staging!F506)","v":0},{"$f":"IF(ISBLANK(Staging!G506),-100,+Staging!G506)","v":0},{"$f":"IF(ISBLANK(Staging!H506),-100,+Staging!H506)","v":0},{"$f":"IF(ISBLANK(Staging!I506),-100,+Staging!I506)","v":0},{"$f":"IF(ISBLANK(Staging!J506),-100,+Staging!J506)","v":0}]
[504,{"$f":"IF(ISBLANK(Staging!D507),-100,+Staging!D507)","v":0},{"$f":"IF(ISBLANK(Staging!E507),-100,+Staging!E507)","v":0},{"$f":"IF(ISBLANK(Staging!F507),-100,+Staging!F507)","v":0},{"$f":"IF(ISBLANK(Staging!G507),-100,+Staging!G507)","v":0},{"$f":"IF(ISBLANK(Staging!H507),-100,+Staging!H507)","v":0},{"$f":"IF(ISBLANK(Staging!I507),-100,+Staging!I507)","v":0},{"$f":"IF(ISBLANK(Staging!J507),-100,+Staging!J507)","v":0}]
[505,{"$f":"IF(ISBLANK(Staging!D508),-100,+Staging!D508)","v":0},{"$f":"IF(ISBLANK(Staging!E508),-100,+Staging!E508)","v":0},{"$f":"IF(ISBLANK(Staging!F508),-100,+Staging!F508)","v":0},{"$f":"IF(ISBLANK(Staging!G508),-100,+Staging!G508)","v":0},{"$f":"IF(ISBLANK(Staging!H508),-100,+Staging!H508)","v":0},{"$f":"IF(ISBLANK(Staging!I508),-100,+Staging!I508)","v":0},{"$f":"IF(ISBLANK(Staging!J508),-100,+Staging!J508)","v":0}]
[506,{"$f":"IF(ISBLANK(Staging!D509),-100,+Staging!D509)","v":0},{"$f":"IF(ISBLANK(Staging!E509),-100,+Staging!E509)","v":0},{"$f":"IF(ISBLANK(Staging!F509),-100,+Staging!F509)","v":0},{"$f":"IF(ISBLANK(Staging!G509),-100,+Staging!G509)","v":0},{"$f":"IF(ISBLANK(Staging!H509),-100,+Staging!H509)","v":0},{"$f":"IF(ISBLANK(Staging!I509),-100,+Staging!I509)","v":0},{"$f":"IF(ISBLANK(Staging!J509),-100,+Staging!J509)","v":0}]
[507,{"$f":"IF(ISBLANK(Staging!D510),-100,+Staging!D510)","v":0},{"$f":"IF(ISBLANK(Staging!E510),-100,+Staging!E510)","v":0},{"$f":"IF(ISBLANK(Staging!F510),-100,+Staging!F510)","v":0},{"$f":"IF(ISBLANK(Staging!G510),-100,+Staging!G510)","v":0},{"$f":"IF(ISBLANK(Staging!H510),-100,+Staging!H510)","v":0},{"$f":"IF(ISBLANK(Staging!I510),-100,+Staging!I510)","v":0},{"$f":"IF(ISBLANK(Staging!J510),-100,+Staging!J510)","v":0}]
[508,{"$f":"IF(ISBLANK(Staging!D511),-100,+Staging!D511)","v":0},{"$f":"IF(ISBLANK(Staging!E511),-100,+Staging!E511)","v":0},{"$f":"IF(ISBLANK(Staging!F511),-100,+Staging!F511)","v":0},{"$f":"IF(ISBLANK(Staging!G511),-100,+Staging!G511)","v":0},{"$f":"IF(ISBLANK(Staging!H511),-100,+Staging!H511)","v":0},{"$f":"IF(ISBLANK(Staging!I511),-100,+Staging!I511)","v":0},{"$f":"IF(ISBLANK(Staging!J511),-100,+Staging!J511)","v":0}]
[509,{"$f":"IF(ISBLANK(Staging!D512),-100,+Staging!D512)","v":0},{"$f":"IF(ISBLANK(Staging!E512),-100,+Staging!E512)","v":0},{"$f":"IF(ISBLANK(Staging!F512),-100,+Staging!F512)","v":0},{"$f":"IF(ISBLANK(Staging!G512),-100,+Staging!G512)","v":0},{"$f":"IF(ISBLANK(Staging!H512),-100,+Staging!H512)","v":0},{"$f":"IF(ISBLANK(Staging!I512),-100,+Staging!I512)","v":0},{"$f":"IF(ISBLANK(Staging!J512),-100,+Staging!J512)","v":0}]
[510,{"$f":"IF(ISBLANK(Staging!D513),-100,+Staging!D513)","v":0},{"$f":"IF(ISBLANK(Staging!E513),-100,+Staging!E513)","v":0},{"$f":"IF(ISBLANK(Staging!F513),-100,+Staging!F513)","v":0},{"$f":"IF(ISBLANK(Staging!G513),-100,+Staging!G513)","v":0},{"$f":"IF(ISBLANK(Staging!H513),-100,+Staging!H513)","v":0},{"$f":"IF(ISBLANK(Staging!I513),-100,+Staging!I513)","v":0},{"$f":"IF(ISBLANK(Staging!J513),-100,+Staging!J513)","v":0}]

{"sheet":"Count","index":5,"n_rows":1043,"n_cols":10,"rows_kept":1043,"cut":false,"hidden":false,"merged":[[6,0,6,7],[3,0,3,7],[0,0,0,7],[1,7,2,7]]}
["Count Sheet"]
["Dates",{"$f":"MONTH(Summary!B5)&\"/\"&DAY(+Summary!B5)&\" - \"&MONTH(Summary!B6)&\"/\"&DAY(+Summary!B6)","v":"5/18 - 5/21"},{"$f":"MONTH(Summary!B6)&\"/\"&DAY(+Summary!B6)&\" - \"&MONTH(Summary!B7)&\"/\"&DAY(+Summary!B7)","v":"5/21 - 5/25"},{"$f":"MONTH(Summary!B7)&\"/\"&DAY(+Summary!B7)&\" - \"&MONTH(Summary!B8)&\"/\"&DAY(+Summary!B8)","v":"5/25 - 5/28"},{"$f":"MONTH(Summary!B8)&\"/\"&DAY(+Summary!B8)&\" - \"&MONTH(Summary!B9)&\"/\"&DAY(+Summary!B9)","v":"5/28 - 5/31"},{"$f":"MONTH(Summary!B9)&\"/\"&DAY(+Summary!B9)&\" - \"&MONTH(Summary!B10)&\"/\"&DAY(+Summary!B10)","v":"5/31 - 6/3"},{"$f":"MONTH(Summary!B10)&\"/\"&DAY(+Summary!B10)&\" - \"&MONTH(Summary!B11)&\"/\"&DAY(+Summary!B11)","v":"6/3 - 6/6"},"Comment"]
["Number  ",{"$f":"+Summary!A6","v":2},{"$f":"+B3+1","v":3},{"$f":"+C3+1","v":4},{"$f":"+D3+1","v":5},{"$f":"+E3+1","v":6},{"$f":"+F3+1","v":7}]
["Diameter (mm)"]
["Mean Fastest",{"$f":"+DAVERAGE(DATA20,\"1Dia\",B12:B13)","v":0.63800000000000001},{"$f":"+DAVERAGE(DATA20,\"2Dia\",C12:C13)","v":1.046},{"$f":"+DAVERAGE(DATA20,\"3Dia\",D12:D13)","v":2.5907142857142853},{"$f":"+DAVERAGE(DATA20,\"4Dia\",E12:E13)","v":{"$error":"#DIV/0!"}},{"$f":"+DAVERAGE(DATA20,\"5Dia\",F12:F13)","v":{"$error":"#DIV/0!"}},{"$f":"+DAVERAGE(DATA20,\"6Dia\",G12:G13)","v":{"$error":"#DIV/0!"}},"Mean of up to 20 Fastest Growing Fruit"]
["50% Fastest",{"$f":"+B5/2","v":0.31900000000000001},0.52300000000000002,1.2953571428571427,{"$error":"#DIV/0!"},{"$error":"#DIV/0!"},{"$error":"#DIV/0!"},"50% Diameter Growth of up to 20 Fastest Growing Fruitlets"]
["Number of Fruit"]
["> 0 Growth",{"$f":"+DCOUNT(DATA100,\"1Dia\",B12:B13)","v":54},{"$f":"+DCOUNT(DATA100,\"2Dia\",C12:C13)","v":23},{"$f":"+DCOUNT(DATA100,\"3Dia\",D12:D13)","v":14},{"$f":"+DCOUNT(DATA100,\"4Dia\",E12:E13)","v":0},{"$f":"+DCOUNT(DATA100,\"5Dia\",F12:F13)","v":0},{"$f":"+DCOUNT(DATA100,\"6Dia\",G12:G13)","v":0},"# of Fruit with Diameter Growth >0"]
["> 50%",{"$f":"+DCOUNT(DATA100,\"1Dia\",B14:B15)","v":26},{"$f":"+DCOUNT(DATA100,\"2Dia\",C14:C15)","v":17},{"$f":"+DCOUNT(DATA100,\"3Dia\",D14:D15)","v":12},{"$f":"+DCOUNT(DATA100,\"4Dia\",E14:E15)","v":0},{"$f":"+DCOUNT(DATA100,\"5Dia\",F14:F15)","v":0},{"$f":"+DCOUNT(DATA100,\"6Dia\",G14:G15)","v":0},"# of Fruit Diameter Growth >50% of Fastest"]
["< 50%",{"$f":"+B11-B9","v":49},56,42,15,0,0,"# of Fruit Diameter Growth <50% of Fastest"]
["Total",{"$f":"+Diameter!B8","v":75},{"$f":"+Diameter!C8","v":73},{"$f":"+Diameter!D8","v":54},{"$f":"+Diameter!E8","v":15},{"$f":"+Diameter!F8","v":0},{"$f":"+Diameter!G8","v":0},"Total # of Fruitlets Measured"]
["Apple","1Dia","2Dia","3Dia","4Dia","5Dia","6Dia"]
[">0",">0",">0",">0",">0",">0",">0"]
["Apple","1Dia","2Dia","3Dia","4Dia","5Dia","6Dia"]
[">50%",{"$f":"+\">\"&TEXT(B6,\".000\")","v":">.319"},">.523",">1.295",{"$error":"#DIV/0!"},{"$error":"#DIV/0!"},{"$error":"#DIV/0!"}]
["Apple","1Dia","2Dia","3Dia","4Dia","5Dia","6Dia",null,"3Dia","2Dia"]
[1,1.0300000000000002,2.4299999999999997,4.32,0,0,0,null,{"$f":"+D17","v":4.32},{"$f":"+C17","v":2.4299999999999997}]
[2,0.96,1.6600000000000001,3.4200000000000008,0,0,0,null,3.4200000000000008,1.6600000000000001]
[3,0.91000000000000014,1.3900000000000001,3.24,0,0,0,null,3.24,1.3900000000000001]
[4,0.79,1.3800000000000003,3.2,0,0,0,null,3.2,1.3800000000000003]
[5,0.79,1.3600000000000003,3.1800000000000006,0,0,0,null,3.1800000000000006,1.3600000000000003]
[6,0.75,1.3499999999999996,3.0699999999999994,0,0,0,null,3.0699999999999994,1.3499999999999996]
[7,0.73000000000000043,1.33,2.9299999999999988,0,0,0,null,2.9299999999999988,1.33]
[8,0.7200000000000002,1.2400000000000002,2.8,0,0,0,null,2.8,1.2400000000000002]
[9,0.61000000000000032,1.2200000000000002,2.7100000000000009,0,0,0,null,2.7100000000000009,1.2200000000000002]
[10,0.5900000000000003,1.17,2.6799999999999997,0,0,0,null,2.6799999999999997,1.17]
[11,0.58000000000000007,0.94000000000000039,2.5899999999999994,0,0,0,null,2.5899999999999994,0.94000000000000039]
[12,0.53000000000000025,0.89000000000000012,1.9699999999999998,0,0,0,null,1.9699999999999998,0.89000000000000012]
[13,0.5299999999999998,0.83999999999999986,0.12000000000000011,0,0,0,null,0.12000000000000011,0.83999999999999986]
[14,0.5,0.8199999999999994,4.0000000000000036E-2,0,0,0,null,4.0000000000000036E-2,0.8199999999999994]
[15,0.49000000000000021,0.79,0,0,0,0,null,0,0.79]
[16,0.48,0.65000000000000036,0,0,0,0,null,0,0.65000000000000036]
[17,0.45000000000000018,0.58999999999999986,0,0,0,0,null,0,0.58999999999999986]
[18,0.44999999999999973,0.38999999999999968,0,0,0,0,null,0,0.38999999999999968]
[19,0.43999999999999995,0.27,0,0,0,0,null,0,0.27]
[20,0.43000000000000016,0.20999999999999996,0,0,0,0,null,0,0.20999999999999996]
[21,0.42999999999999972,0.18000000000000016,0,0,0,0,null,0,0.18000000000000016]
[22,0.41000000000000014,0.10999999999999988,0,0,0,0,null,0,0.10999999999999988]
[23,0.35000000000000009,0.10000000000000009,0,0,0,0,null,0,0.10000000000000009]
[24,0.34999999999999964,0,0,0,0,0,null,0,0]
[25,0.3400000000000003,0,0,0,0,0,null,0,0]
[26,0.33000000000000007,0,0,0,0,0,null,0,0]
[27,0.31000000000000005,0,0,0,0,0,null,0,0]
[28,0.31000000000000005,0,0,0,0,0,null,0,0]
[29,0.30000000000000027,0,0,0,0,0,null,0,0]
[30,0.2799999999999998,0,0,0,0,0,null,0,0]
[31,0.2799999999999998,0,0,0,0,0,null,0,0]
[32,0.26000000000000023,0,0,0,0,0,null,0,0]
[33,0.25,0,0,0,0,0,null,0,0]
[34,0.24000000000000021,0,0,0,0,0,null,0,0]
[35,0.24000000000000021,0,0,0,0,0,null,0,0]
[36,0.22999999999999998,0,0,0,0,0,null,0,0]
[37,0.21999999999999975,0,0,0,0,0,null,0,0]
[38,0.20999999999999996,0,0,0,0,0,null,0,0]
[39,0.20000000000000018,0,0,0,0,0,null,0,0]
[40,0.20000000000000018,0,0,0,0,0,null,0,0]
[41,0.18999999999999995,0,0,0,0,0,null,0,0]
[42,0.17999999999999972,0,0,0,0,0,null,{"$f":"+D58","v":0},0]
[43,0.12999999999999989,0,0,0,0,0,null,""]
[44,0.12999999999999989,0,0,0,0,0,null,""]
[45,0.12000000000000011,0,0,0,0,0,null,""]
[46,0.11999999999999966,0,0,0,0,0,null,""]
[47,0.10000000000000009,0,0,0,0,0,null,""]
[48,9.9999999999999645E-2,0,0,0,0,0,null,""]
[49,6.999999999999984E-2,0,0,0,0,0,null,""]
[50,6.999999999999984E-2,0,0,0,0,0,null,""]
[51,5.0000000000000266E-2,0,0,0,0,0,null,""]
[52,4.9999999999999822E-2,0,0,0,0,0,null,""]
[53,3.0000000000000249E-2,0,0,0,0,0,null,""]
[54,9.9999999999997868E-3,0,0,0,0,0,null,""]
[55,0,0,0,0,0,0,null,""]
[56,0,0,0,0,0,0,null,""]
[57,0,0,0,0,0,0,null,""]
[58,0,0,0,0,0,0,null,""]
[59,0,0,0,0,0,0,null,""]
[60,0,0,0,0,0,0,null,""]
[61,0,0,0,0,0,0,null,""]
[62,0,0,0,0,0,0,null,""]
[63,0,0,0,0,0,0,null,""]
[64,0,0,0,0,0,0,null,""]
[65,0,0,0,0,0,0,null,""]
[66,0,0,0,0,0,0,null,""]
[67,0,0,0,0,0,0,null,""]
[68,0,0,0,0,0,0,null,""]
[69,0,0,0,0,0,0,null,""]
[70,0,0,0,0,0,0,null,""]
[71,0,0,0,0,0,0,null,""]
[72,0,0,0,0,0,0,null,""]
[73,0,0,0,0,0,0,null,""]
[74,0,0,0,0,0,0,null,""]
[75,0,0,0,0,0,0,null,""]
[76,0,0,0,0,0,0,null,""]
[77,0,0,0,0,0,0,null,""]
[78,0,0,0,0,0,0,null,""]
[79,0,0,0,0,0,0,null,""]
[80,0,0,0,0,0,0,null,""]
[81,0,0,0,0,0,0,null,""]
[82,0,0,0,0,0,0,null,""]
[83,0,0,0,0,0,0,null,""]
[84,0,0,0,0,0,0,null,""]
[85,0,0,0,0,0,0,null,""]
[86,0,0,0,0,0,0,null,""]
[87,0,0,0,0,0,0,null,""]
[88,0,0,0,0,0,0,null,""]
[89,0,0,0,0,0,0,null,""]
[90,0,0,0,0,0,0,null,""]
[91,0,0,0,0,0,0,null,""]
[92,0,0,0,0,0,0,null,""]
[93,0,0,0,0,0,0,null,""]
[94,0,0,0,0,0,0,null,""]
[95,0,0,0,0,0,0,null,""]
[96,0,0,0,0,0,0,null,""]
[97,0,0,0,0,0,0,null,""]
[98,0,0,0,0,0,0,null,""]
[99,0,0,0,0,0,0,null,""]
[100,0,0,0,0,0,0,null,""]
[101,0,0,0,0,0,0]
[102,0,0,0,0,0,0]
[103,0,0,0,0,0,0]
[104,0,0,0,0,0,0]
[105,0,0,0,0,0,0]
[106,0,0,0,0,0,0]
[107,0,0,0,0,0,0]
[108,0,0,0,0,0,0]
[109,0,0,0,0,0,0]
[110,0,0,0,0,0,0]
[111,0,0,0,0,0,0]
[112,0,0,0,0,0,0]
[113,0,0,0,0,0,0]
[114,0,0,0,0,0,0]
[115,0,0,0,0,0,0]
[116,0,0,0,0,0,0]
[117,0,0,0,0,0,0]
[118,0,0,0,0,0,0]
[119,0,0,0,0,0,0]
[120,0,0,0,0,0,0]
[121,0,0,0,0,0,0]
[122,0,0,0,0,0,0]
[123,0,0,0,0,0,0]
[124,0,0,0,0,0,0]
[125,0,0,0,0,0,0]
[126,0,0,0,0,0,0]
[127,0,0,0,0,0,0]
[128,0,0,0,0,0,0]
[129,0,0,0,0,0,0]
[130,0,0,0,0,0,0]
[131,0,0,0,0,0,0]
[132,0,0,0,0,0,0]
[133,0,0,0,0,0,0]
[134,0,0,0,0,0,0]
[135,0,0,0,0,0,0]
[136,0,0,0,0,0,0]
[137,0,0,0,0,0,0]
[138,0,0,0,0,0,0]
[139,0,0,0,0,0,0]
[140,0,0,0,0,0,0]
[141,0,0,0,0,0,0]
[142,0,0,0,0,0,0]
[143,0,0,0,0,0,0]
[144,0,0,0,0,0,0]
[145,0,0,0,0,0,0]
[146,0,0,0,0,0,0]
[147,0,0,0,0,0,0]
[148,0,0,0,0,0,0]
[149,0,0,0,0,0,0]
[150,0,0,0,0,0,0]
[151,0,0,0,0,0,0]
[152,0,0,0,0,0,0]
[153,0,0,0,0,0,0]
[154,0,0,0,0,0,0]
[155,0,0,0,0,0,0]
[156,0,0,0,0,0,0]
[157,0,0,0,0,0,0]
[158,0,0,0,0,0,0]
[159,0,0,0,0,0,0]
[160,0,0,0,0,0,0]
[161,0,0,0,0,0,0]
[162,0,0,0,0,0,0]
[163,0,0,0,0,0,0]
[164,0,0,0,0,0,0]
[165,0,0,0,0,0,0]
[166,0,0,0,0,0,0]
[167,0,0,0,0,0,0]
[168,0,0,0,0,0,0]
[169,0,0,0,0,0,0]
[170,0,0,0,0,0,0]
[171,0,0,0,0,0,0]
[172,0,0,0,0,0,0]
[173,0,0,0,0,0,0]
[174,0,0,0,0,0,0]
[175,0,0,0,0,0,0]
[176,0,0,0,0,0,0]
[177,0,0,0,0,0,0]
[178,0,0,0,0,0,0]
[179,0,0,0,0,0,0]
[180,0,0,0,0,0,0]
[181,0,0,0,0,0,0]
[182,0,0,0,0,0,0]
[183,0,0,0,0,0,0]
[184,0,0,0,0,0,0]
[185,0,0,0,0,0,0]
[186,0,0,0,0,0,0]
[187,0,0,0,0,0,0]
[188,0,0,0,0,0,0]
[189,0,0,0,0,0,0]
[190,0,0,0,0,0,0]
[191,0,0,0,0,0,0]
[192,0,0,0,0,0,0]
[193,0,0,0,0,0,0]
[194,0,0,0,0,0,0]
[195,0,0,0,0,0,0]
[196,0,0,0,0,0,0]
[197,0,0,0,0,0,0]
[198,0,0,0,0,0,0]
[199,0,0,0,0,0,0]
[200,0,0,0,0,0,0]
[201,0,0,0,0,0,0]
[202,0,0,0,0,0,0]
[203,0,0,0,0,0,0]
[204,0,0,0,0,0,0]
[205,0,0,0,0,0,0]
[206,0,0,0,0,0,0]
[207,0,0,0,0,0,0]
[208,0,0,0,0,0,0]
[209,0,0,0,0,0,0]
[210,0,0,0,0,0,0]
[211,0,0,0,0,0,0]
[212,0,0,0,0,0,0]
[213,0,0,0,0,0,0]
[214,0,0,0,0,0,0]
[215,0,0,0,0,0,0]
[216,0,0,0,0,0,0]
[217,0,0,0,0,0,0]
[218,0,0,0,0,0,0]
[219,0,0,0,0,0,0]
[220,0,0,0,0,0,0]
[221,0,0,0,0,0,0]
[222,0,0,0,0,0,0]
[223,0,0,0,0,0,0]
[224,0,0,0,0,0,0]
[225,0,0,0,0,0,0]
[226,0,0,0,0,0,0]
[227,0,0,0,0,0,0]
[228,0,0,0,0,0,0]
[229,0,0,0,0,0,0]
[230,0,0,0,0,0,0]
[231,0,0,0,0,0,0]
[232,0,0,0,0,0,0]
[233,0,0,0,0,0,0]
[234,0,0,0,0,0,0]
[235,0,0,0,0,0,0]
[236,0,0,0,0,0,0]
[237,0,0,0,0,0,0]
[238,0,0,0,0,0,0]
[239,0,0,0,0,0,0]
[240,0,0,0,0,0,0]
[241,0,0,0,0,0,0]
[242,0,0,0,0,0,0]
[243,0,0,0,0,0,0]
[244,0,0,0,0,0,0]
[245,0,0,0,0,0,0]
[246,0,0,0,0,0,0]
[247,0,0,0,0,0,0]
[248,0,0,0,0,0,0]
[249,0,0,0,0,0,0]
[250,0,0,0,0,0,0]
[251,0,0,0,0,0,0]
[252,0,0,0,0,0,0]
[253,0,0,0,0,0,0]
[254,0,0,0,0,0,0]
[255,0,0,0,0,0,0]
[256,0,0,0,0,0,0]
[257,0,0,0,0,0,0]
[258,0,0,0,0,0,0]
[259,0,0,0,0,0,0]
[260,0,0,0,0,0,0]
[261,0,0,0,0,0,0]
[262,0,0,0,0,0,0]
[263,0,0,0,0,0,0]
[264,0,0,0,0,0,0]
[265,0,0,0,0,0,0]
[266,0,0,0,0,0,0]
[267,0,0,0,0,0,0]
[268,0,0,0,0,0,0]
[269,0,0,0,0,0,0]
[270,0,0,0,0,0,0]
[271,0,0,0,0,0,0]
[272,0,0,0,0,0,0]
[273,0,0,0,0,0,0]
[274,0,0,0,0,0,0]
[275,0,0,0,0,0,0]
[276,0,0,0,0,0,0]
[277,0,0,0,0,0,0]
[278,0,0,0,0,0,0]
[279,0,0,0,0,0,0]
[280,0,0,0,0,0,0]
[281,0,0,0,0,0,0]
[282,0,0,0,0,0,0]
[283,0,0,0,0,0,0]
[284,0,0,0,0,0,0]
[285,0,0,0,0,0,0]
[286,0,0,0,0,0,0]
[287,0,0,0,0,0,0]
[288,0,0,0,0,0,0]
[289,0,0,0,0,0,0]
[290,0,0,0,0,0,0]
[291,0,0,0,0,0,0]
[292,0,0,0,0,0,0]
[293,0,0,0,0,0,0]
[294,0,0,0,0,0,0]
[295,0,0,0,0,0,0]
[296,0,0,0,0,0,0]
[297,0,0,0,0,0,0]
[298,0,0,0,0,0,0]
[299,0,0,0,0,0,0]
[300,0,0,0,0,0,0]
[301,0,0,0,0,0,0]
[302,0,0,0,0,0,0]
[303,0,0,0,0,0,0]
[304,0,0,0,0,0,0]
[305,0,0,0,0,0,0]
[306,0,0,0,0,0,0]
[307,0,0,0,0,0,0]
[308,0,0,0,0,0,0]
[309,0,0,0,0,0,0]
[310,0,0,0,0,0,0]
[311,0,0,0,0,0,0]
[312,0,0,0,0,0,0]
[313,0,0,0,0,0,0]
[314,0,0,0,0,0,0]
[315,0,0,0,0,0,0]
[316,0,0,0,0,0,0]
[317,0,0,0,0,0,0]
[318,0,0,0,0,0,0]
[319,0,0,0,0,0,0]
[320,0,0,0,0,0,0]
[321,0,0,0,0,0,0]
[322,0,0,0,0,0,0]
[323,0,0,0,0,0,0]
[324,0,0,0,0,0,0]
[325,0,0,0,0,0,0]
[326,0,0,0,0,0,0]
[327,0,0,0,0,0,0]
[328,0,0,0,0,0,0]
[329,0,0,0,0,0,0]
[330,0,0,0,0,0,0]
[331,0,0,0,0,0,0]
[332,0,0,0,0,0,0]
[333,0,0,0,0,0,0]
[334,0,0,0,0,0,0]
[335,0,0,0,0,0,0]
[336,0,0,0,0,0,0]
[337,0,0,0,0,0,0]
[338,0,0,0,0,0,0]
[339,0,0,0,0,0,0]
[340,0,0,0,0,0,0]
[341,0,0,0,0,0,0]
[342,0,0,0,0,0,0]
[343,0,0,0,0,0,0]
[344,0,0,0,0,0,0]
[345,0,0,0,0,0,0]
[346,0,0,0,0,0,0]
[347,0,0,0,0,0,0]
[348,0,0,0,0,0,0]
[349,0,0,0,0,0,0]
[350,0,0,0,0,0,0]
[351,0,0,0,0,0,0]
[352,0,0,0,0,0,0]
[353,0,0,0,0,0,0]
[354,0,0,0,0,0,0]
[355,0,0,0,0,0,0]
[356,0,0,0,0,0,0]
[357,0,0,0,0,0,0]
[358,0,0,0,0,0,0]
[359,0,0,0,0,0,0]
[360,0,0,0,0,0,0]
[361,0,0,0,0,0,0]
[362,0,0,0,0,0,0]
[363,0,0,0,0,0,0]
[364,0,0,0,0,0,0]
[365,0,0,0,0,0,0]
[366,0,0,0,0,0,0]
[367,0,0,0,0,0,0]
[368,0,0,0,0,0,0]
[369,0,0,0,0,0,0]
[370,0,0,0,0,0,0]
[371,0,0,0,0,0,0]
[372,0,0,0,0,0,0]
[373,0,0,0,0,0,0]
[374,0,0,0,0,0,0]
[375,0,0,0,0,0,0]
[376,0,0,0,0,0,0]
[377,0,0,0,0,0,0]
[378,0,0,0,0,0,0]
[379,0,0,0,0,0,0]
[380,0,0,0,0,0,0]
[381,0,0,0,0,0,0]
[382,0,0,0,0,0,0]
[383,0,0,0,0,0,0]
[384,0,0,0,0,0,0]
[385,0,0,0,0,0,0]
[386,0,0,0,0,0,0]
[387,0,0,0,0,0,0]
[388,0,0,0,0,0,0]
[389,0,0,0,0,0,0]
[390,0,0,0,0,0,0]
[391,0,0,0,0,0,0]
[392,0,0,0,0,0,0]
[393,0,0,0,0,0,0]
[394,0,0,0,0,0,0]
[395,0,0,0,0,0,0]
[396,0,0,0,0,0,0]
[397,0,0,0,0,0,0]
[398,0,0,0,0,0,0]
[399,0,0,0,0,0,0]
[400,0,0,0,0,0,0]
[401,0,0,0,0,0,0]
[402,0,0,0,0,0,0]
[403,0,0,0,0,0,0]
[404,0,0,0,0,0,0]
[405,0,0,0,0,0,0]
[406,0,0,0,0,0,0]
[407,0,0,0,0,0,0]
[408,0,0,0,0,0,0]
[409,0,0,0,0,0,0]
[410,0,0,0,0,0,0]
[411,0,0,0,0,0,0]
[412,0,0,0,0,0,0]
[413,0,0,0,0,0,0]
[414,0,0,0,0,0,0]
[415,0,0,0,0,0,0]
[416,0,0,0,0,0,0]
[417,0,0,0,0,0,0]
[418,0,0,0,0,0,0]
[419,0,0,0,0,0,0]
[420,0,0,0,0,0,0]
[421,0,0,0,0,0,0]
[422,0,0,0,0,0,0]
[423,0,0,0,0,0,0]
[424,0,0,0,0,0,0]
[425,0,0,0,0,0,0]
[426,0,0,0,0,0,0]
[427,0,0,0,0,0,0]
[428,0,0,0,0,0,0]
[429,0,0,0,0,0,0]
[430,0,0,0,0,0,0]
[431,0,0,0,0,0,0]
[432,0,0,0,0,0,0]
[433,0,0,0,0,0,0]
[434,0,0,0,0,0,0]
[435,0,0,0,0,0,0]
[436,0,0,0,0,0,0]
[437,0,0,0,0,0,0]
[438,0,0,0,0,0,0]
[439,0,0,0,0,0,0]
[440,0,0,0,0,0,0]
[441,0,0,0,0,0,0]
[442,0,0,0,0,0,0]
[443,0,0,0,0,0,0]
[444,0,0,0,0,0,0]
[445,0,0,0,0,0,0]
[446,0,0,0,0,0,0]
[447,0,0,0,0,0,0]
[448,0,0,0,0,0,0]
[449,0,0,0,0,0,0]
[450,0,0,0,0,0,0]
[451,0,0,0,0,0,0]
[452,0,0,0,0,0,0]
[453,0,0,0,0,0,0]
[454,0,0,0,0,0,0]
[455,0,0,0,0,0,0]
[456,0,0,0,0,0,0]
[457,0,0,0,0,0,0]
[458,0,0,0,0,0,0]
[459,0,0,0,0,0,0]
[460,0,0,0,0,0,0]
[461,0,-6.999999999999984E-2,0,0,0,0]
[462,0,-0.10000000000000009,0,0,0,0]
[463,0,-0.12999999999999989,0,0,0,0]
[464,0,-0.16000000000000014,0,0,0,0]
[465,0,-0.16999999999999993,0,0,0,0]
[466,0,-0.17999999999999972,0,0,0,0]
[467,0,-0.17999999999999972,0,0,0,0]
[468,0,-0.20999999999999996,0,0,0,0]
[469,0,-0.22999999999999998,0,0,0,0]
[470,0,-0.22999999999999998,0,0,0,0]
[471,0,-0.2799999999999998,-0.11000000000000032,0,0,0]
[472,0,-0.31999999999999984,-1.78,0,0,0]
[473,0,-0.32000000000000006,-1.86,0,0,0]
[474,0,-0.32000000000000028,-1.86,0,0,0]
[475,0,-0.33000000000000007,-2.0499999999999998,0,0,0]
[476,0,-0.33000000000000007,-2.19,0,0,0]
[477,0,-0.34999999999999964,-2.34,0,0,0]
[478,0,-0.37000000000000011,-2.34,0,0,0]
[479,0,-0.4099999999999997,-2.36,0,0,0]
[480,0,-0.41000000000000014,-2.44,0,0,0]
[481,0,-0.43000000000000016,-2.4700000000000002,0,0,0]
[482,0,-0.43000000000000016,-2.4900000000000002,0,0,0]
[483,0,-0.43999999999999995,-2.5,0,0,0]
[484,0,-0.45000000000000018,-2.5499999999999998,0,0,0]
[485,0,-0.53000000000000025,-2.56,0,0,0]
[486,0,-0.53000000000000025,-2.61,0,0,0]
[487,0,-0.69000000000000039,-2.62,0,0,0]
[488,0,-0.71,-2.7,0,0,0]
[489,0,-0.78000000000000025,-2.73,0,0,0]
[490,0,-0.8600000000000001,-2.75,0,0,0]
[491,0,-1.34,-2.79,0,0,0]
[492,-9.9999999999997868E-3,-1.89,-2.82,0,0,0]
[493,-9.9999999999997868E-3,-2.08,-2.83,0,0,0]
[494,-1.0000000000000231E-2,-2.17,-2.84,0,0,0]
[495,-2.0000000000000018E-2,-2.4900000000000002,-2.87,0,0,0]
[496,-2.0000000000000018E-2,-2.59,-2.9,-3.89,0,0]
[497,-5.0000000000000266E-2,-2.6,-2.96,-4.13,0,0]
[498,-8.9999999999999858E-2,-2.74,-2.98,-4.42,0,0]
[499,-0.11999999999999966,-2.76,-3.01,-6.31,0,0]
[500,-0.14999999999999991,-2.77,-3.02,-7.42,0,0]
[501,-0.16999999999999993,-2.92,-3.02,-7.99,0,0]
[502,-0.18000000000000016,-2.99,-3.04,-7.99,0,0]
[503,-0.24000000000000021,-3,-3.04,-8.02,0,0]
[504,-0.29000000000000004,-3.02,-3.09,-8.0399999999999991,0,0]
[505,-0.29999999999999982,-3.05,-3.24,-8.11,0,0]
[506,-0.32000000000000006,-3.08,-3.27,-8.14,0,0]
[507,-0.35000000000000009,-3.21,-3.27,-9.07,0,0]
[508,-0.54,-3.22,-3.45,-9.31,0,0]
[509,-2.34,-3.27,-3.47,-10.38,0,0]
[510,-2.79,-3.36,-4.2300000000000004,-12.51,0,0]
[]
[]
[]
[]
[]
[]
["Diameter Growth"]
[1,{"$f":"IF(ISBLANK(Staging!D4),-100,+Staging!E4+-Staging!D4)","v":0.91000000000000014},{"$f":"IF(ISBLANK(Staging!E4),-100,+Staging!F4+-Staging!E4)","v":2.4299999999999997},{"$f":"IF(ISBLANK(Staging!F4),-100,+Staging!G4+-Staging!F4)","v":4.32},{"$f":"IF(ISBLANK(Staging!G4),-100,+Staging!H4+-Staging!G4)","v":-12.51},{"$f":"IF(ISBLANK(Staging!H4),-100,+Staging!I4+-Staging!H4)","v":0},{"$f":"IF(ISBLANK(Staging!I4),-100,+Staging!J4+-Staging!I4)","v":0},"This section is the calucation of growth between measurements"]
[2,{"$f":"IF(ISBLANK(Staging!D5),-100,+Staging!E5+-Staging!D5)","v":-9.9999999999997868E-3},{"$f":"IF(ISBLANK(Staging!E5),-100,+Staging!F5+-Staging!E5)","v":-2.99},{"$f":"IF(ISBLANK(Staging!F5),-100,+Staging!G5+-Staging!F5)","v":0},{"$f":"IF(ISBLANK(Staging!G5),-100,+Staging!H5+-Staging!G5)","v":0},{"$f":"IF(ISBLANK(Staging!H5),-100,+Staging!I5+-Staging!H5)","v":0},{"$f":"IF(ISBLANK(Staging!I5),-100,+Staging!J5+-Staging!I5)","v":0}]
[3,{"$f":"IF(ISBLANK(Staging!D6),-100,+Staging!E6+-Staging!D6)","v":0.43000000000000016},{"$f":"IF(ISBLANK(Staging!E6),-100,+Staging!F6+-Staging!E6)","v":-3},{"$f":"IF(ISBLANK(Staging!F6),-100,+Staging!G6+-Staging!F6)","v":0},{"$f":"IF(ISBLANK(Staging!G6),-100,+Staging!H6+-Staging!G6)","v":0},{"$f":"IF(ISBLANK(Staging!H6),-100,+Staging!I6+-Staging!H6)","v":0},{"$f":"IF(ISBLANK(Staging!I6),-100,+Staging!J6+-Staging!I6)","v":0}]
[4,{"$f":"IF(ISBLANK(Staging!D7),-100,+Staging!E7+-Staging!D7)","v":-9.9999999999997868E-3},{"$f":"IF(ISBLANK(Staging!E7),-100,+Staging!F7+-Staging!E7)","v":-2.6},{"$f":"IF(ISBLANK(Staging!F7),-100,+Staging!G7+-Staging!F7)","v":0},{"$f":"IF(ISBLANK(Staging!G7),-100,+Staging!H7+-Staging!G7)","v":0},{"$f":"IF(ISBLANK(Staging!H7),-100,+Staging!I7+-Staging!H7)","v":0},{"$f":"IF(ISBLANK(Staging!I7),-100,+Staging!J7+-Staging!I7)","v":0}]
[5,{"$f":"IF(ISBLANK(Staging!D8),-100,+Staging!E8+-Staging!D8)","v":-0.32000000000000006},{"$f":"IF(ISBLANK(Staging!E8),-100,+Staging!F8+-Staging!E8)","v":-1.89},{"$f":"IF(ISBLANK(Staging!F8),-100,+Staging!G8+-Staging!F8)","v":0},{"$f":"IF(ISBLANK(Staging!G8),-100,+Staging!H8+-Staging!G8)","v":0},{"$f":"IF(ISBLANK(Staging!H8),-100,+Staging!I8+-Staging!H8)","v":0},{"$f":"IF(ISBLANK(Staging!I8),-100,+Staging!J8+-Staging!I8)","v":0}]
[6,{"$f":"IF(ISBLANK(Staging!D9),-100,+Staging!E9+-Staging!D9)","v":0},{"$f":"IF(ISBLANK(Staging!E9),-100,+Staging!F9+-Staging!E9)","v":0},{"$f":"IF(ISBLANK(Staging!F9),-100,+Staging!G9+-Staging!F9)","v":0},{"$f":"IF(ISBLANK(Staging!G9),-100,+Staging!H9+-Staging!G9)","v":0},{"$f":"IF(ISBLANK(Staging!H9),-100,+Staging!I9+-Staging!H9)","v":0},{"$f":"IF(ISBLANK(Staging!I9),-100,+Staging!J9+-Staging!I9)","v":0}]
[7,{"$f":"IF(ISBLANK(Staging!D10),-100,+Staging!E10+-Staging!D10)","v":-0.35000000000000009},{"$f":"IF(ISBLANK(Staging!E10),-100,+Staging!F10+-Staging!E10)","v":-2.08},{"$f":"IF(ISBLANK(Staging!F10),-100,+Staging!G10+-Staging!F10)","v":0},{"$f":"IF(ISBLANK(Staging!G10),-100,+Staging!H10+-Staging!G10)","v":0},{"$f":"IF(ISBLANK(Staging!H10),-100,+Staging!I10+-Staging!H10)","v":0},{"$f":"IF(ISBLANK(Staging!I10),-100,+Staging!J10+-Staging!I10)","v":0}]
[8,{"$f":"IF(ISBLANK(Staging!D11),-100,+Staging!E11+-Staging!D11)","v":0.53000000000000025},{"$f":"IF(ISBLANK(Staging!E11),-100,+Staging!F11+-Staging!E11)","v":-2.74},{"$f":"IF(ISBLANK(Staging!F11),-100,+Staging!G11+-Staging!F11)","v":0},{"$f":"IF(ISBLANK(Staging!G11),-100,+Staging!H11+-Staging!G11)","v":0},{"$f":"IF(ISBLANK(Staging!H11),-100,+Staging!I11+-Staging!H11)","v":0},{"$f":"IF(ISBLANK(Staging!I11),-100,+Staging!J11+-Staging!I11)","v":0}]
[9,{"$f":"IF(ISBLANK(Staging!D12),-100,+Staging!E12+-Staging!D12)","v":-0.29000000000000004},{"$f":"IF(ISBLANK(Staging!E12),-100,+Staging!F12+-Staging!E12)","v":-0.32000000000000006},{"$f":"IF(ISBLANK(Staging!F12),-100,+Staging!G12+-Staging!F12)","v":-1.78},{"$f":"IF(ISBLANK(Staging!G12),-100,+Staging!H12+-Staging!G12)","v":0},{"$f":"IF(ISBLANK(Staging!H12),-100,+Staging!I12+-Staging!H12)","v":0},{"$f":"IF(ISBLANK(Staging!I12),-100,+Staging!J12+-Staging!I12)","v":0}]
[10,{"$f":"IF(ISBLANK(Staging!D13),-100,+Staging!E13+-Staging!D13)","v":0.12999999999999989},{"$f":"IF(ISBLANK(Staging!E13),-100,+Staging!F13+-Staging!E13)","v":-2.17},{"$f":"IF(ISBLANK(Staging!F13),-100,+Staging!G13+-Staging!F13)","v":0},{"$f":"IF(ISBLANK(Staging!G13),-100,+Staging!H13+-Staging!G13)","v":0},{"$f":"IF(ISBLANK(Staging!H13),-100,+Staging!I13+-Staging!H13)","v":0},{"$f":"IF(ISBLANK(Staging!I13),-100,+Staging!J13+-Staging!I13)","v":0}]
[11,{"$f":"IF(ISBLANK(Staging!D14),-100,+Staging!E14+-Staging!D14)","v":9.9999999999999645E-2},{"$f":"IF(ISBLANK(Staging!E14),-100,+Staging!F14+-Staging!E14)","v":-2.59},{"$f":"IF(ISBLANK(Staging!F14),-100,+Staging!G14+-Staging!F14)","v":0},{"$f":"IF(ISBLANK(Staging!G14),-100,+Staging!H14+-Staging!G14)","v":0},{"$f":"IF(ISBLANK(Staging!H14),-100,+Staging!I14+-Staging!H14)","v":0},{"$f":"IF(ISBLANK(Staging!I14),-100,+Staging!J14+-Staging!I14)","v":0}]
[12,{"$f":"IF(ISBLANK(Staging!D15),-100,+Staging!E15+-Staging!D15)","v":0},{"$f":"IF(ISBLANK(Staging!E15),-100,+Staging!F15+-Staging!E15)","v":0},{"$f":"IF(ISBLANK(Staging!F15),-100,+Staging!G15+-Staging!F15)","v":0},{"$f":"IF(ISBLANK(Staging!G15),-100,+Staging!H15+-Staging!G15)","v":0},{"$f":"IF(ISBLANK(Staging!H15),-100,+Staging!I15+-Staging!H15)","v":0},{"$f":"IF(ISBLANK(Staging!I15),-100,+Staging!J15+-Staging!I15)","v":0}]
[13,{"$f":"IF(ISBLANK(Staging!D16),-100,+Staging!E16+-Staging!D16)","v":0.96},{"$f":"IF(ISBLANK(Staging!E16),-100,+Staging!F16+-Staging!E16)","v":1.6600000000000001},{"$f":"IF(ISBLANK(Staging!F16),-100,+Staging!G16+-Staging!F16)","v":3.4200000000000008},{"$f":"IF(ISBLANK(Staging!G16),-100,+Staging!H16+-Staging!G16)","v":-10.38},{"$f":"IF(ISBLANK(Staging!H16),-100,+Staging!I16+-Staging!H16)","v":0},{"$f":"IF(ISBLANK(Staging!I16),-100,+Staging!J16+-Staging!I16)","v":0}]
[14,{"$f":"IF(ISBLANK(Staging!D17),-100,+Staging!E17+-Staging!D17)","v":-8.9999999999999858E-2},{"$f":"IF(ISBLANK(Staging!E17),-100,+Staging!F17+-Staging!E17)","v":-0.31999999999999984},{"$f":"IF(ISBLANK(Staging!F17),-100,+Staging!G17+-Staging!F17)","v":-2.4900000000000002},{"$f":"IF(ISBLANK(Staging!G17),-100,+Staging!H17+-Staging!G17)","v":0},{"$f":"IF(ISBLANK(Staging!H17),-100,+Staging!I17+-Staging!H17)","v":0},{"$f":"IF(ISBLANK(Staging!I17),-100,+Staging!J17+-Staging!I17)","v":0}]
[15,{"$f":"IF(ISBLANK(Staging!D18),-100,+Staging!E18+-Staging!D18)","v":-0.16999999999999993},{"$f":"IF(ISBLANK(Staging!E18),-100,+Staging!F18+-Staging!E18)","v":-0.12999999999999989},{"$f":"IF(ISBLANK(Staging!F18),-100,+Staging!G18+-Staging!F18)","v":-2.5},{"$f":"IF(ISBLANK(Staging!G18),-100,+Staging!H18+-Staging!G18)","v":0},{"$f":"IF(ISBLANK(Staging!H18),-100,+Staging!I18+-Staging!H18)","v":0},{"$f":"IF(ISBLANK(Staging!I18),-100,+Staging!J18+-Staging!I18)","v":0}]
[16,{"$f":"IF(ISBLANK(Staging!D19),-100,+Staging!E19+-Staging!D19)","v":0.31000000000000005},{"$f":"IF(ISBLANK(Staging!E19),-100,+Staging!F19+-Staging!E19)","v":-3.36},{"$f":"IF(ISBLANK(Staging!F19),-100,+Staging!G19+-Staging!F19)","v":0},{"$f":"IF(ISBLANK(Staging!G19),-100,+Staging!H19+-Staging!G19)","v":0},{"$f":"IF(ISBLANK(Staging!H19),-100,+Staging!I19+-Staging!H19)","v":0},{"$f":"IF(ISBLANK(Staging!I19),-100,+Staging!J19+-Staging!I19)","v":0}]
[17,{"$f":"IF(ISBLANK(Staging!D20),-100,+Staging!E20+-Staging!D20)","v":0.45000000000000018},{"$f":"IF(ISBLANK(Staging!E20),-100,+Staging!F20+-Staging!E20)","v":-0.53000000000000025},{"$f":"IF(ISBLANK(Staging!F20),-100,+Staging!G20+-Staging!F20)","v":-2.9},{"$f":"IF(ISBLANK(Staging!G20),-100,+Staging!H20+-Staging!G20)","v":0},{"$f":"IF(ISBLANK(Staging!H20),-100,+Staging!I20+-Staging!H20)","v":0},{"$f":"IF(ISBLANK(Staging!I20),-100,+Staging!J20+-Staging!I20)","v":0}]
[18,{"$f":"IF(ISBLANK(Staging!D21),-100,+Staging!E21+-Staging!D21)","v":0},{"$f":"IF(ISBLANK(Staging!E21),-100,+Staging!F21+-Staging!E21)","v":0},{"$f":"IF(ISBLANK(Staging!F21),-100,+Staging!G21+-Staging!F21)","v":0},{"$f":"IF(ISBLANK(Staging!G21),-100,+Staging!H21+-Staging!G21)","v":0},{"$f":"IF(ISBLANK(Staging!H21),-100,+Staging!I21+-Staging!H21)","v":0},{"$f":"IF(ISBLANK(Staging!I21),-100,+Staging!J21+-Staging!I21)","v":0}]
[19,{"$f":"IF(ISBLANK(Staging!D22),-100,+Staging!E22+-Staging!D22)","v":0.75},{"$f":"IF(ISBLANK(Staging!E22),-100,+Staging!F22+-Staging!E22)","v":0.94000000000000039},{"$f":"IF(ISBLANK(Staging!F22),-100,+Staging!G22+-Staging!F22)","v":1.9699999999999998},{"$f":"IF(ISBLANK(Staging!G22),-100,+Staging!H22+-Staging!G22)","v":-7.42},{"$f":"IF(ISBLANK(Staging!H22),-100,+Staging!I22+-Staging!H22)","v":0},{"$f":"IF(ISBLANK(Staging!I22),-100,+Staging!J22+-Staging!I22)","v":0}]
[20,{"$f":"IF(ISBLANK(Staging!D23),-100,+Staging!E23+-Staging!D23)","v":0.44999999999999973},{"$f":"IF(ISBLANK(Staging!E23),-100,+Staging!F23+-Staging!E23)","v":0.10000000000000009},{"$f":"IF(ISBLANK(Staging!F23),-100,+Staging!G23+-Staging!F23)","v":-3.27},{"$f":"IF(ISBLANK(Staging!G23),-100,+Staging!H23+-Staging!G23)","v":0},{"$f":"IF(ISBLANK(Staging!H23),-100,+Staging!I23+-Staging!H23)","v":0},{"$f":"IF(ISBLANK(Staging!I23),-100,+Staging!J23+-Staging!I23)","v":0}]
[21,{"$f":"IF(ISBLANK(Staging!D24),-100,+Staging!E24+-Staging!D24)","v":-0.18000000000000016},{"$f":"IF(ISBLANK(Staging!E24),-100,+Staging!F24+-Staging!E24)","v":0.27},{"$f":"IF(ISBLANK(Staging!F24),-100,+Staging!G24+-Staging!F24)","v":-3.02},{"$f":"IF(ISBLANK(Staging!G24),-100,+Staging!H24+-Staging!G24)","v":0},{"$f":"IF(ISBLANK(Staging!H24),-100,+Staging!I24+-Staging!H24)","v":0},{"$f":"IF(ISBLANK(Staging!I24),-100,+Staging!J24+-Staging!I24)","v":0}]
[22,{"$f":"IF(ISBLANK(Staging!D25),-100,+Staging!E25+-Staging!D25)","v":-0.54},{"$f":"IF(ISBLANK(Staging!E25),-100,+Staging!F25+-Staging!E25)","v":0.58999999999999986},{"$f":"IF(ISBLANK(Staging!F25),-100,+Staging!G25+-Staging!F25)","v":-2.75},{"$f":"IF(ISBLANK(Staging!G25),-100,+Staging!H25+-Staging!G25)","v":0},{"$f":"IF(ISBLANK(Staging!H25),-100,+Staging!I25+-Staging!H25)","v":0},{"$f":"IF(ISBLANK(Staging!I25),-100,+Staging!J25+-Staging!I25)","v":0}]
[23,{"$f":"IF(ISBLANK(Staging!D26),-100,+Staging!E26+-Staging!D26)","v":0.43999999999999995},{"$f":"IF(ISBLANK(Staging!E26),-100,+Staging!F26+-Staging!E26)","v":-0.10000000000000009},{"$f":"IF(ISBLANK(Staging!F26),-100,+Staging!G26+-Staging!F26)","v":-3.27},{"$f":"IF(ISBLANK(Staging!G26),-100,+Staging!H26+-Staging!G26)","v":0},{"$f":"IF(ISBLANK(Staging!H26),-100,+Staging!I26+-Staging!H26)","v":0},{"$f":"IF(ISBLANK(Staging!I26),-100,+Staging!J26+-Staging!I26)","v":0}]
[24,{"$f":"IF(ISBLANK(Staging!D27),-100,+Staging!E27+-Staging!D27)","v":-0.11999999999999966},{"$f":"IF(ISBLANK(Staging!E27),-100,+Staging!F27+-Staging!E27)","v":-0.33000000000000007},{"$f":"IF(ISBLANK(Staging!F27),-100,+Staging!G27+-Staging!F27)","v":-2.83},{"$f":"IF(ISBLANK(Staging!G27),-100,+Staging!H27+-Staging!G27)","v":0},{"$f":"IF(ISBLANK(Staging!H27),-100,+Staging!I27+-Staging!H27)","v":0},{"$f":"IF(ISBLANK(Staging!I27),-100,+Staging!J27+-Staging!I27)","v":0}]
[25,{"$f":"IF(ISBLANK(Staging!D28),-100,+Staging!E28+-Staging!D28)","v":0},{"$f":"IF(ISBLANK(Staging!E28),-100,+Staging!F28+-Staging!E28)","v":0},{"$f":"IF(ISBLANK(Staging!F28),-100,+Staging!G28+-Staging!F28)","v":0},{"$f":"IF(ISBLANK(Staging!G28),-100,+Staging!H28+-Staging!G28)","v":0},{"$f":"IF(ISBLANK(Staging!H28),-100,+Staging!I28+-Staging!H28)","v":0},{"$f":"IF(ISBLANK(Staging!I28),-100,+Staging!J28+-Staging!I28)","v":0}]
[26,{"$f":"IF(ISBLANK(Staging!D29),-100,+Staging!E29+-Staging!D29)","v":-2.34},{"$f":"IF(ISBLANK(Staging!E29),-100,+Staging!F29+-Staging!E29)","v":0},{"$f":"IF(ISBLANK(Staging!F29),-100,+Staging!G29+-Staging!F29)","v":0},{"$f":"IF(ISBLANK(Staging!G29),-100,+Staging!H29+-Staging!G29)","v":0},{"$f":"IF(ISBLANK(Staging!H29),-100,+Staging!I29+-Staging!H29)","v":0},{"$f":"IF(ISBLANK(Staging!I29),-100,+Staging!J29+-Staging!I29)","v":0}]
[27,{"$f":"IF(ISBLANK(Staging!D30),-100,+Staging!E30+-Staging!D30)","v":0.2799999999999998},{"$f":"IF(ISBLANK(Staging!E30),-100,+Staging!F30+-Staging!E30)","v":-3.27},{"$f":"IF(ISBLANK(Staging!F30),-100,+Staging!G30+-Staging!F30)","v":0},{"$f":"IF(ISBLANK(Staging!G30),-100,+Staging!H30+-Staging!G30)","v":0},{"$f":"IF(ISBLANK(Staging!H30),-100,+Staging!I30+-Staging!H30)","v":0},{"$f":"IF(ISBLANK(Staging!I30),-100,+Staging!J30+-Staging!I30)","v":0}]
[28,{"$f":"IF(ISBLANK(Staging!D31),-100,+Staging!E31+-Staging!D31)","v":-2.0000000000000018E-2},{"$f":"IF(ISBLANK(Staging!E31),-100,+Staging!F31+-Staging!E31)","v":-2.76},{"$f":"IF(ISBLANK(Staging!F31),-100,+Staging!G31+-Staging!F31)","v":0},{"$f":"IF(ISBLANK(Staging!G31),-100,+Staging!H31+-Staging!G31)","v":0},{"$f":"IF(ISBLANK(Staging!H31),-100,+Staging!I31+-Staging!H31)","v":0},{"$f":"IF(ISBLANK(Staging!I31),-100,+Staging!J31+-Staging!I31)","v":0}]
[29,{"$f":"IF(ISBLANK(Staging!D32),-100,+Staging!E32+-Staging!D32)","v":0.35000000000000009},{"$f":"IF(ISBLANK(Staging!E32),-100,+Staging!F32+-Staging!E32)","v":-0.43000000000000016},{"$f":"IF(ISBLANK(Staging!F32),-100,+Staging!G32+-Staging!F32)","v":-2.79},{"$f":"IF(ISBLANK(Staging!G32),-100,+Staging!H32+-Staging!G32)","v":0},{"$f":"IF(ISBLANK(Staging!H32),-100,+Staging!I32+-Staging!H32)","v":0},{"$f":"IF(ISBLANK(Staging!I32),-100,+Staging!J32+-Staging!I32)","v":0}]
[30,{"$f":"IF(ISBLANK(Staging!D33),-100,+Staging!E33+-Staging!D33)","v":0.24000000000000021},{"$f":"IF(ISBLANK(Staging!E33),-100,+Staging!F33+-Staging!E33)","v":-3.02},{"$f":"IF(ISBLANK(Staging!F33),-100,+Staging!G33+-Staging!F33)","v":0},{"$f":"IF(ISBLANK(Staging!G33),-100,+Staging!H33+-Staging!G33)","v":0},{"$f":"IF(ISBLANK(Staging!H33),-100,+Staging!I33+-Staging!H33)","v":0},{"$f":"IF(ISBLANK(Staging!I33),-100,+Staging!J33+-Staging!I33)","v":0}]
[31,{"$f":"IF(ISBLANK(Staging!D34),-100,+Staging!E34+-Staging!D34)","v":0},{"$f":"IF(ISBLANK(Staging!E34),-100,+Staging!F34+-Staging!E34)","v":0},{"$f":"IF(ISBLANK(Staging!F34),-100,+Staging!G34+-Staging!F34)","v":0},{"$f":"IF(ISBLANK(Staging!G34),-100,+Staging!H34+-Staging!G34)","v":0},{"$f":"IF(ISBLANK(Staging!H34),-100,+Staging!I34+-Staging!H34)","v":0},{"$f":"IF(ISBLANK(Staging!I34),-100,+Staging!J34+-Staging!I34)","v":0}]
[32,{"$f":"IF(ISBLANK(Staging!D35),-100,+Staging!E35+-Staging!D35)","v":0.31000000000000005},{"$f":"IF(ISBLANK(Staging!E35),-100,+Staging!F35+-Staging!E35)","v":-0.20999999999999996},{"$f":"IF(ISBLANK(Staging!F35),-100,+Staging!G35+-Staging!F35)","v":-3.24},{"$f":"IF(ISBLANK(Staging!G35),-100,+Staging!H35+-Staging!G35)","v":0},{"$f":"IF(ISBLANK(Staging!H35),-100,+Staging!I35+-Staging!H35)","v":0},{"$f":"IF(ISBLANK(Staging!I35),-100,+Staging!J35+-Staging!I35)","v":0}]
[33,{"$f":"IF(ISBLANK(Staging!D36),-100,+Staging!E36+-Staging!D36)","v":0},{"$f":"IF(ISBLANK(Staging!E36),-100,+Staging!F36+-Staging!E36)","v":0.20999999999999996},{"$f":"IF(ISBLANK(Staging!F36),-100,+Staging!G36+-Staging!F36)","v":-2.84},{"$f":"IF(ISBLANK(Staging!G36),-100,+Staging!H36+-Staging!G36)","v":0},{"$f":"IF(ISBLANK(Staging!H36),-100,+Staging!I36+-Staging!H36)","v":0},{"$f":"IF(ISBLANK(Staging!I36),-100,+Staging!J36+-Staging!I36)","v":0}]
[34,{"$f":"IF(ISBLANK(Staging!D37),-100,+Staging!E37+-Staging!D37)","v":-0.29999999999999982},{"$f":"IF(ISBLANK(Staging!E37),-100,+Staging!F37+-Staging!E37)","v":0.38999999999999968},{"$f":"IF(ISBLANK(Staging!F37),-100,+Staging!G37+-Staging!F37)","v":-3.09},{"$f":"IF(ISBLANK(Staging!G37),-100,+Staging!H37+-Staging!G37)","v":0},{"$f":"IF(ISBLANK(Staging!H37),-100,+Staging!I37+-Staging!H37)","v":0},{"$f":"IF(ISBLANK(Staging!I37),-100,+Staging!J37+-Staging!I37)","v":0}]
[35,{"$f":"IF(ISBLANK(Staging!D38),-100,+Staging!E38+-Staging!D38)","v":0.79},{"$f":"IF(ISBLANK(Staging!E38),-100,+Staging!F38+-Staging!E38)","v":-1.34},{"$f":"IF(ISBLANK(Staging!F38),-100,+Staging!G38+-Staging!F38)","v":-1.86},{"$f":"IF(ISBLANK(Staging!G38),-100,+Staging!H38+-Staging!G38)","v":0},{"$f":"IF(ISBLANK(Staging!H38),-100,+Staging!I38+-Staging!H38)","v":0},{"$f":"IF(ISBLANK(Staging!I38),-100,+Staging!J38+-Staging!I38)","v":0}]
[36,{"$f":"IF(ISBLANK(Staging!D39),-100,+Staging!E39+-Staging!D39)","v":0.20999999999999996},{"$f":"IF(ISBLANK(Staging!E39),-100,+Staging!F39+-Staging!E39)","v":-0.22999999999999998},{"$f":"IF(ISBLANK(Staging!F39),-100,+Staging!G39+-Staging!F39)","v":-2.61},{"$f":"IF(ISBLANK(Staging!G39),-100,+Staging!H39+-Staging!G39)","v":0},{"$f":"IF(ISBLANK(Staging!H39),-100,+Staging!I39+-Staging!H39)","v":0},{"$f":"IF(ISBLANK(Staging!I39),-100,+Staging!J39+-Staging!I39)","v":0}]
[37,{"$f":"IF(ISBLANK(Staging!D40),-100,+Staging!E40+-Staging!D40)","v":0.58000000000000007},{"$f":"IF(ISBLANK(Staging!E40),-100,+Staging!F40+-Staging!E40)","v":-0.78000000000000025},{"$f":"IF(ISBLANK(Staging!F40),-100,+Staging!G40+-Staging!F40)","v":-2.36},{"$f":"IF(ISBLANK(Staging!G40),-100,+Staging!H40+-Staging!G40)","v":0},{"$f":"IF(ISBLANK(Staging!H40),-100,+Staging!I40+-Staging!H40)","v":0},{"$f":"IF(ISBLANK(Staging!I40),-100,+Staging!J40+-Staging!I40)","v":0}]
[38,{"$f":"IF(ISBLANK(Staging!D41),-100,+Staging!E41+-Staging!D41)","v":0},{"$f":"IF(ISBLANK(Staging!E41),-100,+Staging!F41+-Staging!E41)","v":0},{"$f":"IF(ISBLANK(Staging!F41),-100,+Staging!G41+-Staging!F41)","v":0},{"$f":"IF(ISBLANK(Staging!G41),-100,+Staging!H41+-Staging!G41)","v":0},{"$f":"IF(ISBLANK(Staging!H41),-100,+Staging!I41+-Staging!H41)","v":0},{"$f":"IF(ISBLANK(Staging!I41),-100,+Staging!J41+-Staging!I41)","v":0}]
[39,{"$f":"IF(ISBLANK(Staging!D42),-100,+Staging!E42+-Staging!D42)","v":-0.24000000000000021},{"$f":"IF(ISBLANK(Staging!E42),-100,+Staging!F42+-Staging!E42)","v":-0.17999999999999972},{"$f":"IF(ISBLANK(Staging!F42),-100,+Staging!G42+-Staging!F42)","v":-3.45},{"$f":"IF(ISBLANK(Staging!G42),-100,+Staging!H42+-Staging!G42)","v":0},{"$f":"IF(ISBLANK(Staging!H42),-100,+Staging!I42+-Staging!H42)","v":0},{"$f":"IF(ISBLANK(Staging!I42),-100,+Staging!J42+-Staging!I42)","v":0}]
[40,{"$f":"IF(ISBLANK(Staging!D43),-100,+Staging!E43+-Staging!D43)","v":0.7200000000000002},{"$f":"IF(ISBLANK(Staging!E43),-100,+Staging!F43+-Staging!E43)","v":-0.43000000000000016},{"$f":"IF(ISBLANK(Staging!F43),-100,+Staging!G43+-Staging!F43)","v":-2.96},{"$f":"IF(ISBLANK(Staging!G43),-100,+Staging!H43+-Staging!G43)","v":0},{"$f":"IF(ISBLANK(Staging!H43),-100,+Staging!I43+-Staging!H43)","v":0},{"$f":"IF(ISBLANK(Staging!I43),-100,+Staging!J43+-Staging!I43)","v":0}]
[41,{"$f":"IF(ISBLANK(Staging!D44),-100,+Staging!E44+-Staging!D44)","v":0.34999999999999964},{"$f":"IF(ISBLANK(Staging!E44),-100,+Staging!F44+-Staging!E44)","v":0.18000000000000016},{"$f":"IF(ISBLANK(Staging!F44),-100,+Staging!G44+-Staging!F44)","v":-3.02},{"$f":"IF(ISBLANK(Staging!G44),-100,+Staging!H44+-Staging!G44)","v":0},{"$f":"IF(ISBLANK(Staging!H44),-100,+Staging!I44+-Staging!H44)","v":0},{"$f":"IF(ISBLANK(Staging!I44),-100,+Staging!J44+-Staging!I44)","v":0}]
[42,{"$f":"IF(ISBLANK(Staging!D45),-100,+Staging!E45+-Staging!D45)","v":0.5299999999999998},{"$f":"IF(ISBLANK(Staging!E45),-100,+Staging!F45+-Staging!E45)","v":1.3800000000000003},{"$f":"IF(ISBLANK(Staging!F45),-100,+Staging!G45+-Staging!F45)","v":3.0699999999999994},{"$f":"IF(ISBLANK(Staging!G45),-100,+Staging!H45+-Staging!G45)","v":-8.02},{"$f":"IF(ISBLANK(Staging!H45),-100,+Staging!I45+-Staging!H45)","v":0},{"$f":"IF(ISBLANK(Staging!I45),-100,+Staging!J45+-Staging!I45)","v":0}]
[43,{"$f":"IF(ISBLANK(Staging!D46),-100,+Staging!E46+-Staging!D46)","v":0.20000000000000018},{"$f":"IF(ISBLANK(Staging!E46),-100,+Staging!F46+-Staging!E46)","v":-0.37000000000000011},{"$f":"IF(ISBLANK(Staging!F46),-100,+Staging!G46+-Staging!F46)","v":-2.62},{"$f":"IF(ISBLANK(Staging!G46),-100,+Staging!H46+-Staging!G46)","v":0},{"$f":"IF(ISBLANK(Staging!H46),-100,+Staging!I46+-Staging!H46)","v":0},{"$f":"IF(ISBLANK(Staging!I46),-100,+Staging!J46+-Staging!I46)","v":0}]
[44,{"$f":"IF(ISBLANK(Staging!D47),-100,+Staging!E47+-Staging!D47)","v":0.12999999999999989},{"$f":"IF(ISBLANK(Staging!E47),-100,+Staging!F47+-Staging!E47)","v":-0.43999999999999995},{"$f":"IF(ISBLANK(Staging!F47),-100,+Staging!G47+-Staging!F47)","v":-2.56},{"$f":"IF(ISBLANK(Staging!G47),-100,+Staging!H47+-Staging!G47)","v":0},{"$f":"IF(ISBLANK(Staging!H47),-100,+Staging!I47+-Staging!H47)","v":0},{"$f":"IF(ISBLANK(Staging!I47),-100,+Staging!J47+-Staging!I47)","v":0}]
[45,{"$f":"IF(ISBLANK(Staging!D48),-100,+Staging!E48+-Staging!D48)","v":0},{"$f":"IF(ISBLANK(Staging!E48),-100,+Staging!F48+-Staging!E48)","v":0},{"$f":"IF(ISBLANK(Staging!F48),-100,+Staging!G48+-Staging!F48)","v":0},{"$f":"IF(ISBLANK(Staging!G48),-100,+Staging!H48+-Staging!G48)","v":0},{"$f":"IF(ISBLANK(Staging!H48),-100,+Staging!I48+-Staging!H48)","v":0},{"$f":"IF(ISBLANK(Staging!I48),-100,+Staging!J48+-Staging!I48)","v":0}]
[46,{"$f":"IF(ISBLANK(Staging!D49),-100,+Staging!E49+-Staging!D49)","v":3.0000000000000249E-2},{"$f":"IF(ISBLANK(Staging!E49),-100,+Staging!F49+-Staging!E49)","v":-0.16000000000000014},{"$f":"IF(ISBLANK(Staging!F49),-100,+Staging!G49+-Staging!F49)","v":-2.73},{"$f":"IF(ISBLANK(Staging!G49),-100,+Staging!H49+-Staging!G49)","v":0},{"$f":"IF(ISBLANK(Staging!H49),-100,+Staging!I49+-Staging!H49)","v":0},{"$f":"IF(ISBLANK(Staging!I49),-100,+Staging!J49+-Staging!I49)","v":0}]
[47,{"$f":"IF(ISBLANK(Staging!D50),-100,+Staging!E50+-Staging!D50)","v":0.30000000000000027},{"$f":"IF(ISBLANK(Staging!E50),-100,+Staging!F50+-Staging!E50)","v":0.89000000000000012},{"$f":"IF(ISBLANK(Staging!F50),-100,+Staging!G50+-Staging!F50)","v":2.5899999999999994},{"$f":"IF(ISBLANK(Staging!G50),-100,+Staging!H50+-Staging!G50)","v":-6.31},{"$f":"IF(ISBLANK(Staging!H50),-100,+Staging!I50+-Staging!H50)","v":0},{"$f":"IF(ISBLANK(Staging!I50),-100,+Staging!J50+-Staging!I50)","v":0}]
[48,{"$f":"IF(ISBLANK(Staging!D51),-100,+Staging!E51+-Staging!D51)","v":0.5900000000000003},{"$f":"IF(ISBLANK(Staging!E51),-100,+Staging!F51+-Staging!E51)","v":-0.8600000000000001},{"$f":"IF(ISBLANK(Staging!F51),-100,+Staging!G51+-Staging!F51)","v":-1.86},{"$f":"IF(ISBLANK(Staging!G51),-100,+Staging!H51+-Staging!G51)","v":0},{"$f":"IF(ISBLANK(Staging!H51),-100,+Staging!I51+-Staging!H51)","v":0},{"$f":"IF(ISBLANK(Staging!I51),-100,+Staging!J51+-Staging!I51)","v":0}]
[49,{"$f":"IF(ISBLANK(Staging!D52),-100,+Staging!E52+-Staging!D52)","v":0},{"$f":"IF(ISBLANK(Staging!E52),-100,+Staging!F52+-Staging!E52)","v":0},{"$f":"IF(ISBLANK(Staging!F52),-100,+Staging!G52+-Staging!F52)","v":0},{"$f":"IF(ISBLANK(Staging!G52),-100,+Staging!H52+-Staging!G52)","v":0},{"$f":"IF(ISBLANK(Staging!H52),-100,+Staging!I52+-Staging!H52)","v":0},{"$f":"IF(ISBLANK(Staging!I52),-100,+Staging!J52+-Staging!I52)","v":0}]
[50,{"$f":"IF(ISBLANK(Staging!D53),-100,+Staging!E53+-Staging!D53)","v":0.20000000000000018},{"$f":"IF(ISBLANK(Staging!E53),-100,+Staging!F53+-Staging!E53)","v":-0.53000000000000025},{"$f":"IF(ISBLANK(Staging!F53),-100,+Staging!G53+-Staging!F53)","v":-2.5499999999999998},{"$f":"IF(ISBLANK(Staging!G53),-100,+Staging!H53+-Staging!G53)","v":0},{"$f":"IF(ISBLANK(Staging!H53),-100,+Staging!I53+-Staging!H53)","v":0},{"$f":"IF(ISBLANK(Staging!I53),-100,+Staging!J53+-Staging!I53)","v":0}]
[51,{"$f":"IF(ISBLANK(Staging!D54),-100,+Staging!E54+-Staging!D54)","v":0.24000000000000021},{"$f":"IF(ISBLANK(Staging!E54),-100,+Staging!F54+-Staging!E54)","v":1.2200000000000002},{"$f":"IF(ISBLANK(Staging!F54),-100,+Staging!G54+-Staging!F54)","v":2.8},{"$f":"IF(ISBLANK(Staging!G54),-100,+Staging!H54+-Staging!G54)","v":-7.99},{"$f":"IF(ISBLANK(Staging!H54),-100,+Staging!I54+-Staging!H54)","v":0},{"$f":"IF(ISBLANK(Staging!I54),-100,+Staging!J54+-Staging!I54)","v":0}]
[52,{"$f":"IF(ISBLANK(Staging!D55),-100,+Staging!E55+-Staging!D55)","v":0.18999999999999995},{"$f":"IF(ISBLANK(Staging!E55),-100,+Staging!F55+-Staging!E55)","v":-0.33000000000000007},{"$f":"IF(ISBLANK(Staging!F55),-100,+Staging!G55+-Staging!F55)","v":-2.82},{"$f":"IF(ISBLANK(Staging!G55),-100,+Staging!H55+-Staging!G55)","v":0},{"$f":"IF(ISBLANK(Staging!H55),-100,+Staging!I55+-Staging!H55)","v":0},{"$f":"IF(ISBLANK(Staging!I55),-100,+Staging!J55+-Staging!I55)","v":0}]
[53,{"$f":"IF(ISBLANK(Staging!D56),-100,+Staging!E56+-Staging!D56)","v":0.21999999999999975},{"$f":"IF(ISBLANK(Staging!E56),-100,+Staging!F56+-Staging!E56)","v":-0.2799999999999998},{"$f":"IF(ISBLANK(Staging!F56),-100,+Staging!G56+-Staging!F56)","v":-3.04},{"$f":"IF(ISBLANK(Staging!G56),-100,+Staging!H56+-Staging!G56)","v":0},{"$f":"IF(ISBLANK(Staging!H56),-100,+Staging!I56+-Staging!H56)","v":0},{"$f":"IF(ISBLANK(Staging!I56),-100,+Staging!J56+-Staging!I56)","v":0}]
[54,{"$f":"IF(ISBLANK(Staging!D57),-100,+Staging!E57+-Staging!D57)","v":0.12000000000000011},{"$f":"IF(ISBLANK(Staging!E57),-100,+Staging!F57+-Staging!E57)","v":-0.32000000000000028},{"$f":"IF(ISBLANK(Staging!F57),-100,+Staging!G57+-Staging!F57)","v":-3.01},{"$f":"IF(ISBLANK(Staging!G57),-100,+Staging!H57+-Staging!G57)","v":0},{"$f":"IF(ISBLANK(Staging!H57),-100,+Staging!I57+-Staging!H57)","v":0},{"$f":"IF(ISBLANK(Staging!I57),-100,+Staging!J57+-Staging!I57)","v":0}]
[55,{"$f":"IF(ISBLANK(Staging!D58),-100,+Staging!E58+-Staging!D58)","v":0},{"$f":"IF(ISBLANK(Staging!E58),-100,+Staging!F58+-Staging!E58)","v":0},{"$f":"IF(ISBLANK(Staging!F58),-100,+Staging!G58+-Staging!F58)","v":0},{"$f":"IF(ISBLANK(Staging!G58),-100,+Staging!H58+-Staging!G58)","v":0},{"$f":"IF(ISBLANK(Staging!H58),-100,+Staging!I58+-Staging!H58)","v":0},{"$f":"IF(ISBLANK(Staging!I58),-100,+Staging!J58+-Staging!I58)","v":0}]
[56,{"$f":"IF(ISBLANK(Staging!D59),-100,+Staging!E59+-Staging!D59)","v":0.26000000000000023},{"$f":"IF(ISBLANK(Staging!E59),-100,+Staging!F59+-Staging!E59)","v":-3.08},{"$f":"IF(ISBLANK(Staging!F59),-100,+Staging!G59+-Staging!F59)","v":0},{"$f":"IF(ISBLANK(Staging!G59),-100,+Staging!H59+-Staging!G59)","v":0},{"$f":"IF(ISBLANK(Staging!H59),-100,+Staging!I59+-Staging!H59)","v":0},{"$f":"IF(ISBLANK(Staging!I59),-100,+Staging!J59+-Staging!I59)","v":0}]
[57,{"$f":"IF(ISBLANK(Staging!D60),-100,+Staging!E60+-Staging!D60)","v":0.73000000000000043},{"$f":"IF(ISBLANK(Staging!E60),-100,+Staging!F60+-Staging!E60)","v":0.8199999999999994},{"$f":"IF(ISBLANK(Staging!F60),-100,+Staging!G60+-Staging!F60)","v":3.1800000000000006},{"$f":"IF(ISBLANK(Staging!G60),-100,+Staging!H60+-Staging!G60)","v":-7.99},{"$f":"IF(ISBLANK(Staging!H60),-100,+Staging!I60+-Staging!H60)","v":0},{"$f":"IF(ISBLANK(Staging!I60),-100,+Staging!J60+-Staging!I60)","v":0}]
[58,{"$f":"IF(ISBLANK(Staging!D61),-100,+Staging!E61+-Staging!D61)","v":0.22999999999999998},{"$f":"IF(ISBLANK(Staging!E61),-100,+Staging!F61+-Staging!E61)","v":-2.92},{"$f":"IF(ISBLANK(Staging!F61),-100,+Staging!G61+-Staging!F61)","v":0},{"$f":"IF(ISBLANK(Staging!G61),-100,+Staging!H61+-Staging!G61)","v":0},{"$f":"IF(ISBLANK(Staging!H61),-100,+Staging!I61+-Staging!H61)","v":0},{"$f":"IF(ISBLANK(Staging!I61),-100,+Staging!J61+-Staging!I61)","v":0}]
[59,{"$f":"IF(ISBLANK(Staging!D62),-100,+Staging!E62+-Staging!D62)","v":0.48},{"$f":"IF(ISBLANK(Staging!E62),-100,+Staging!F62+-Staging!E62)","v":1.3900000000000001},{"$f":"IF(ISBLANK(Staging!F62),-100,+Staging!G62+-Staging!F62)","v":2.9299999999999988},{"$f":"IF(ISBLANK(Staging!G62),-100,+Staging!H62+-Staging!G62)","v":-8.0399999999999991},{"$f":"IF(ISBLANK(Staging!H62),-100,+Staging!I62+-Staging!H62)","v":0},{"$f":"IF(ISBLANK(Staging!I62),-100,+Staging!J62+-Staging!I62)","v":0}]
[60,{"$f":"IF(ISBLANK(Staging!D63),-100,+Staging!E63+-Staging!D63)","v":0.33000000000000007},{"$f":"IF(ISBLANK(Staging!E63),-100,+Staging!F63+-Staging!E63)","v":-3.22},{"$f":"IF(ISBLANK(Staging!F63),-100,+Staging!G63+-Staging!F63)","v":0},{"$f":"IF(ISBLANK(Staging!G63),-100,+Staging!H63+-Staging!G63)","v":0},{"$f":"IF(ISBLANK(Staging!H63),-100,+Staging!I63+-Staging!H63)","v":0},{"$f":"IF(ISBLANK(Staging!I63),-100,+Staging!J63+-Staging!I63)","v":0}]
[61,{"$f":"IF(ISBLANK(Staging!D64),-100,+Staging!E64+-Staging!D64)","v":0},{"$f":"IF(ISBLANK(Staging!E64),-100,+Staging!F64+-Staging!E64)","v":0},{"$f":"IF(ISBLANK(Staging!F64),-100,+Staging!G64+-Staging!F64)","v":0},{"$f":"IF(ISBLANK(Staging!G64),-100,+Staging!H64+-Staging!G64)","v":0},{"$f":"IF(ISBLANK(Staging!H64),-100,+Staging!I64+-Staging!H64)","v":0},{"$f":"IF(ISBLANK(Staging!I64),-100,+Staging!J64+-Staging!I64)","v":0}]
[62,{"$f":"IF(ISBLANK(Staging!D65),-100,+Staging!E65+-Staging!D65)","v":1.0300000000000002},{"$f":"IF(ISBLANK(Staging!E65),-100,+Staging!F65+-Staging!E65)","v":1.17},{"$f":"IF(ISBLANK(Staging!F65),-100,+Staging!G65+-Staging!F65)","v":3.2},{"$f":"IF(ISBLANK(Staging!G65),-100,+Staging!H65+-Staging!G65)","v":-9.07},{"$f":"IF(ISBLANK(Staging!H65),-100,+Staging!I65+-Staging!H65)","v":0},{"$f":"IF(ISBLANK(Staging!I65),-100,+Staging!J65+-Staging!I65)","v":0}]
[63,{"$f":"IF(ISBLANK(Staging!D66),-100,+Staging!E66+-Staging!D66)","v":0.5},{"$f":"IF(ISBLANK(Staging!E66),-100,+Staging!F66+-Staging!E66)","v":0.83999999999999986},{"$f":"IF(ISBLANK(Staging!F66),-100,+Staging!G66+-Staging!F66)","v":4.0000000000000036E-2},{"$f":"IF(ISBLANK(Staging!G66),-100,+Staging!H66+-Staging!G66)","v":-4.42},{"$f":"IF(ISBLANK(Staging!H66),-100,+Staging!I66+-Staging!H66)","v":0},{"$f":"IF(ISBLANK(Staging!I66),-100,+Staging!J66+-Staging!I66)","v":0}]
[64,{"$f":"IF(ISBLANK(Staging!D67),-100,+Staging!E67+-Staging!D67)","v":-0.14999999999999991},{"$f":"IF(ISBLANK(Staging!E67),-100,+Staging!F67+-Staging!E67)","v":-2.4900000000000002},{"$f":"IF(ISBLANK(Staging!F67),-100,+Staging!G67+-Staging!F67)","v":0},{"$f":"IF(ISBLANK(Staging!G67),-100,+Staging!H67+-Staging!G67)","v":0},{"$f":"IF(ISBLANK(Staging!H67),-100,+Staging!I67+-Staging!H67)","v":0},{"$f":"IF(ISBLANK(Staging!I67),-100,+Staging!J67+-Staging!I67)","v":0}]
[65,{"$f":"IF(ISBLANK(Staging!D68),-100,+Staging!E68+-Staging!D68)","v":0.79},{"$f":"IF(ISBLANK(Staging!E68),-100,+Staging!F68+-Staging!E68)","v":1.3499999999999996},{"$f":"IF(ISBLANK(Staging!F68),-100,+Staging!G68+-Staging!F68)","v":2.6799999999999997},{"$f":"IF(ISBLANK(Staging!G68),-100,+Staging!H68+-Staging!G68)","v":-8.11},{"$f":"IF(ISBLANK(Staging!H68),-100,+Staging!I68+-Staging!H68)","v":0},{"$f":"IF(ISBLANK(Staging!I68),-100,+Staging!J68+-Staging!I68)","v":0}]
[66,{"$f":"IF(ISBLANK(Staging!D69),-100,+Staging!E69+-Staging!D69)","v":0.49000000000000021},{"$f":"IF(ISBLANK(Staging!E69),-100,+Staging!F69+-Staging!E69)","v":0.79},{"$f":"IF(ISBLANK(Staging!F69),-100,+Staging!G69+-Staging!F69)","v":-0.11000000000000032},{"$f":"IF(ISBLANK(Staging!G69),-100,+Staging!H69+-Staging!G69)","v":-4.13},{"$f":"IF(ISBLANK(Staging!H69),-100,+Staging!I69+-Staging!H69)","v":0},{"$f":"IF(ISBLANK(Staging!I69),-100,+Staging!J69+-Staging!I69)","v":0}]
[67,{"$f":"IF(ISBLANK(Staging!D70),-100,+Staging!E70+-Staging!D70)","v":0},{"$f":"IF(ISBLANK(Staging!E70),-100,+Staging!F70+-Staging!E70)","v":0},{"$f":"IF(ISBLANK(Staging!F70),-100,+Staging!G70+-Staging!F70)","v":0},{"$f":"IF(ISBLANK(Staging!G70),-100,+Staging!H70+-Staging!G70)","v":0},{"$f":"IF(ISBLANK(Staging!H70),-100,+Staging!I70+-Staging!H70)","v":0},{"$f":"IF(ISBLANK(Staging!I70),-100,+Staging!J70+-Staging!I70)","v":0}]
[68,{"$f":"IF(ISBLANK(Staging!D71),-100,+Staging!E71+-Staging!D71)","v":-2.79},{"$f":"IF(ISBLANK(Staging!E71),-100,+Staging!F71+-Staging!E71)","v":0},{"$f":"IF(ISBLANK(Staging!F71),-100,+Staging!G71+-Staging!F71)","v":0},{"$f":"IF(ISBLANK(Staging!G71),-100,+Staging!H71+-Staging!G71)","v":0},{"$f":"IF(ISBLANK(Staging!H71),-100,+Staging!I71+-Staging!H71)","v":0},{"$f":"IF(ISBLANK(Staging!I71),-100,+Staging!J71+-Staging!I71)","v":0}]
[69,{"$f":"IF(ISBLANK(Staging!D72),-100,+Staging!E72+-Staging!D72)","v":6.999999999999984E-2},{"$f":"IF(ISBLANK(Staging!E72),-100,+Staging!F72+-Staging!E72)","v":-2.77},{"$f":"IF(ISBLANK(Staging!F72),-100,+Staging!G72+-Staging!F72)","v":0},{"$f":"IF(ISBLANK(Staging!G72),-100,+Staging!H72+-Staging!G72)","v":0},{"$f":"IF(ISBLANK(Staging!H72),-100,+Staging!I72+-Staging!H72)","v":0},{"$f":"IF(ISBLANK(Staging!I72),-100,+Staging!J72+-Staging!I72)","v":0}]
[70,{"$f":"IF(ISBLANK(Staging!D73),-100,+Staging!E73+-Staging!D73)","v":0.10000000000000009},{"$f":"IF(ISBLANK(Staging!E73),-100,+Staging!F73+-Staging!E73)","v":-0.69000000000000039},{"$f":"IF(ISBLANK(Staging!F73),-100,+Staging!G73+-Staging!F73)","v":-2.0499999999999998},{"$f":"IF(ISBLANK(Staging!G73),-100,+Staging!H73+-Staging!G73)","v":0},{"$f":"IF(ISBLANK(Staging!H73),-100,+Staging!I73+-Staging!H73)","v":0},{"$f":"IF(ISBLANK(Staging!I73),-100,+Staging!J73+-Staging!I73)","v":0}]
[71,{"$f":"IF(ISBLANK(Staging!D74),-100,+Staging!E74+-Staging!D74)","v":0.11999999999999966},{"$f":"IF(ISBLANK(Staging!E74),-100,+Staging!F74+-Staging!E74)","v":-0.34999999999999964},{"$f":"IF(ISBLANK(Staging!F74),-100,+Staging!G74+-Staging!F74)","v":-2.4700000000000002},{"$f":"IF(ISBLANK(Staging!G74),-100,+Staging!H74+-Staging!G74)","v":0},{"$f":"IF(ISBLANK(Staging!H74),-100,+Staging!I74+-Staging!H74)","v":0},{"$f":"IF(ISBLANK(Staging!I74),-100,+Staging!J74+-Staging!I74)","v":0}]
[72,{"$f":"IF(ISBLANK(Staging!D75),-100,+Staging!E75+-Staging!D75)","v":0.17999999999999972},{"$f":"IF(ISBLANK(Staging!E75),-100,+Staging!F75+-Staging!E75)","v":-0.71},{"$f":"IF(ISBLANK(Staging!F75),-100,+Staging!G75+-Staging!F75)","v":-2.19},{"$f":"IF(ISBLANK(Staging!G75),-100,+Staging!H75+-Staging!G75)","v":0},{"$f":"IF(ISBLANK(Staging!H75),-100,+Staging!I75+-Staging!H75)","v":0},{"$f":"IF(ISBLANK(Staging!I75),-100,+Staging!J75+-Staging!I75)","v":0}]
[73,{"$f":"IF(ISBLANK(Staging!D76),-100,+Staging!E76+-Staging!D76)","v":0},{"$f":"IF(ISBLANK(Staging!E76),-100,+Staging!F76+-Staging!E76)","v":0},{"$f":"IF(ISBLANK(Staging!F76),-100,+Staging!G76+-Staging!F76)","v":0},{"$f":"IF(ISBLANK(Staging!G76),-100,+Staging!H76+-Staging!G76)","v":0},{"$f":"IF(ISBLANK(Staging!H76),-100,+Staging!I76+-Staging!H76)","v":0},{"$f":"IF(ISBLANK(Staging!I76),-100,+Staging!J76+-Staging!I76)","v":0}]
[74,{"$f":"IF(ISBLANK(Staging!D77),-100,+Staging!E77+-Staging!D77)","v":0},{"$f":"IF(ISBLANK(Staging!E77),-100,+Staging!F77+-Staging!E77)","v":-0.41000000000000014},{"$f":"IF(ISBLANK(Staging!F77),-100,+Staging!G77+-Staging!F77)","v":-2.34},{"$f":"IF(ISBLANK(Staging!G77),-100,+Staging!H77+-Staging!G77)","v":0},{"$f":"IF(ISBLANK(Staging!H77),-100,+Staging!I77+-Staging!H77)","v":0},{"$f":"IF(ISBLANK(Staging!I77),-100,+Staging!J77+-Staging!I77)","v":0}]
[75,{"$f":"IF(ISBLANK(Staging!D78),-100,+Staging!E78+-Staging!D78)","v":-2.0000000000000018E-2},{"$f":"IF(ISBLANK(Staging!E78),-100,+Staging!F78+-Staging!E78)","v":-6.999999999999984E-2},{"$f":"IF(ISBLANK(Staging!F78),-100,+Staging!G78+-Staging!F78)","v":-2.44},{"$f":"IF(ISBLANK(Staging!G78),-100,+Staging!H78+-Staging!G78)","v":0},{"$f":"IF(ISBLANK(Staging!H78),-100,+Staging!I78+-Staging!H78)","v":0},{"$f":"IF(ISBLANK(Staging!I78),-100,+Staging!J78+-Staging!I78)","v":0}]
[76,{"$f":"IF(ISBLANK(Staging!D79),-100,+Staging!E79+-Staging!D79)","v":5.0000000000000266E-2},{"$f":"IF(ISBLANK(Staging!E79),-100,+Staging!F79+-Staging!E79)","v":1.3600000000000003},{"$f":"IF(ISBLANK(Staging!F79),-100,+Staging!G79+-Staging!F79)","v":-4.2300000000000004},{"$f":"IF(ISBLANK(Staging!G79),-100,+Staging!H79+-Staging!G79)","v":0},{"$f":"IF(ISBLANK(Staging!H79),-100,+Staging!I79+-Staging!H79)","v":0},{"$f":"IF(ISBLANK(Staging!I79),-100,+Staging!J79+-Staging!I79)","v":0}]
[77,{"$f":"IF(ISBLANK(Staging!D80),-100,+Staging!E80+-Staging!D80)","v":0.42999999999999972},{"$f":"IF(ISBLANK(Staging!E80),-100,+Staging!F80+-Staging!E80)","v":0.65000000000000036},{"$f":"IF(ISBLANK(Staging!F80),-100,+Staging!G80+-Staging!F80)","v":-3.47},{"$f":"IF(ISBLANK(Staging!G80),-100,+Staging!H80+-Staging!G80)","v":0},{"$f":"IF(ISBLANK(Staging!H80),-100,+Staging!I80+-Staging!H80)","v":0},{"$f":"IF(ISBLANK(Staging!I80),-100,+Staging!J80+-Staging!I80)","v":0}]
[78,{"$f":"IF(ISBLANK(Staging!D81),-100,+Staging!E81+-Staging!D81)","v":6.999999999999984E-2},{"$f":"IF(ISBLANK(Staging!E81),-100,+Staging!F81+-Staging!E81)","v":-0.45000000000000018},{"$f":"IF(ISBLANK(Staging!F81),-100,+Staging!G81+-Staging!F81)","v":-2.34},{"$f":"IF(ISBLANK(Staging!G81),-100,+Staging!H81+-Staging!G81)","v":0},{"$f":"IF(ISBLANK(Staging!H81),-100,+Staging!I81+-Staging!H81)","v":0},{"$f":"IF(ISBLANK(Staging!I81),-100,+Staging!J81+-Staging!I81)","v":0}]
[79,{"$f":"IF(ISBLANK(Staging!D82),-100,+Staging!E82+-Staging!D82)","v":0},{"$f":"IF(ISBLANK(Staging!E82),-100,+Staging!F82+-Staging!E82)","v":0},{"$f":"IF(ISBLANK(Staging!F82),-100,+Staging!G82+-Staging!F82)","v":0},{"$f":"IF(ISBLANK(Staging!G82),-100,+Staging!H82+-Staging!G82)","v":0},{"$f":"IF(ISBLANK(Staging!H82),-100,+Staging!I82+-Staging!H82)","v":0},{"$f":"IF(ISBLANK(Staging!I82),-100,+Staging!J82+-Staging!I82)","v":0}]
[80,{"$f":"IF(ISBLANK(Staging!D83),-100,+Staging!E83+-Staging!D83)","v":4.9999999999999822E-2},{"$f":"IF(ISBLANK(Staging!E83),-100,+Staging!F83+-Staging!E83)","v":-0.16999999999999993},{"$f":"IF(ISBLANK(Staging!F83),-100,+Staging!G83+-Staging!F83)","v":-3.04},{"$f":"IF(ISBLANK(Staging!G83),-100,+Staging!H83+-Staging!G83)","v":0},{"$f":"IF(ISBLANK(Staging!H83),-100,+Staging!I83+-Staging!H83)","v":0},{"$f":"IF(ISBLANK(Staging!I83),-100,+Staging!J83+-Staging!I83)","v":0}]
[81,{"$f":"IF(ISBLANK(Staging!D84),-100,+Staging!E84+-Staging!D84)","v":0.25},{"$f":"IF(ISBLANK(Staging!E84),-100,+Staging!F84+-Staging!E84)","v":-3.05},{"$f":"IF(ISBLANK(Staging!F84),-100,+Staging!G84+-Staging!F84)","v":0},{"$f":"IF(ISBLANK(Staging!G84),-100,+Staging!H84+-Staging!G84)","v":0},{"$f":"IF(ISBLANK(Staging!H84),-100,+Staging!I84+-Staging!H84)","v":0},{"$f":"IF(ISBLANK(Staging!I84),-100,+Staging!J84+-Staging!I84)","v":0}]
[82,{"$f":"IF(ISBLANK(Staging!D85),-100,+Staging!E85+-Staging!D85)","v":-5.0000000000000266E-2},{"$f":"IF(ISBLANK(Staging!E85),-100,+Staging!F85+-Staging!E85)","v":-0.17999999999999972},{"$f":"IF(ISBLANK(Staging!F85),-100,+Staging!G85+-Staging!F85)","v":-2.87},{"$f":"IF(ISBLANK(Staging!G85),-100,+Staging!H85+-Staging!G85)","v":0},{"$f":"IF(ISBLANK(Staging!H85),-100,+Staging!I85+-Staging!H85)","v":0},{"$f":"IF(ISBLANK(Staging!I85),-100,+Staging!J85+-Staging!I85)","v":0}]
[83,{"$f":"IF(ISBLANK(Staging!D86),-100,+Staging!E86+-Staging!D86)","v":0},{"$f":"IF(ISBLANK(Staging!E86),-100,+Staging!F86+-Staging!E86)","v":0},{"$f":"IF(ISBLANK(Staging!F86),-100,+Staging!G86+-Staging!F86)","v":0},{"$f":"IF(ISBLANK(Staging!G86),-100,+Staging!H86+-Staging!G86)","v":0},{"$f":"IF(ISBLANK(Staging!H86),-100,+Staging!I86+-Staging!H86)","v":0},{"$f":"IF(ISBLANK(Staging!I86),-100,+Staging!J86+-Staging!I86)","v":0}]
[84,{"$f":"IF(ISBLANK(Staging!D87),-100,+Staging!E87+-Staging!D87)","v":0.61000000000000032},{"$f":"IF(ISBLANK(Staging!E87),-100,+Staging!F87+-Staging!E87)","v":1.2400000000000002},{"$f":"IF(ISBLANK(Staging!F87),-100,+Staging!G87+-Staging!F87)","v":3.24},{"$f":"IF(ISBLANK(Staging!G87),-100,+Staging!H87+-Staging!G87)","v":-9.31},{"$f":"IF(ISBLANK(Staging!H87),-100,+Staging!I87+-Staging!H87)","v":0},{"$f":"IF(ISBLANK(Staging!I87),-100,+Staging!J87+-Staging!I87)","v":0}]
[85,{"$f":"IF(ISBLANK(Staging!D88),-100,+Staging!E88+-Staging!D88)","v":0.2799999999999998},{"$f":"IF(ISBLANK(Staging!E88),-100,+Staging!F88+-Staging!E88)","v":1.33},{"$f":"IF(ISBLANK(Staging!F88),-100,+Staging!G88+-Staging!F88)","v":2.7100000000000009},{"$f":"IF(ISBLANK(Staging!G88),-100,+Staging!H88+-Staging!G88)","v":-8.14},{"$f":"IF(ISBLANK(Staging!H88),-100,+Staging!I88+-Staging!H88)","v":0},{"$f":"IF(ISBLANK(Staging!I88),-100,+Staging!J88+-Staging!I88)","v":0}]
[86,{"$f":"IF(ISBLANK(Staging!D89),-100,+Staging!E89+-Staging!D89)","v":0.41000000000000014},{"$f":"IF(ISBLANK(Staging!E89),-100,+Staging!F89+-Staging!E89)","v":-0.22999999999999998},{"$f":"IF(ISBLANK(Staging!F89),-100,+Staging!G89+-Staging!F89)","v":-2.98},{"$f":"IF(ISBLANK(Staging!G89),-100,+Staging!H89+-Staging!G89)","v":0},{"$f":"IF(ISBLANK(Staging!H89),-100,+Staging!I89+-Staging!H89)","v":0},{"$f":"IF(ISBLANK(Staging!I89),-100,+Staging!J89+-Staging!I89)","v":0}]
[87,{"$f":"IF(ISBLANK(Staging!D90),-100,+Staging!E90+-Staging!D90)","v":9.9999999999997868E-3},{"$f":"IF(ISBLANK(Staging!E90),-100,+Staging!F90+-Staging!E90)","v":-0.4099999999999997},{"$f":"IF(ISBLANK(Staging!F90),-100,+Staging!G90+-Staging!F90)","v":-2.7},{"$f":"IF(ISBLANK(Staging!G90),-100,+Staging!H90+-Staging!G90)","v":0},{"$f":"IF(ISBLANK(Staging!H90),-100,+Staging!I90+-Staging!H90)","v":0},{"$f":"IF(ISBLANK(Staging!I90),-100,+Staging!J90+-Staging!I90)","v":0}]
[88,{"$f":"IF(ISBLANK(Staging!D91),-100,+Staging!E91+-Staging!D91)","v":0.3400000000000003},{"$f":"IF(ISBLANK(Staging!E91),-100,+Staging!F91+-Staging!E91)","v":0.10999999999999988},{"$f":"IF(ISBLANK(Staging!F91),-100,+Staging!G91+-Staging!F91)","v":0.12000000000000011},{"$f":"IF(ISBLANK(Staging!G91),-100,+Staging!H91+-Staging!G91)","v":-3.89},{"$f":"IF(ISBLANK(Staging!H91),-100,+Staging!I91+-Staging!H91)","v":0},{"$f":"IF(ISBLANK(Staging!I91),-100,+Staging!J91+-Staging!I91)","v":0}]
[89,{"$f":"IF(ISBLANK(Staging!D92),-100,+Staging!E92+-Staging!D92)","v":-1.0000000000000231E-2},{"$f":"IF(ISBLANK(Staging!E92),-100,+Staging!F92+-Staging!E92)","v":-3.21},{"$f":"IF(ISBLANK(Staging!F92),-100,+Staging!G92+-Staging!F92)","v":0},{"$f":"IF(ISBLANK(Staging!G92),-100,+Staging!H92+-Staging!G92)","v":0},{"$f":"IF(ISBLANK(Staging!H92),-100,+Staging!I92+-Staging!H92)","v":0},{"$f":"IF(ISBLANK(Staging!I92),-100,+Staging!J92+-Staging!I92)","v":0}]
[90,{"$f":"IF(ISBLANK(Staging!D93),-100,+Staging!E93+-Staging!D93)","v":0},{"$f":"IF(ISBLANK(Staging!E93),-100,+Staging!F93+-Staging!E93)","v":0},{"$f":"IF(ISBLANK(Staging!F93),-100,+Staging!G93+-Staging!F93)","v":0},{"$f":"IF(ISBLANK(Staging!G93),-100,+Staging!H93+-Staging!G93)","v":0},{"$f":"IF(ISBLANK(Staging!H93),-100,+Staging!I93+-Staging!H93)","v":0},{"$f":"IF(ISBLANK(Staging!I93),-100,+Staging!J93+-Staging!I93)","v":0}]
[91,{"$f":"IF(ISBLANK(Staging!D94),-100,+Staging!E94+-Staging!D94)","v":0},{"$f":"IF(ISBLANK(Staging!E94),-100,+Staging!F94+-Staging!E94)","v":0},{"$f":"IF(ISBLANK(Staging!F94),-100,+Staging!G94+-Staging!F94)","v":0},{"$f":"IF(ISBLANK(Staging!G94),-100,+Staging!H94+-Staging!G94)","v":0},{"$f":"IF(ISBLANK(Staging!H94),-100,+Staging!I94+-Staging!H94)","v":0},{"$f":"IF(ISBLANK(Staging!I94),-100,+Staging!J94+-Staging!I94)","v":0}]
[92,{"$f":"IF(ISBLANK(Staging!D95),-100,+Staging!E95+-Staging!D95)","v":0},{"$f":"IF(ISBLANK(Staging!E95),-100,+Staging!F95+-Staging!E95)","v":0},{"$f":"IF(ISBLANK(Staging!F95),-100,+Staging!G95+-Staging!F95)","v":0},{"$f":"IF(ISBLANK(Staging!G95),-100,+Staging!H95+-Staging!G95)","v":0},{"$f":"IF(ISBLANK(Staging!H95),-100,+Staging!I95+-Staging!H95)","v":0},{"$f":"IF(ISBLANK(Staging!I95),-100,+Staging!J95+-Staging!I95)","v":0}]
[93,{"$f":"IF(ISBLANK(Staging!D96),-100,+Staging!E96+-Staging!D96)","v":0},{"$f":"IF(ISBLANK(Staging!E96),-100,+Staging!F96+-Staging!E96)","v":0},{"$f":"IF(ISBLANK(Staging!F96),-100,+Staging!G96+-Staging!F96)","v":0},{"$f":"IF(ISBLANK(Staging!G96),-100,+Staging!H96+-Staging!G96)","v":0},{"$f":"IF(ISBLANK(Staging!H96),-100,+Staging!I96+-Staging!H96)","v":0},{"$f":"IF(ISBLANK(Staging!I96),-100,+Staging!J96+-Staging!I96)","v":0}]
[94,{"$f":"IF(ISBLANK(Staging!D97),-100,+Staging!E97+-Staging!D97)","v":0},{"$f":"IF(ISBLANK(Staging!E97),-100,+Staging!F97+-Staging!E97)","v":0},{"$f":"IF(ISBLANK(Staging!F97),-100,+Staging!G97+-Staging!F97)","v":0},{"$f":"IF(ISBLANK(Staging!G97),-100,+Staging!H97+-Staging!G97)","v":0},{"$f":"IF(ISBLANK(Staging!H97),-100,+Staging!I97+-Staging!H97)","v":0},{"$f":"IF(ISBLANK(Staging!I97),-100,+Staging!J97+-Staging!I97)","v":0}]
[95,{"$f":"IF(ISBLANK(Staging!D98),-100,+Staging!E98+-Staging!D98)","v":0},{"$f":"IF(ISBLANK(Staging!E98),-100,+Staging!F98+-Staging!E98)","v":0},{"$f":"IF(ISBLANK(Staging!F98),-100,+Staging!G98+-Staging!F98)","v":0},{"$f":"IF(ISBLANK(Staging!G98),-100,+Staging!H98+-Staging!G98)","v":0},{"$f":"IF(ISBLANK(Staging!H98),-100,+Staging!I98+-Staging!H98)","v":0},{"$f":"IF(ISBLANK(Staging!I98),-100,+Staging!J98+-Staging!I98)","v":0}]
[96,{"$f":"IF(ISBLANK(Staging!D99),-100,+Staging!E99+-Staging!D99)","v":0},{"$f":"IF(ISBLANK(Staging!E99),-100,+Staging!F99+-Staging!E99)","v":0},{"$f":"IF(ISBLANK(Staging!F99),-100,+Staging!G99+-Staging!F99)","v":0},{"$f":"IF(ISBLANK(Staging!G99),-100,+Staging!H99+-Staging!G99)","v":0},{"$f":"IF(ISBLANK(Staging!H99),-100,+Staging!I99+-Staging!H99)","v":0},{"$f":"IF(ISBLANK(Staging!I99),-100,+Staging!J99+-Staging!I99)","v":0}]
[97,{"$f":"IF(ISBLANK(Staging!D100),-100,+Staging!E100+-Staging!D100)","v":0},{"$f":"IF(ISBLANK(Staging!E100),-100,+Staging!F100+-Staging!E100)","v":0},{"$f":"IF(ISBLANK(Staging!F100),-100,+Staging!G100+-Staging!F100)","v":0},{"$f":"IF(ISBLANK(Staging!G100),-100,+Staging!H100+-Staging!G100)","v":0},{"$f":"IF(ISBLANK(Staging!H100),-100,+Staging!I100+-Staging!H100)","v":0},{"$f":"IF(ISBLANK(Staging!I100),-100,+Staging!J100+-Staging!I100)","v":0}]
[98,{"$f":"IF(ISBLANK(Staging!D101),-100,+Staging!E101+-Staging!D101)","v":0},{"$f":"IF(ISBLANK(Staging!E101),-100,+Staging!F101+-Staging!E101)","v":0},{"$f":"IF(ISBLANK(Staging!F101),-100,+Staging!G101+-Staging!F101)","v":0},{"$f":"IF(ISBLANK(Staging!G101),-100,+Staging!H101+-Staging!G101)","v":0},{"$f":"IF(ISBLANK(Staging!H101),-100,+Staging!I101+-Staging!H101)","v":0},{"$f":"IF(ISBLANK(Staging!I101),-100,+Staging!J101+-Staging!I101)","v":0}]
[99,{"$f":"IF(ISBLANK(Staging!D102),-100,+Staging!E102+-Staging!D102)","v":0},{"$f":"IF(ISBLANK(Staging!E102),-100,+Staging!F102+-Staging!E102)","v":0},{"$f":"IF(ISBLANK(Staging!F102),-100,+Staging!G102+-Staging!F102)","v":0},{"$f":"IF(ISBLANK(Staging!G102),-100,+Staging!H102+-Staging!G102)","v":0},{"$f":"IF(ISBLANK(Staging!H102),-100,+Staging!I102+-Staging!H102)","v":0},{"$f":"IF(ISBLANK(Staging!I102),-100,+Staging!J102+-Staging!I102)","v":0}]
[100,{"$f":"IF(ISBLANK(Staging!D103),-100,+Staging!E103+-Staging!D103)","v":0},{"$f":"IF(ISBLANK(Staging!E103),-100,+Staging!F103+-Staging!E103)","v":0},{"$f":"IF(ISBLANK(Staging!F103),-100,+Staging!G103+-Staging!F103)","v":0},{"$f":"IF(ISBLANK(Staging!G103),-100,+Staging!H103+-Staging!G103)","v":0},{"$f":"IF(ISBLANK(Staging!H103),-100,+Staging!I103+-Staging!H103)","v":0},{"$f":"IF(ISBLANK(Staging!I103),-100,+Staging!J103+-Staging!I103)","v":0}]
[101,{"$f":"IF(ISBLANK(Staging!D104),-100,+Staging!E104+-Staging!D104)","v":0},{"$f":"IF(ISBLANK(Staging!E104),-100,+Staging!F104+-Staging!E104)","v":0},{"$f":"IF(ISBLANK(Staging!F104),-100,+Staging!G104+-Staging!F104)","v":0},{"$f":"IF(ISBLANK(Staging!G104),-100,+Staging!H104+-Staging!G104)","v":0},{"$f":"IF(ISBLANK(Staging!H104),-100,+Staging!I104+-Staging!H104)","v":0},{"$f":"IF(ISBLANK(Staging!I104),-100,+Staging!J104+-Staging!I104)","v":0}]
[102,{"$f":"IF(ISBLANK(Staging!D105),-100,+Staging!E105+-Staging!D105)","v":0},{"$f":"IF(ISBLANK(Staging!E105),-100,+Staging!F105+-Staging!E105)","v":0},{"$f":"IF(ISBLANK(Staging!F105),-100,+Staging!G105+-Staging!F105)","v":0},{"$f":"IF(ISBLANK(Staging!G105),-100,+Staging!H105+-Staging!G105)","v":0},{"$f":"IF(ISBLANK(Staging!H105),-100,+Staging!I105+-Staging!H105)","v":0},{"$f":"IF(ISBLANK(Staging!I105),-100,+Staging!J105+-Staging!I105)","v":0}]
[103,{"$f":"IF(ISBLANK(Staging!D106),-100,+Staging!E106+-Staging!D106)","v":0},{"$f":"IF(ISBLANK(Staging!E106),-100,+Staging!F106+-Staging!E106)","v":0},{"$f":"IF(ISBLANK(Staging!F106),-100,+Staging!G106+-Staging!F106)","v":0},{"$f":"IF(ISBLANK(Staging!G106),-100,+Staging!H106+-Staging!G106)","v":0},{"$f":"IF(ISBLANK(Staging!H106),-100,+Staging!I106+-Staging!H106)","v":0},{"$f":"IF(ISBLANK(Staging!I106),-100,+Staging!J106+-Staging!I106)","v":0}]
[104,{"$f":"IF(ISBLANK(Staging!D107),-100,+Staging!E107+-Staging!D107)","v":0},{"$f":"IF(ISBLANK(Staging!E107),-100,+Staging!F107+-Staging!E107)","v":0},{"$f":"IF(ISBLANK(Staging!F107),-100,+Staging!G107+-Staging!F107)","v":0},{"$f":"IF(ISBLANK(Staging!G107),-100,+Staging!H107+-Staging!G107)","v":0},{"$f":"IF(ISBLANK(Staging!H107),-100,+Staging!I107+-Staging!H107)","v":0},{"$f":"IF(ISBLANK(Staging!I107),-100,+Staging!J107+-Staging!I107)","v":0}]
[105,{"$f":"IF(ISBLANK(Staging!D108),-100,+Staging!E108+-Staging!D108)","v":0},{"$f":"IF(ISBLANK(Staging!E108),-100,+Staging!F108+-Staging!E108)","v":0},{"$f":"IF(ISBLANK(Staging!F108),-100,+Staging!G108+-Staging!F108)","v":0},{"$f":"IF(ISBLANK(Staging!G108),-100,+Staging!H108+-Staging!G108)","v":0},{"$f":"IF(ISBLANK(Staging!H108),-100,+Staging!I108+-Staging!H108)","v":0},{"$f":"IF(ISBLANK(Staging!I108),-100,+Staging!J108+-Staging!I108)","v":0}]
[106,{"$f":"IF(ISBLANK(Staging!D109),-100,+Staging!E109+-Staging!D109)","v":0},{"$f":"IF(ISBLANK(Staging!E109),-100,+Staging!F109+-Staging!E109)","v":0},{"$f":"IF(ISBLANK(Staging!F109),-100,+Staging!G109+-Staging!F109)","v":0},{"$f":"IF(ISBLANK(Staging!G109),-100,+Staging!H109+-Staging!G109)","v":0},{"$f":"IF(ISBLANK(Staging!H109),-100,+Staging!I109+-Staging!H109)","v":0},{"$f":"IF(ISBLANK(Staging!I109),-100,+Staging!J109+-Staging!I109)","v":0}]
[107,{"$f":"IF(ISBLANK(Staging!D110),-100,+Staging!E110+-Staging!D110)","v":0},{"$f":"IF(ISBLANK(Staging!E110),-100,+Staging!F110+-Staging!E110)","v":0},{"$f":"IF(ISBLANK(Staging!F110),-100,+Staging!G110+-Staging!F110)","v":0},{"$f":"IF(ISBLANK(Staging!G110),-100,+Staging!H110+-Staging!G110)","v":0},{"$f":"IF(ISBLANK(Staging!H110),-100,+Staging!I110+-Staging!H110)","v":0},{"$f":"IF(ISBLANK(Staging!I110),-100,+Staging!J110+-Staging!I110)","v":0}]
[108,{"$f":"IF(ISBLANK(Staging!D111),-100,+Staging!E111+-Staging!D111)","v":0},{"$f":"IF(ISBLANK(Staging!E111),-100,+Staging!F111+-Staging!E111)","v":0},{"$f":"IF(ISBLANK(Staging!F111),-100,+Staging!G111+-Staging!F111)","v":0},{"$f":"IF(ISBLANK(Staging!G111),-100,+Staging!H111+-Staging!G111)","v":0},{"$f":"IF(ISBLANK(Staging!H111),-100,+Staging!I111+-Staging!H111)","v":0},{"$f":"IF(ISBLANK(Staging!I111),-100,+Staging!J111+-Staging!I111)","v":0}]
[109,{"$f":"IF(ISBLANK(Staging!D112),-100,+Staging!E112+-Staging!D112)","v":0},{"$f":"IF(ISBLANK(Staging!E112),-100,+Staging!F112+-Staging!E112)","v":0},{"$f":"IF(ISBLANK(Staging!F112),-100,+Staging!G112+-Staging!F112)","v":0},{"$f":"IF(ISBLANK(Staging!G112),-100,+Staging!H112+-Staging!G112)","v":0},{"$f":"IF(ISBLANK(Staging!H112),-100,+Staging!I112+-Staging!H112)","v":0},{"$f":"IF(ISBLANK(Staging!I112),-100,+Staging!J112+-Staging!I112)","v":0}]
[110,{"$f":"IF(ISBLANK(Staging!D113),-100,+Staging!E113+-Staging!D113)","v":0},{"$f":"IF(ISBLANK(Staging!E113),-100,+Staging!F113+-Staging!E113)","v":0},{"$f":"IF(ISBLANK(Staging!F113),-100,+Staging!G113+-Staging!F113)","v":0},{"$f":"IF(ISBLANK(Staging!G113),-100,+Staging!H113+-Staging!G113)","v":0},{"$f":"IF(ISBLANK(Staging!H113),-100,+Staging!I113+-Staging!H113)","v":0},{"$f":"IF(ISBLANK(Staging!I113),-100,+Staging!J113+-Staging!I113)","v":0}]
[111,{"$f":"IF(ISBLANK(Staging!D114),-100,+Staging!E114+-Staging!D114)","v":0},{"$f":"IF(ISBLANK(Staging!E114),-100,+Staging!F114+-Staging!E114)","v":0},{"$f":"IF(ISBLANK(Staging!F114),-100,+Staging!G114+-Staging!F114)","v":0},{"$f":"IF(ISBLANK(Staging!G114),-100,+Staging!H114+-Staging!G114)","v":0},{"$f":"IF(ISBLANK(Staging!H114),-100,+Staging!I114+-Staging!H114)","v":0},{"$f":"IF(ISBLANK(Staging!I114),-100,+Staging!J114+-Staging!I114)","v":0}]
[112,{"$f":"IF(ISBLANK(Staging!D115),-100,+Staging!E115+-Staging!D115)","v":0},{"$f":"IF(ISBLANK(Staging!E115),-100,+Staging!F115+-Staging!E115)","v":0},{"$f":"IF(ISBLANK(Staging!F115),-100,+Staging!G115+-Staging!F115)","v":0},{"$f":"IF(ISBLANK(Staging!G115),-100,+Staging!H115+-Staging!G115)","v":0},{"$f":"IF(ISBLANK(Staging!H115),-100,+Staging!I115+-Staging!H115)","v":0},{"$f":"IF(ISBLANK(Staging!I115),-100,+Staging!J115+-Staging!I115)","v":0}]
[113,{"$f":"IF(ISBLANK(Staging!D116),-100,+Staging!E116+-Staging!D116)","v":0},{"$f":"IF(ISBLANK(Staging!E116),-100,+Staging!F116+-Staging!E116)","v":0},{"$f":"IF(ISBLANK(Staging!F116),-100,+Staging!G116+-Staging!F116)","v":0},{"$f":"IF(ISBLANK(Staging!G116),-100,+Staging!H116+-Staging!G116)","v":0},{"$f":"IF(ISBLANK(Staging!H116),-100,+Staging!I116+-Staging!H116)","v":0},{"$f":"IF(ISBLANK(Staging!I116),-100,+Staging!J116+-Staging!I116)","v":0}]
[114,{"$f":"IF(ISBLANK(Staging!D117),-100,+Staging!E117+-Staging!D117)","v":0},{"$f":"IF(ISBLANK(Staging!E117),-100,+Staging!F117+-Staging!E117)","v":0},{"$f":"IF(ISBLANK(Staging!F117),-100,+Staging!G117+-Staging!F117)","v":0},{"$f":"IF(ISBLANK(Staging!G117),-100,+Staging!H117+-Staging!G117)","v":0},{"$f":"IF(ISBLANK(Staging!H117),-100,+Staging!I117+-Staging!H117)","v":0},{"$f":"IF(ISBLANK(Staging!I117),-100,+Staging!J117+-Staging!I117)","v":0}]
[115,{"$f":"IF(ISBLANK(Staging!D118),-100,+Staging!E118+-Staging!D118)","v":0},{"$f":"IF(ISBLANK(Staging!E118),-100,+Staging!F118+-Staging!E118)","v":0},{"$f":"IF(ISBLANK(Staging!F118),-100,+Staging!G118+-Staging!F118)","v":0},{"$f":"IF(ISBLANK(Staging!G118),-100,+Staging!H118+-Staging!G118)","v":0},{"$f":"IF(ISBLANK(Staging!H118),-100,+Staging!I118+-Staging!H118)","v":0},{"$f":"IF(ISBLANK(Staging!I118),-100,+Staging!J118+-Staging!I118)","v":0}]
[116,{"$f":"IF(ISBLANK(Staging!D119),-100,+Staging!E119+-Staging!D119)","v":0},{"$f":"IF(ISBLANK(Staging!E119),-100,+Staging!F119+-Staging!E119)","v":0},{"$f":"IF(ISBLANK(Staging!F119),-100,+Staging!G119+-Staging!F119)","v":0},{"$f":"IF(ISBLANK(Staging!G119),-100,+Staging!H119+-Staging!G119)","v":0},{"$f":"IF(ISBLANK(Staging!H119),-100,+Staging!I119+-Staging!H119)","v":0},{"$f":"IF(ISBLANK(Staging!I119),-100,+Staging!J119+-Staging!I119)","v":0}]
[117,{"$f":"IF(ISBLANK(Staging!D120),-100,+Staging!E120+-Staging!D120)","v":0},{"$f":"IF(ISBLANK(Staging!E120),-100,+Staging!F120+-Staging!E120)","v":0},{"$f":"IF(ISBLANK(Staging!F120),-100,+Staging!G120+-Staging!F120)","v":0},{"$f":"IF(ISBLANK(Staging!G120),-100,+Staging!H120+-Staging!G120)","v":0},{"$f":"IF(ISBLANK(Staging!H120),-100,+Staging!I120+-Staging!H120)","v":0},{"$f":"IF(ISBLANK(Staging!I120),-100,+Staging!J120+-Staging!I120)","v":0}]
[118,{"$f":"IF(ISBLANK(Staging!D121),-100,+Staging!E121+-Staging!D121)","v":0},{"$f":"IF(ISBLANK(Staging!E121),-100,+Staging!F121+-Staging!E121)","v":0},{"$f":"IF(ISBLANK(Staging!F121),-100,+Staging!G121+-Staging!F121)","v":0},{"$f":"IF(ISBLANK(Staging!G121),-100,+Staging!H121+-Staging!G121)","v":0},{"$f":"IF(ISBLANK(Staging!H121),-100,+Staging!I121+-Staging!H121)","v":0},{"$f":"IF(ISBLANK(Staging!I121),-100,+Staging!J121+-Staging!I121)","v":0}]
[119,{"$f":"IF(ISBLANK(Staging!D122),-100,+Staging!E122+-Staging!D122)","v":0},{"$f":"IF(ISBLANK(Staging!E122),-100,+Staging!F122+-Staging!E122)","v":0},{"$f":"IF(ISBLANK(Staging!F122),-100,+Staging!G122+-Staging!F122)","v":0},{"$f":"IF(ISBLANK(Staging!G122),-100,+Staging!H122+-Staging!G122)","v":0},{"$f":"IF(ISBLANK(Staging!H122),-100,+Staging!I122+-Staging!H122)","v":0},{"$f":"IF(ISBLANK(Staging!I122),-100,+Staging!J122+-Staging!I122)","v":0}]
[120,{"$f":"IF(ISBLANK(Staging!D123),-100,+Staging!E123+-Staging!D123)","v":0},{"$f":"IF(ISBLANK(Staging!E123),-100,+Staging!F123+-Staging!E123)","v":0},{"$f":"IF(ISBLANK(Staging!F123),-100,+Staging!G123+-Staging!F123)","v":0},{"$f":"IF(ISBLANK(Staging!G123),-100,+Staging!H123+-Staging!G123)","v":0},{"$f":"IF(ISBLANK(Staging!H123),-100,+Staging!I123+-Staging!H123)","v":0},{"$f":"IF(ISBLANK(Staging!I123),-100,+Staging!J123+-Staging!I123)","v":0}]
[121,{"$f":"IF(ISBLANK(Staging!D124),-100,+Staging!E124+-Staging!D124)","v":0},{"$f":"IF(ISBLANK(Staging!E124),-100,+Staging!F124+-Staging!E124)","v":0},{"$f":"IF(ISBLANK(Staging!F124),-100,+Staging!G124+-Staging!F124)","v":0},{"$f":"IF(ISBLANK(Staging!G124),-100,+Staging!H124+-Staging!G124)","v":0},{"$f":"IF(ISBLANK(Staging!H124),-100,+Staging!I124+-Staging!H124)","v":0},{"$f":"IF(ISBLANK(Staging!I124),-100,+Staging!J124+-Staging!I124)","v":0}]
[122,{"$f":"IF(ISBLANK(Staging!D125),-100,+Staging!E125+-Staging!D125)","v":0},{"$f":"IF(ISBLANK(Staging!E125),-100,+Staging!F125+-Staging!E125)","v":0},{"$f":"IF(ISBLANK(Staging!F125),-100,+Staging!G125+-Staging!F125)","v":0},{"$f":"IF(ISBLANK(Staging!G125),-100,+Staging!H125+-Staging!G125)","v":0},{"$f":"IF(ISBLANK(Staging!H125),-100,+Staging!I125+-Staging!H125)","v":0},{"$f":"IF(ISBLANK(Staging!I125),-100,+Staging!J125+-Staging!I125)","v":0}]
[123,{"$f":"IF(ISBLANK(Staging!D126),-100,+Staging!E126+-Staging!D126)","v":0},{"$f":"IF(ISBLANK(Staging!E126),-100,+Staging!F126+-Staging!E126)","v":0},{"$f":"IF(ISBLANK(Staging!F126),-100,+Staging!G126+-Staging!F126)","v":0},{"$f":"IF(ISBLANK(Staging!G126),-100,+Staging!H126+-Staging!G126)","v":0},{"$f":"IF(ISBLANK(Staging!H126),-100,+Staging!I126+-Staging!H126)","v":0},{"$f":"IF(ISBLANK(Staging!I126),-100,+Staging!J126+-Staging!I126)","v":0}]
[124,{"$f":"IF(ISBLANK(Staging!D127),-100,+Staging!E127+-Staging!D127)","v":0},{"$f":"IF(ISBLANK(Staging!E127),-100,+Staging!F127+-Staging!E127)","v":0},{"$f":"IF(ISBLANK(Staging!F127),-100,+Staging!G127+-Staging!F127)","v":0},{"$f":"IF(ISBLANK(Staging!G127),-100,+Staging!H127+-Staging!G127)","v":0},{"$f":"IF(ISBLANK(Staging!H127),-100,+Staging!I127+-Staging!H127)","v":0},{"$f":"IF(ISBLANK(Staging!I127),-100,+Staging!J127+-Staging!I127)","v":0}]
[125,{"$f":"IF(ISBLANK(Staging!D128),-100,+Staging!E128+-Staging!D128)","v":0},{"$f":"IF(ISBLANK(Staging!E128),-100,+Staging!F128+-Staging!E128)","v":0},{"$f":"IF(ISBLANK(Staging!F128),-100,+Staging!G128+-Staging!F128)","v":0},{"$f":"IF(ISBLANK(Staging!G128),-100,+Staging!H128+-Staging!G128)","v":0},{"$f":"IF(ISBLANK(Staging!H128),-100,+Staging!I128+-Staging!H128)","v":0},{"$f":"IF(ISBLANK(Staging!I128),-100,+Staging!J128+-Staging!I128)","v":0}]
[126,{"$f":"IF(ISBLANK(Staging!D129),-100,+Staging!E129+-Staging!D129)","v":0},{"$f":"IF(ISBLANK(Staging!E129),-100,+Staging!F129+-Staging!E129)","v":0},{"$f":"IF(ISBLANK(Staging!F129),-100,+Staging!G129+-Staging!F129)","v":0},{"$f":"IF(ISBLANK(Staging!G129),-100,+Staging!H129+-Staging!G129)","v":0},{"$f":"IF(ISBLANK(Staging!H129),-100,+Staging!I129+-Staging!H129)","v":0},{"$f":"IF(ISBLANK(Staging!I129),-100,+Staging!J129+-Staging!I129)","v":0}]
[127,{"$f":"IF(ISBLANK(Staging!D130),-100,+Staging!E130+-Staging!D130)","v":0},{"$f":"IF(ISBLANK(Staging!E130),-100,+Staging!F130+-Staging!E130)","v":0},{"$f":"IF(ISBLANK(Staging!F130),-100,+Staging!G130+-Staging!F130)","v":0},{"$f":"IF(ISBLANK(Staging!G130),-100,+Staging!H130+-Staging!G130)","v":0},{"$f":"IF(ISBLANK(Staging!H130),-100,+Staging!I130+-Staging!H130)","v":0},{"$f":"IF(ISBLANK(Staging!I130),-100,+Staging!J130+-Staging!I130)","v":0}]
[128,{"$f":"IF(ISBLANK(Staging!D131),-100,+Staging!E131+-Staging!D131)","v":0},{"$f":"IF(ISBLANK(Staging!E131),-100,+Staging!F131+-Staging!E131)","v":0},{"$f":"IF(ISBLANK(Staging!F131),-100,+Staging!G131+-Staging!F131)","v":0},{"$f":"IF(ISBLANK(Staging!G131),-100,+Staging!H131+-Staging!G131)","v":0},{"$f":"IF(ISBLANK(Staging!H131),-100,+Staging!I131+-Staging!H131)","v":0},{"$f":"IF(ISBLANK(Staging!I131),-100,+Staging!J131+-Staging!I131)","v":0}]
[129,{"$f":"IF(ISBLANK(Staging!D132),-100,+Staging!E132+-Staging!D132)","v":0},{"$f":"IF(ISBLANK(Staging!E132),-100,+Staging!F132+-Staging!E132)","v":0},{"$f":"IF(ISBLANK(Staging!F132),-100,+Staging!G132+-Staging!F132)","v":0},{"$f":"IF(ISBLANK(Staging!G132),-100,+Staging!H132+-Staging!G132)","v":0},{"$f":"IF(ISBLANK(Staging!H132),-100,+Staging!I132+-Staging!H132)","v":0},{"$f":"IF(ISBLANK(Staging!I132),-100,+Staging!J132+-Staging!I132)","v":0}]
[130,{"$f":"IF(ISBLANK(Staging!D133),-100,+Staging!E133+-Staging!D133)","v":0},{"$f":"IF(ISBLANK(Staging!E133),-100,+Staging!F133+-Staging!E133)","v":0},{"$f":"IF(ISBLANK(Staging!F133),-100,+Staging!G133+-Staging!F133)","v":0},{"$f":"IF(ISBLANK(Staging!G133),-100,+Staging!H133+-Staging!G133)","v":0},{"$f":"IF(ISBLANK(Staging!H133),-100,+Staging!I133+-Staging!H133)","v":0},{"$f":"IF(ISBLANK(Staging!I133),-100,+Staging!J133+-Staging!I133)","v":0}]
[131,{"$f":"IF(ISBLANK(Staging!D134),-100,+Staging!E134+-Staging!D134)","v":0},{"$f":"IF(ISBLANK(Staging!E134),-100,+Staging!F134+-Staging!E134)","v":0},{"$f":"IF(ISBLANK(Staging!F134),-100,+Staging!G134+-Staging!F134)","v":0},{"$f":"IF(ISBLANK(Staging!G134),-100,+Staging!H134+-Staging!G134)","v":0},{"$f":"IF(ISBLANK(Staging!H134),-100,+Staging!I134+-Staging!H134)","v":0},{"$f":"IF(ISBLANK(Staging!I134),-100,+Staging!J134+-Staging!I134)","v":0}]
[132,{"$f":"IF(ISBLANK(Staging!D135),-100,+Staging!E135+-Staging!D135)","v":0},{"$f":"IF(ISBLANK(Staging!E135),-100,+Staging!F135+-Staging!E135)","v":0},{"$f":"IF(ISBLANK(Staging!F135),-100,+Staging!G135+-Staging!F135)","v":0},{"$f":"IF(ISBLANK(Staging!G135),-100,+Staging!H135+-Staging!G135)","v":0},{"$f":"IF(ISBLANK(Staging!H135),-100,+Staging!I135+-Staging!H135)","v":0},{"$f":"IF(ISBLANK(Staging!I135),-100,+Staging!J135+-Staging!I135)","v":0}]
[133,{"$f":"IF(ISBLANK(Staging!D136),-100,+Staging!E136+-Staging!D136)","v":0},{"$f":"IF(ISBLANK(Staging!E136),-100,+Staging!F136+-Staging!E136)","v":0},{"$f":"IF(ISBLANK(Staging!F136),-100,+Staging!G136+-Staging!F136)","v":0},{"$f":"IF(ISBLANK(Staging!G136),-100,+Staging!H136+-Staging!G136)","v":0},{"$f":"IF(ISBLANK(Staging!H136),-100,+Staging!I136+-Staging!H136)","v":0},{"$f":"IF(ISBLANK(Staging!I136),-100,+Staging!J136+-Staging!I136)","v":0}]
[134,{"$f":"IF(ISBLANK(Staging!D137),-100,+Staging!E137+-Staging!D137)","v":0},{"$f":"IF(ISBLANK(Staging!E137),-100,+Staging!F137+-Staging!E137)","v":0},{"$f":"IF(ISBLANK(Staging!F137),-100,+Staging!G137+-Staging!F137)","v":0},{"$f":"IF(ISBLANK(Staging!G137),-100,+Staging!H137+-Staging!G137)","v":0},{"$f":"IF(ISBLANK(Staging!H137),-100,+Staging!I137+-Staging!H137)","v":0},{"$f":"IF(ISBLANK(Staging!I137),-100,+Staging!J137+-Staging!I137)","v":0}]
[135,{"$f":"IF(ISBLANK(Staging!D138),-100,+Staging!E138+-Staging!D138)","v":0},{"$f":"IF(ISBLANK(Staging!E138),-100,+Staging!F138+-Staging!E138)","v":0},{"$f":"IF(ISBLANK(Staging!F138),-100,+Staging!G138+-Staging!F138)","v":0},{"$f":"IF(ISBLANK(Staging!G138),-100,+Staging!H138+-Staging!G138)","v":0},{"$f":"IF(ISBLANK(Staging!H138),-100,+Staging!I138+-Staging!H138)","v":0},{"$f":"IF(ISBLANK(Staging!I138),-100,+Staging!J138+-Staging!I138)","v":0}]
[136,{"$f":"IF(ISBLANK(Staging!D139),-100,+Staging!E139+-Staging!D139)","v":0},{"$f":"IF(ISBLANK(Staging!E139),-100,+Staging!F139+-Staging!E139)","v":0},{"$f":"IF(ISBLANK(Staging!F139),-100,+Staging!G139+-Staging!F139)","v":0},{"$f":"IF(ISBLANK(Staging!G139),-100,+Staging!H139+-Staging!G139)","v":0},{"$f":"IF(ISBLANK(Staging!H139),-100,+Staging!I139+-Staging!H139)","v":0},{"$f":"IF(ISBLANK(Staging!I139),-100,+Staging!J139+-Staging!I139)","v":0}]
[137,{"$f":"IF(ISBLANK(Staging!D140),-100,+Staging!E140+-Staging!D140)","v":0},{"$f":"IF(ISBLANK(Staging!E140),-100,+Staging!F140+-Staging!E140)","v":0},{"$f":"IF(ISBLANK(Staging!F140),-100,+Staging!G140+-Staging!F140)","v":0},{"$f":"IF(ISBLANK(Staging!G140),-100,+Staging!H140+-Staging!G140)","v":0},{"$f":"IF(ISBLANK(Staging!H140),-100,+Staging!I140+-Staging!H140)","v":0},{"$f":"IF(ISBLANK(Staging!I140),-100,+Staging!J140+-Staging!I140)","v":0}]
[138,{"$f":"IF(ISBLANK(Staging!D141),-100,+Staging!E141+-Staging!D141)","v":0},{"$f":"IF(ISBLANK(Staging!E141),-100,+Staging!F141+-Staging!E141)","v":0},{"$f":"IF(ISBLANK(Staging!F141),-100,+Staging!G141+-Staging!F141)","v":0},{"$f":"IF(ISBLANK(Staging!G141),-100,+Staging!H141+-Staging!G141)","v":0},{"$f":"IF(ISBLANK(Staging!H141),-100,+Staging!I141+-Staging!H141)","v":0},{"$f":"IF(ISBLANK(Staging!I141),-100,+Staging!J141+-Staging!I141)","v":0}]
[139,{"$f":"IF(ISBLANK(Staging!D142),-100,+Staging!E142+-Staging!D142)","v":0},{"$f":"IF(ISBLANK(Staging!E142),-100,+Staging!F142+-Staging!E142)","v":0},{"$f":"IF(ISBLANK(Staging!F142),-100,+Staging!G142+-Staging!F142)","v":0},{"$f":"IF(ISBLANK(Staging!G142),-100,+Staging!H142+-Staging!G142)","v":0},{"$f":"IF(ISBLANK(Staging!H142),-100,+Staging!I142+-Staging!H142)","v":0},{"$f":"IF(ISBLANK(Staging!I142),-100,+Staging!J142+-Staging!I142)","v":0}]
[140,{"$f":"IF(ISBLANK(Staging!D143),-100,+Staging!E143+-Staging!D143)","v":0},{"$f":"IF(ISBLANK(Staging!E143),-100,+Staging!F143+-Staging!E143)","v":0},{"$f":"IF(ISBLANK(Staging!F143),-100,+Staging!G143+-Staging!F143)","v":0},{"$f":"IF(ISBLANK(Staging!G143),-100,+Staging!H143+-Staging!G143)","v":0},{"$f":"IF(ISBLANK(Staging!H143),-100,+Staging!I143+-Staging!H143)","v":0},{"$f":"IF(ISBLANK(Staging!I143),-100,+Staging!J143+-Staging!I143)","v":0}]
[141,{"$f":"IF(ISBLANK(Staging!D144),-100,+Staging!E144+-Staging!D144)","v":0},{"$f":"IF(ISBLANK(Staging!E144),-100,+Staging!F144+-Staging!E144)","v":0},{"$f":"IF(ISBLANK(Staging!F144),-100,+Staging!G144+-Staging!F144)","v":0},{"$f":"IF(ISBLANK(Staging!G144),-100,+Staging!H144+-Staging!G144)","v":0},{"$f":"IF(ISBLANK(Staging!H144),-100,+Staging!I144+-Staging!H144)","v":0},{"$f":"IF(ISBLANK(Staging!I144),-100,+Staging!J144+-Staging!I144)","v":0}]
[142,{"$f":"IF(ISBLANK(Staging!D145),-100,+Staging!E145+-Staging!D145)","v":0},{"$f":"IF(ISBLANK(Staging!E145),-100,+Staging!F145+-Staging!E145)","v":0},{"$f":"IF(ISBLANK(Staging!F145),-100,+Staging!G145+-Staging!F145)","v":0},{"$f":"IF(ISBLANK(Staging!G145),-100,+Staging!H145+-Staging!G145)","v":0},{"$f":"IF(ISBLANK(Staging!H145),-100,+Staging!I145+-Staging!H145)","v":0},{"$f":"IF(ISBLANK(Staging!I145),-100,+Staging!J145+-Staging!I145)","v":0}]
[143,{"$f":"IF(ISBLANK(Staging!D146),-100,+Staging!E146+-Staging!D146)","v":0},{"$f":"IF(ISBLANK(Staging!E146),-100,+Staging!F146+-Staging!E146)","v":0},{"$f":"IF(ISBLANK(Staging!F146),-100,+Staging!G146+-Staging!F146)","v":0},{"$f":"IF(ISBLANK(Staging!G146),-100,+Staging!H146+-Staging!G146)","v":0},{"$f":"IF(ISBLANK(Staging!H146),-100,+Staging!I146+-Staging!H146)","v":0},{"$f":"IF(ISBLANK(Staging!I146),-100,+Staging!J146+-Staging!I146)","v":0}]
[144,{"$f":"IF(ISBLANK(Staging!D147),-100,+Staging!E147+-Staging!D147)","v":0},{"$f":"IF(ISBLANK(Staging!E147),-100,+Staging!F147+-Staging!E147)","v":0},{"$f":"IF(ISBLANK(Staging!F147),-100,+Staging!G147+-Staging!F147)","v":0},{"$f":"IF(ISBLANK(Staging!G147),-100,+Staging!H147+-Staging!G147)","v":0},{"$f":"IF(ISBLANK(Staging!H147),-100,+Staging!I147+-Staging!H147)","v":0},{"$f":"IF(ISBLANK(Staging!I147),-100,+Staging!J147+-Staging!I147)","v":0}]
[145,{"$f":"IF(ISBLANK(Staging!D148),-100,+Staging!E148+-Staging!D148)","v":0},{"$f":"IF(ISBLANK(Staging!E148),-100,+Staging!F148+-Staging!E148)","v":0},{"$f":"IF(ISBLANK(Staging!F148),-100,+Staging!G148+-Staging!F148)","v":0},{"$f":"IF(ISBLANK(Staging!G148),-100,+Staging!H148+-Staging!G148)","v":0},{"$f":"IF(ISBLANK(Staging!H148),-100,+Staging!I148+-Staging!H148)","v":0},{"$f":"IF(ISBLANK(Staging!I148),-100,+Staging!J148+-Staging!I148)","v":0}]
[146,{"$f":"IF(ISBLANK(Staging!D149),-100,+Staging!E149+-Staging!D149)","v":0},{"$f":"IF(ISBLANK(Staging!E149),-100,+Staging!F149+-Staging!E149)","v":0},{"$f":"IF(ISBLANK(Staging!F149),-100,+Staging!G149+-Staging!F149)","v":0},{"$f":"IF(ISBLANK(Staging!G149),-100,+Staging!H149+-Staging!G149)","v":0},{"$f":"IF(ISBLANK(Staging!H149),-100,+Staging!I149+-Staging!H149)","v":0},{"$f":"IF(ISBLANK(Staging!I149),-100,+Staging!J149+-Staging!I149)","v":0}]
[147,{"$f":"IF(ISBLANK(Staging!D150),-100,+Staging!E150+-Staging!D150)","v":0},{"$f":"IF(ISBLANK(Staging!E150),-100,+Staging!F150+-Staging!E150)","v":0},{"$f":"IF(ISBLANK(Staging!F150),-100,+Staging!G150+-Staging!F150)","v":0},{"$f":"IF(ISBLANK(Staging!G150),-100,+Staging!H150+-Staging!G150)","v":0},{"$f":"IF(ISBLANK(Staging!H150),-100,+Staging!I150+-Staging!H150)","v":0},{"$f":"IF(ISBLANK(Staging!I150),-100,+Staging!J150+-Staging!I150)","v":0}]
[148,{"$f":"IF(ISBLANK(Staging!D151),-100,+Staging!E151+-Staging!D151)","v":0},{"$f":"IF(ISBLANK(Staging!E151),-100,+Staging!F151+-Staging!E151)","v":0},{"$f":"IF(ISBLANK(Staging!F151),-100,+Staging!G151+-Staging!F151)","v":0},{"$f":"IF(ISBLANK(Staging!G151),-100,+Staging!H151+-Staging!G151)","v":0},{"$f":"IF(ISBLANK(Staging!H151),-100,+Staging!I151+-Staging!H151)","v":0},{"$f":"IF(ISBLANK(Staging!I151),-100,+Staging!J151+-Staging!I151)","v":0}]
[149,{"$f":"IF(ISBLANK(Staging!D152),-100,+Staging!E152+-Staging!D152)","v":0},{"$f":"IF(ISBLANK(Staging!E152),-100,+Staging!F152+-Staging!E152)","v":0},{"$f":"IF(ISBLANK(Staging!F152),-100,+Staging!G152+-Staging!F152)","v":0},{"$f":"IF(ISBLANK(Staging!G152),-100,+Staging!H152+-Staging!G152)","v":0},{"$f":"IF(ISBLANK(Staging!H152),-100,+Staging!I152+-Staging!H152)","v":0},{"$f":"IF(ISBLANK(Staging!I152),-100,+Staging!J152+-Staging!I152)","v":0}]
[150,{"$f":"IF(ISBLANK(Staging!D153),-100,+Staging!E153+-Staging!D153)","v":0},{"$f":"IF(ISBLANK(Staging!E153),-100,+Staging!F153+-Staging!E153)","v":0},{"$f":"IF(ISBLANK(Staging!F153),-100,+Staging!G153+-Staging!F153)","v":0},{"$f":"IF(ISBLANK(Staging!G153),-100,+Staging!H153+-Staging!G153)","v":0},{"$f":"IF(ISBLANK(Staging!H153),-100,+Staging!I153+-Staging!H153)","v":0},{"$f":"IF(ISBLANK(Staging!I153),-100,+Staging!J153+-Staging!I153)","v":0}]
[151,{"$f":"IF(ISBLANK(Staging!D154),-100,+Staging!E154+-Staging!D154)","v":0},{"$f":"IF(ISBLANK(Staging!E154),-100,+Staging!F154+-Staging!E154)","v":0},{"$f":"IF(ISBLANK(Staging!F154),-100,+Staging!G154+-Staging!F154)","v":0},{"$f":"IF(ISBLANK(Staging!G154),-100,+Staging!H154+-Staging!G154)","v":0},{"$f":"IF(ISBLANK(Staging!H154),-100,+Staging!I154+-Staging!H154)","v":0},{"$f":"IF(ISBLANK(Staging!I154),-100,+Staging!J154+-Staging!I154)","v":0}]
[152,{"$f":"IF(ISBLANK(Staging!D155),-100,+Staging!E155+-Staging!D155)","v":0},{"$f":"IF(ISBLANK(Staging!E155),-100,+Staging!F155+-Staging!E155)","v":0},{"$f":"IF(ISBLANK(Staging!F155),-100,+Staging!G155+-Staging!F155)","v":0},{"$f":"IF(ISBLANK(Staging!G155),-100,+Staging!H155+-Staging!G155)","v":0},{"$f":"IF(ISBLANK(Staging!H155),-100,+Staging!I155+-Staging!H155)","v":0},{"$f":"IF(ISBLANK(Staging!I155),-100,+Staging!J155+-Staging!I155)","v":0}]
[153,{"$f":"IF(ISBLANK(Staging!D156),-100,+Staging!E156+-Staging!D156)","v":0},{"$f":"IF(ISBLANK(Staging!E156),-100,+Staging!F156+-Staging!E156)","v":0},{"$f":"IF(ISBLANK(Staging!F156),-100,+Staging!G156+-Staging!F156)","v":0},{"$f":"IF(ISBLANK(Staging!G156),-100,+Staging!H156+-Staging!G156)","v":0},{"$f":"IF(ISBLANK(Staging!H156),-100,+Staging!I156+-Staging!H156)","v":0},{"$f":"IF(ISBLANK(Staging!I156),-100,+Staging!J156+-Staging!I156)","v":0}]
[154,{"$f":"IF(ISBLANK(Staging!D157),-100,+Staging!E157+-Staging!D157)","v":0},{"$f":"IF(ISBLANK(Staging!E157),-100,+Staging!F157+-Staging!E157)","v":0},{"$f":"IF(ISBLANK(Staging!F157),-100,+Staging!G157+-Staging!F157)","v":0},{"$f":"IF(ISBLANK(Staging!G157),-100,+Staging!H157+-Staging!G157)","v":0},{"$f":"IF(ISBLANK(Staging!H157),-100,+Staging!I157+-Staging!H157)","v":0},{"$f":"IF(ISBLANK(Staging!I157),-100,+Staging!J157+-Staging!I157)","v":0}]
[155,{"$f":"IF(ISBLANK(Staging!D158),-100,+Staging!E158+-Staging!D158)","v":0},{"$f":"IF(ISBLANK(Staging!E158),-100,+Staging!F158+-Staging!E158)","v":0},{"$f":"IF(ISBLANK(Staging!F158),-100,+Staging!G158+-Staging!F158)","v":0},{"$f":"IF(ISBLANK(Staging!G158),-100,+Staging!H158+-Staging!G158)","v":0},{"$f":"IF(ISBLANK(Staging!H158),-100,+Staging!I158+-Staging!H158)","v":0},{"$f":"IF(ISBLANK(Staging!I158),-100,+Staging!J158+-Staging!I158)","v":0}]
[156,{"$f":"IF(ISBLANK(Staging!D159),-100,+Staging!E159+-Staging!D159)","v":0},{"$f":"IF(ISBLANK(Staging!E159),-100,+Staging!F159+-Staging!E159)","v":0},{"$f":"IF(ISBLANK(Staging!F159),-100,+Staging!G159+-Staging!F159)","v":0},{"$f":"IF(ISBLANK(Staging!G159),-100,+Staging!H159+-Staging!G159)","v":0},{"$f":"IF(ISBLANK(Staging!H159),-100,+Staging!I159+-Staging!H159)","v":0},{"$f":"IF(ISBLANK(Staging!I159),-100,+Staging!J159+-Staging!I159)","v":0}]
[157,{"$f":"IF(ISBLANK(Staging!D160),-100,+Staging!E160+-Staging!D160)","v":0},{"$f":"IF(ISBLANK(Staging!E160),-100,+Staging!F160+-Staging!E160)","v":0},{"$f":"IF(ISBLANK(Staging!F160),-100,+Staging!G160+-Staging!F160)","v":0},{"$f":"IF(ISBLANK(Staging!G160),-100,+Staging!H160+-Staging!G160)","v":0},{"$f":"IF(ISBLANK(Staging!H160),-100,+Staging!I160+-Staging!H160)","v":0},{"$f":"IF(ISBLANK(Staging!I160),-100,+Staging!J160+-Staging!I160)","v":0}]
[158,{"$f":"IF(ISBLANK(Staging!D161),-100,+Staging!E161+-Staging!D161)","v":0},{"$f":"IF(ISBLANK(Staging!E161),-100,+Staging!F161+-Staging!E161)","v":0},{"$f":"IF(ISBLANK(Staging!F161),-100,+Staging!G161+-Staging!F161)","v":0},{"$f":"IF(ISBLANK(Staging!G161),-100,+Staging!H161+-Staging!G161)","v":0},{"$f":"IF(ISBLANK(Staging!H161),-100,+Staging!I161+-Staging!H161)","v":0},{"$f":"IF(ISBLANK(Staging!I161),-100,+Staging!J161+-Staging!I161)","v":0}]
[159,{"$f":"IF(ISBLANK(Staging!D162),-100,+Staging!E162+-Staging!D162)","v":0},{"$f":"IF(ISBLANK(Staging!E162),-100,+Staging!F162+-Staging!E162)","v":0},{"$f":"IF(ISBLANK(Staging!F162),-100,+Staging!G162+-Staging!F162)","v":0},{"$f":"IF(ISBLANK(Staging!G162),-100,+Staging!H162+-Staging!G162)","v":0},{"$f":"IF(ISBLANK(Staging!H162),-100,+Staging!I162+-Staging!H162)","v":0},{"$f":"IF(ISBLANK(Staging!I162),-100,+Staging!J162+-Staging!I162)","v":0}]
[160,{"$f":"IF(ISBLANK(Staging!D163),-100,+Staging!E163+-Staging!D163)","v":0},{"$f":"IF(ISBLANK(Staging!E163),-100,+Staging!F163+-Staging!E163)","v":0},{"$f":"IF(ISBLANK(Staging!F163),-100,+Staging!G163+-Staging!F163)","v":0},{"$f":"IF(ISBLANK(Staging!G163),-100,+Staging!H163+-Staging!G163)","v":0},{"$f":"IF(ISBLANK(Staging!H163),-100,+Staging!I163+-Staging!H163)","v":0},{"$f":"IF(ISBLANK(Staging!I163),-100,+Staging!J163+-Staging!I163)","v":0}]
[161,{"$f":"IF(ISBLANK(Staging!D164),-100,+Staging!E164+-Staging!D164)","v":0},{"$f":"IF(ISBLANK(Staging!E164),-100,+Staging!F164+-Staging!E164)","v":0},{"$f":"IF(ISBLANK(Staging!F164),-100,+Staging!G164+-Staging!F164)","v":0},{"$f":"IF(ISBLANK(Staging!G164),-100,+Staging!H164+-Staging!G164)","v":0},{"$f":"IF(ISBLANK(Staging!H164),-100,+Staging!I164+-Staging!H164)","v":0},{"$f":"IF(ISBLANK(Staging!I164),-100,+Staging!J164+-Staging!I164)","v":0}]
[162,{"$f":"IF(ISBLANK(Staging!D165),-100,+Staging!E165+-Staging!D165)","v":0},{"$f":"IF(ISBLANK(Staging!E165),-100,+Staging!F165+-Staging!E165)","v":0},{"$f":"IF(ISBLANK(Staging!F165),-100,+Staging!G165+-Staging!F165)","v":0},{"$f":"IF(ISBLANK(Staging!G165),-100,+Staging!H165+-Staging!G165)","v":0},{"$f":"IF(ISBLANK(Staging!H165),-100,+Staging!I165+-Staging!H165)","v":0},{"$f":"IF(ISBLANK(Staging!I165),-100,+Staging!J165+-Staging!I165)","v":0}]
[163,{"$f":"IF(ISBLANK(Staging!D166),-100,+Staging!E166+-Staging!D166)","v":0},{"$f":"IF(ISBLANK(Staging!E166),-100,+Staging!F166+-Staging!E166)","v":0},{"$f":"IF(ISBLANK(Staging!F166),-100,+Staging!G166+-Staging!F166)","v":0},{"$f":"IF(ISBLANK(Staging!G166),-100,+Staging!H166+-Staging!G166)","v":0},{"$f":"IF(ISBLANK(Staging!H166),-100,+Staging!I166+-Staging!H166)","v":0},{"$f":"IF(ISBLANK(Staging!I166),-100,+Staging!J166+-Staging!I166)","v":0}]
[164,{"$f":"IF(ISBLANK(Staging!D167),-100,+Staging!E167+-Staging!D167)","v":0},{"$f":"IF(ISBLANK(Staging!E167),-100,+Staging!F167+-Staging!E167)","v":0},{"$f":"IF(ISBLANK(Staging!F167),-100,+Staging!G167+-Staging!F167)","v":0},{"$f":"IF(ISBLANK(Staging!G167),-100,+Staging!H167+-Staging!G167)","v":0},{"$f":"IF(ISBLANK(Staging!H167),-100,+Staging!I167+-Staging!H167)","v":0},{"$f":"IF(ISBLANK(Staging!I167),-100,+Staging!J167+-Staging!I167)","v":0}]
[165,{"$f":"IF(ISBLANK(Staging!D168),-100,+Staging!E168+-Staging!D168)","v":0},{"$f":"IF(ISBLANK(Staging!E168),-100,+Staging!F168+-Staging!E168)","v":0},{"$f":"IF(ISBLANK(Staging!F168),-100,+Staging!G168+-Staging!F168)","v":0},{"$f":"IF(ISBLANK(Staging!G168),-100,+Staging!H168+-Staging!G168)","v":0},{"$f":"IF(ISBLANK(Staging!H168),-100,+Staging!I168+-Staging!H168)","v":0},{"$f":"IF(ISBLANK(Staging!I168),-100,+Staging!J168+-Staging!I168)","v":0}]
[166,{"$f":"IF(ISBLANK(Staging!D169),-100,+Staging!E169+-Staging!D169)","v":0},{"$f":"IF(ISBLANK(Staging!E169),-100,+Staging!F169+-Staging!E169)","v":0},{"$f":"IF(ISBLANK(Staging!F169),-100,+Staging!G169+-Staging!F169)","v":0},{"$f":"IF(ISBLANK(Staging!G169),-100,+Staging!H169+-Staging!G169)","v":0},{"$f":"IF(ISBLANK(Staging!H169),-100,+Staging!I169+-Staging!H169)","v":0},{"$f":"IF(ISBLANK(Staging!I169),-100,+Staging!J169+-Staging!I169)","v":0}]
[167,{"$f":"IF(ISBLANK(Staging!D170),-100,+Staging!E170+-Staging!D170)","v":0},{"$f":"IF(ISBLANK(Staging!E170),-100,+Staging!F170+-Staging!E170)","v":0},{"$f":"IF(ISBLANK(Staging!F170),-100,+Staging!G170+-Staging!F170)","v":0},{"$f":"IF(ISBLANK(Staging!G170),-100,+Staging!H170+-Staging!G170)","v":0},{"$f":"IF(ISBLANK(Staging!H170),-100,+Staging!I170+-Staging!H170)","v":0},{"$f":"IF(ISBLANK(Staging!I170),-100,+Staging!J170+-Staging!I170)","v":0}]
[168,{"$f":"IF(ISBLANK(Staging!D171),-100,+Staging!E171+-Staging!D171)","v":0},{"$f":"IF(ISBLANK(Staging!E171),-100,+Staging!F171+-Staging!E171)","v":0},{"$f":"IF(ISBLANK(Staging!F171),-100,+Staging!G171+-Staging!F171)","v":0},{"$f":"IF(ISBLANK(Staging!G171),-100,+Staging!H171+-Staging!G171)","v":0},{"$f":"IF(ISBLANK(Staging!H171),-100,+Staging!I171+-Staging!H171)","v":0},{"$f":"IF(ISBLANK(Staging!I171),-100,+Staging!J171+-Staging!I171)","v":0}]
[169,{"$f":"IF(ISBLANK(Staging!D172),-100,+Staging!E172+-Staging!D172)","v":0},{"$f":"IF(ISBLANK(Staging!E172),-100,+Staging!F172+-Staging!E172)","v":0},{"$f":"IF(ISBLANK(Staging!F172),-100,+Staging!G172+-Staging!F172)","v":0},{"$f":"IF(ISBLANK(Staging!G172),-100,+Staging!H172+-Staging!G172)","v":0},{"$f":"IF(ISBLANK(Staging!H172),-100,+Staging!I172+-Staging!H172)","v":0},{"$f":"IF(ISBLANK(Staging!I172),-100,+Staging!J172+-Staging!I172)","v":0}]
[170,{"$f":"IF(ISBLANK(Staging!D173),-100,+Staging!E173+-Staging!D173)","v":0},{"$f":"IF(ISBLANK(Staging!E173),-100,+Staging!F173+-Staging!E173)","v":0},{"$f":"IF(ISBLANK(Staging!F173),-100,+Staging!G173+-Staging!F173)","v":0},{"$f":"IF(ISBLANK(Staging!G173),-100,+Staging!H173+-Staging!G173)","v":0},{"$f":"IF(ISBLANK(Staging!H173),-100,+Staging!I173+-Staging!H173)","v":0},{"$f":"IF(ISBLANK(Staging!I173),-100,+Staging!J173+-Staging!I173)","v":0}]
[171,{"$f":"IF(ISBLANK(Staging!D174),-100,+Staging!E174+-Staging!D174)","v":0},{"$f":"IF(ISBLANK(Staging!E174),-100,+Staging!F174+-Staging!E174)","v":0},{"$f":"IF(ISBLANK(Staging!F174),-100,+Staging!G174+-Staging!F174)","v":0},{"$f":"IF(ISBLANK(Staging!G174),-100,+Staging!H174+-Staging!G174)","v":0},{"$f":"IF(ISBLANK(Staging!H174),-100,+Staging!I174+-Staging!H174)","v":0},{"$f":"IF(ISBLANK(Staging!I174),-100,+Staging!J174+-Staging!I174)","v":0}]
[172,{"$f":"IF(ISBLANK(Staging!D175),-100,+Staging!E175+-Staging!D175)","v":0},{"$f":"IF(ISBLANK(Staging!E175),-100,+Staging!F175+-Staging!E175)","v":0},{"$f":"IF(ISBLANK(Staging!F175),-100,+Staging!G175+-Staging!F175)","v":0},{"$f":"IF(ISBLANK(Staging!G175),-100,+Staging!H175+-Staging!G175)","v":0},{"$f":"IF(ISBLANK(Staging!H175),-100,+Staging!I175+-Staging!H175)","v":0},{"$f":"IF(ISBLANK(Staging!I175),-100,+Staging!J175+-Staging!I175)","v":0}]
[173,{"$f":"IF(ISBLANK(Staging!D176),-100,+Staging!E176+-Staging!D176)","v":0},{"$f":"IF(ISBLANK(Staging!E176),-100,+Staging!F176+-Staging!E176)","v":0},{"$f":"IF(ISBLANK(Staging!F176),-100,+Staging!G176+-Staging!F176)","v":0},{"$f":"IF(ISBLANK(Staging!G176),-100,+Staging!H176+-Staging!G176)","v":0},{"$f":"IF(ISBLANK(Staging!H176),-100,+Staging!I176+-Staging!H176)","v":0},{"$f":"IF(ISBLANK(Staging!I176),-100,+Staging!J176+-Staging!I176)","v":0}]
[174,{"$f":"IF(ISBLANK(Staging!D177),-100,+Staging!E177+-Staging!D177)","v":0},{"$f":"IF(ISBLANK(Staging!E177),-100,+Staging!F177+-Staging!E177)","v":0},{"$f":"IF(ISBLANK(Staging!F177),-100,+Staging!G177+-Staging!F177)","v":0},{"$f":"IF(ISBLANK(Staging!G177),-100,+Staging!H177+-Staging!G177)","v":0},{"$f":"IF(ISBLANK(Staging!H177),-100,+Staging!I177+-Staging!H177)","v":0},{"$f":"IF(ISBLANK(Staging!I177),-100,+Staging!J177+-Staging!I177)","v":0}]
[175,{"$f":"IF(ISBLANK(Staging!D178),-100,+Staging!E178+-Staging!D178)","v":0},{"$f":"IF(ISBLANK(Staging!E178),-100,+Staging!F178+-Staging!E178)","v":0},{"$f":"IF(ISBLANK(Staging!F178),-100,+Staging!G178+-Staging!F178)","v":0},{"$f":"IF(ISBLANK(Staging!G178),-100,+Staging!H178+-Staging!G178)","v":0},{"$f":"IF(ISBLANK(Staging!H178),-100,+Staging!I178+-Staging!H178)","v":0},{"$f":"IF(ISBLANK(Staging!I178),-100,+Staging!J178+-Staging!I178)","v":0}]
[176,{"$f":"IF(ISBLANK(Staging!D179),-100,+Staging!E179+-Staging!D179)","v":0},{"$f":"IF(ISBLANK(Staging!E179),-100,+Staging!F179+-Staging!E179)","v":0},{"$f":"IF(ISBLANK(Staging!F179),-100,+Staging!G179+-Staging!F179)","v":0},{"$f":"IF(ISBLANK(Staging!G179),-100,+Staging!H179+-Staging!G179)","v":0},{"$f":"IF(ISBLANK(Staging!H179),-100,+Staging!I179+-Staging!H179)","v":0},{"$f":"IF(ISBLANK(Staging!I179),-100,+Staging!J179+-Staging!I179)","v":0}]
[177,{"$f":"IF(ISBLANK(Staging!D180),-100,+Staging!E180+-Staging!D180)","v":0},{"$f":"IF(ISBLANK(Staging!E180),-100,+Staging!F180+-Staging!E180)","v":0},{"$f":"IF(ISBLANK(Staging!F180),-100,+Staging!G180+-Staging!F180)","v":0},{"$f":"IF(ISBLANK(Staging!G180),-100,+Staging!H180+-Staging!G180)","v":0},{"$f":"IF(ISBLANK(Staging!H180),-100,+Staging!I180+-Staging!H180)","v":0},{"$f":"IF(ISBLANK(Staging!I180),-100,+Staging!J180+-Staging!I180)","v":0}]
[178,{"$f":"IF(ISBLANK(Staging!D181),-100,+Staging!E181+-Staging!D181)","v":0},{"$f":"IF(ISBLANK(Staging!E181),-100,+Staging!F181+-Staging!E181)","v":0},{"$f":"IF(ISBLANK(Staging!F181),-100,+Staging!G181+-Staging!F181)","v":0},{"$f":"IF(ISBLANK(Staging!G181),-100,+Staging!H181+-Staging!G181)","v":0},{"$f":"IF(ISBLANK(Staging!H181),-100,+Staging!I181+-Staging!H181)","v":0},{"$f":"IF(ISBLANK(Staging!I181),-100,+Staging!J181+-Staging!I181)","v":0}]
[179,{"$f":"IF(ISBLANK(Staging!D182),-100,+Staging!E182+-Staging!D182)","v":0},{"$f":"IF(ISBLANK(Staging!E182),-100,+Staging!F182+-Staging!E182)","v":0},{"$f":"IF(ISBLANK(Staging!F182),-100,+Staging!G182+-Staging!F182)","v":0},{"$f":"IF(ISBLANK(Staging!G182),-100,+Staging!H182+-Staging!G182)","v":0},{"$f":"IF(ISBLANK(Staging!H182),-100,+Staging!I182+-Staging!H182)","v":0},{"$f":"IF(ISBLANK(Staging!I182),-100,+Staging!J182+-Staging!I182)","v":0}]
[180,{"$f":"IF(ISBLANK(Staging!D183),-100,+Staging!E183+-Staging!D183)","v":0},{"$f":"IF(ISBLANK(Staging!E183),-100,+Staging!F183+-Staging!E183)","v":0},{"$f":"IF(ISBLANK(Staging!F183),-100,+Staging!G183+-Staging!F183)","v":0},{"$f":"IF(ISBLANK(Staging!G183),-100,+Staging!H183+-Staging!G183)","v":0},{"$f":"IF(ISBLANK(Staging!H183),-100,+Staging!I183+-Staging!H183)","v":0},{"$f":"IF(ISBLANK(Staging!I183),-100,+Staging!J183+-Staging!I183)","v":0}]
[181,{"$f":"IF(ISBLANK(Staging!D184),-100,+Staging!E184+-Staging!D184)","v":0},{"$f":"IF(ISBLANK(Staging!E184),-100,+Staging!F184+-Staging!E184)","v":0},{"$f":"IF(ISBLANK(Staging!F184),-100,+Staging!G184+-Staging!F184)","v":0},{"$f":"IF(ISBLANK(Staging!G184),-100,+Staging!H184+-Staging!G184)","v":0},{"$f":"IF(ISBLANK(Staging!H184),-100,+Staging!I184+-Staging!H184)","v":0},{"$f":"IF(ISBLANK(Staging!I184),-100,+Staging!J184+-Staging!I184)","v":0}]
[182,{"$f":"IF(ISBLANK(Staging!D185),-100,+Staging!E185+-Staging!D185)","v":0},{"$f":"IF(ISBLANK(Staging!E185),-100,+Staging!F185+-Staging!E185)","v":0},{"$f":"IF(ISBLANK(Staging!F185),-100,+Staging!G185+-Staging!F185)","v":0},{"$f":"IF(ISBLANK(Staging!G185),-100,+Staging!H185+-Staging!G185)","v":0},{"$f":"IF(ISBLANK(Staging!H185),-100,+Staging!I185+-Staging!H185)","v":0},{"$f":"IF(ISBLANK(Staging!I185),-100,+Staging!J185+-Staging!I185)","v":0}]
[183,{"$f":"IF(ISBLANK(Staging!D186),-100,+Staging!E186+-Staging!D186)","v":0},{"$f":"IF(ISBLANK(Staging!E186),-100,+Staging!F186+-Staging!E186)","v":0},{"$f":"IF(ISBLANK(Staging!F186),-100,+Staging!G186+-Staging!F186)","v":0},{"$f":"IF(ISBLANK(Staging!G186),-100,+Staging!H186+-Staging!G186)","v":0},{"$f":"IF(ISBLANK(Staging!H186),-100,+Staging!I186+-Staging!H186)","v":0},{"$f":"IF(ISBLANK(Staging!I186),-100,+Staging!J186+-Staging!I186)","v":0}]
[184,{"$f":"IF(ISBLANK(Staging!D187),-100,+Staging!E187+-Staging!D187)","v":0},{"$f":"IF(ISBLANK(Staging!E187),-100,+Staging!F187+-Staging!E187)","v":0},{"$f":"IF(ISBLANK(Staging!F187),-100,+Staging!G187+-Staging!F187)","v":0},{"$f":"IF(ISBLANK(Staging!G187),-100,+Staging!H187+-Staging!G187)","v":0},{"$f":"IF(ISBLANK(Staging!H187),-100,+Staging!I187+-Staging!H187)","v":0},{"$f":"IF(ISBLANK(Staging!I187),-100,+Staging!J187+-Staging!I187)","v":0}]
[185,{"$f":"IF(ISBLANK(Staging!D188),-100,+Staging!E188+-Staging!D188)","v":0},{"$f":"IF(ISBLANK(Staging!E188),-100,+Staging!F188+-Staging!E188)","v":0},{"$f":"IF(ISBLANK(Staging!F188),-100,+Staging!G188+-Staging!F188)","v":0},{"$f":"IF(ISBLANK(Staging!G188),-100,+Staging!H188+-Staging!G188)","v":0},{"$f":"IF(ISBLANK(Staging!H188),-100,+Staging!I188+-Staging!H188)","v":0},{"$f":"IF(ISBLANK(Staging!I188),-100,+Staging!J188+-Staging!I188)","v":0}]
[186,{"$f":"IF(ISBLANK(Staging!D189),-100,+Staging!E189+-Staging!D189)","v":0},{"$f":"IF(ISBLANK(Staging!E189),-100,+Staging!F189+-Staging!E189)","v":0},{"$f":"IF(ISBLANK(Staging!F189),-100,+Staging!G189+-Staging!F189)","v":0},{"$f":"IF(ISBLANK(Staging!G189),-100,+Staging!H189+-Staging!G189)","v":0},{"$f":"IF(ISBLANK(Staging!H189),-100,+Staging!I189+-Staging!H189)","v":0},{"$f":"IF(ISBLANK(Staging!I189),-100,+Staging!J189+-Staging!I189)","v":0}]
[187,{"$f":"IF(ISBLANK(Staging!D190),-100,+Staging!E190+-Staging!D190)","v":0},{"$f":"IF(ISBLANK(Staging!E190),-100,+Staging!F190+-Staging!E190)","v":0},{"$f":"IF(ISBLANK(Staging!F190),-100,+Staging!G190+-Staging!F190)","v":0},{"$f":"IF(ISBLANK(Staging!G190),-100,+Staging!H190+-Staging!G190)","v":0},{"$f":"IF(ISBLANK(Staging!H190),-100,+Staging!I190+-Staging!H190)","v":0},{"$f":"IF(ISBLANK(Staging!I190),-100,+Staging!J190+-Staging!I190)","v":0}]
[188,{"$f":"IF(ISBLANK(Staging!D191),-100,+Staging!E191+-Staging!D191)","v":0},{"$f":"IF(ISBLANK(Staging!E191),-100,+Staging!F191+-Staging!E191)","v":0},{"$f":"IF(ISBLANK(Staging!F191),-100,+Staging!G191+-Staging!F191)","v":0},{"$f":"IF(ISBLANK(Staging!G191),-100,+Staging!H191+-Staging!G191)","v":0},{"$f":"IF(ISBLANK(Staging!H191),-100,+Staging!I191+-Staging!H191)","v":0},{"$f":"IF(ISBLANK(Staging!I191),-100,+Staging!J191+-Staging!I191)","v":0}]
[189,{"$f":"IF(ISBLANK(Staging!D192),-100,+Staging!E192+-Staging!D192)","v":0},{"$f":"IF(ISBLANK(Staging!E192),-100,+Staging!F192+-Staging!E192)","v":0},{"$f":"IF(ISBLANK(Staging!F192),-100,+Staging!G192+-Staging!F192)","v":0},{"$f":"IF(ISBLANK(Staging!G192),-100,+Staging!H192+-Staging!G192)","v":0},{"$f":"IF(ISBLANK(Staging!H192),-100,+Staging!I192+-Staging!H192)","v":0},{"$f":"IF(ISBLANK(Staging!I192),-100,+Staging!J192+-Staging!I192)","v":0}]
[190,{"$f":"IF(ISBLANK(Staging!D193),-100,+Staging!E193+-Staging!D193)","v":0},{"$f":"IF(ISBLANK(Staging!E193),-100,+Staging!F193+-Staging!E193)","v":0},{"$f":"IF(ISBLANK(Staging!F193),-100,+Staging!G193+-Staging!F193)","v":0},{"$f":"IF(ISBLANK(Staging!G193),-100,+Staging!H193+-Staging!G193)","v":0},{"$f":"IF(ISBLANK(Staging!H193),-100,+Staging!I193+-Staging!H193)","v":0},{"$f":"IF(ISBLANK(Staging!I193),-100,+Staging!J193+-Staging!I193)","v":0}]
[191,{"$f":"IF(ISBLANK(Staging!D194),-100,+Staging!E194+-Staging!D194)","v":0},{"$f":"IF(ISBLANK(Staging!E194),-100,+Staging!F194+-Staging!E194)","v":0},{"$f":"IF(ISBLANK(Staging!F194),-100,+Staging!G194+-Staging!F194)","v":0},{"$f":"IF(ISBLANK(Staging!G194),-100,+Staging!H194+-Staging!G194)","v":0},{"$f":"IF(ISBLANK(Staging!H194),-100,+Staging!I194+-Staging!H194)","v":0},{"$f":"IF(ISBLANK(Staging!I194),-100,+Staging!J194+-Staging!I194)","v":0}]
[192,{"$f":"IF(ISBLANK(Staging!D195),-100,+Staging!E195+-Staging!D195)","v":0},{"$f":"IF(ISBLANK(Staging!E195),-100,+Staging!F195+-Staging!E195)","v":0},{"$f":"IF(ISBLANK(Staging!F195),-100,+Staging!G195+-Staging!F195)","v":0},{"$f":"IF(ISBLANK(Staging!G195),-100,+Staging!H195+-Staging!G195)","v":0},{"$f":"IF(ISBLANK(Staging!H195),-100,+Staging!I195+-Staging!H195)","v":0},{"$f":"IF(ISBLANK(Staging!I195),-100,+Staging!J195+-Staging!I195)","v":0}]
[193,{"$f":"IF(ISBLANK(Staging!D196),-100,+Staging!E196+-Staging!D196)","v":0},{"$f":"IF(ISBLANK(Staging!E196),-100,+Staging!F196+-Staging!E196)","v":0},{"$f":"IF(ISBLANK(Staging!F196),-100,+Staging!G196+-Staging!F196)","v":0},{"$f":"IF(ISBLANK(Staging!G196),-100,+Staging!H196+-Staging!G196)","v":0},{"$f":"IF(ISBLANK(Staging!H196),-100,+Staging!I196+-Staging!H196)","v":0},{"$f":"IF(ISBLANK(Staging!I196),-100,+Staging!J196+-Staging!I196)","v":0}]
[194,{"$f":"IF(ISBLANK(Staging!D197),-100,+Staging!E197+-Staging!D197)","v":0},{"$f":"IF(ISBLANK(Staging!E197),-100,+Staging!F197+-Staging!E197)","v":0},{"$f":"IF(ISBLANK(Staging!F197),-100,+Staging!G197+-Staging!F197)","v":0},{"$f":"IF(ISBLANK(Staging!G197),-100,+Staging!H197+-Staging!G197)","v":0},{"$f":"IF(ISBLANK(Staging!H197),-100,+Staging!I197+-Staging!H197)","v":0},{"$f":"IF(ISBLANK(Staging!I197),-100,+Staging!J197+-Staging!I197)","v":0}]
[195,{"$f":"IF(ISBLANK(Staging!D198),-100,+Staging!E198+-Staging!D198)","v":0},{"$f":"IF(ISBLANK(Staging!E198),-100,+Staging!F198+-Staging!E198)","v":0},{"$f":"IF(ISBLANK(Staging!F198),-100,+Staging!G198+-Staging!F198)","v":0},{"$f":"IF(ISBLANK(Staging!G198),-100,+Staging!H198+-Staging!G198)","v":0},{"$f":"IF(ISBLANK(Staging!H198),-100,+Staging!I198+-Staging!H198)","v":0},{"$f":"IF(ISBLANK(Staging!I198),-100,+Staging!J198+-Staging!I198)","v":0}]
[196,{"$f":"IF(ISBLANK(Staging!D199),-100,+Staging!E199+-Staging!D199)","v":0},{"$f":"IF(ISBLANK(Staging!E199),-100,+Staging!F199+-Staging!E199)","v":0},{"$f":"IF(ISBLANK(Staging!F199),-100,+Staging!G199+-Staging!F199)","v":0},{"$f":"IF(ISBLANK(Staging!G199),-100,+Staging!H199+-Staging!G199)","v":0},{"$f":"IF(ISBLANK(Staging!H199),-100,+Staging!I199+-Staging!H199)","v":0},{"$f":"IF(ISBLANK(Staging!I199),-100,+Staging!J199+-Staging!I199)","v":0}]
[197,{"$f":"IF(ISBLANK(Staging!D200),-100,+Staging!E200+-Staging!D200)","v":0},{"$f":"IF(ISBLANK(Staging!E200),-100,+Staging!F200+-Staging!E200)","v":0},{"$f":"IF(ISBLANK(Staging!F200),-100,+Staging!G200+-Staging!F200)","v":0},{"$f":"IF(ISBLANK(Staging!G200),-100,+Staging!H200+-Staging!G200)","v":0},{"$f":"IF(ISBLANK(Staging!H200),-100,+Staging!I200+-Staging!H200)","v":0},{"$f":"IF(ISBLANK(Staging!I200),-100,+Staging!J200+-Staging!I200)","v":0}]
[198,{"$f":"IF(ISBLANK(Staging!D201),-100,+Staging!E201+-Staging!D201)","v":0},{"$f":"IF(ISBLANK(Staging!E201),-100,+Staging!F201+-Staging!E201)","v":0},{"$f":"IF(ISBLANK(Staging!F201),-100,+Staging!G201+-Staging!F201)","v":0},{"$f":"IF(ISBLANK(Staging!G201),-100,+Staging!H201+-Staging!G201)","v":0},{"$f":"IF(ISBLANK(Staging!H201),-100,+Staging!I201+-Staging!H201)","v":0},{"$f":"IF(ISBLANK(Staging!I201),-100,+Staging!J201+-Staging!I201)","v":0}]
[199,{"$f":"IF(ISBLANK(Staging!D202),-100,+Staging!E202+-Staging!D202)","v":0},{"$f":"IF(ISBLANK(Staging!E202),-100,+Staging!F202+-Staging!E202)","v":0},{"$f":"IF(ISBLANK(Staging!F202),-100,+Staging!G202+-Staging!F202)","v":0},{"$f":"IF(ISBLANK(Staging!G202),-100,+Staging!H202+-Staging!G202)","v":0},{"$f":"IF(ISBLANK(Staging!H202),-100,+Staging!I202+-Staging!H202)","v":0},{"$f":"IF(ISBLANK(Staging!I202),-100,+Staging!J202+-Staging!I202)","v":0}]
[200,{"$f":"IF(ISBLANK(Staging!D203),-100,+Staging!E203+-Staging!D203)","v":0},{"$f":"IF(ISBLANK(Staging!E203),-100,+Staging!F203+-Staging!E203)","v":0},{"$f":"IF(ISBLANK(Staging!F203),-100,+Staging!G203+-Staging!F203)","v":0},{"$f":"IF(ISBLANK(Staging!G203),-100,+Staging!H203+-Staging!G203)","v":0},{"$f":"IF(ISBLANK(Staging!H203),-100,+Staging!I203+-Staging!H203)","v":0},{"$f":"IF(ISBLANK(Staging!I203),-100,+Staging!J203+-Staging!I203)","v":0}]
[201,{"$f":"IF(ISBLANK(Staging!D204),-100,+Staging!E204+-Staging!D204)","v":0},{"$f":"IF(ISBLANK(Staging!E204),-100,+Staging!F204+-Staging!E204)","v":0},{"$f":"IF(ISBLANK(Staging!F204),-100,+Staging!G204+-Staging!F204)","v":0},{"$f":"IF(ISBLANK(Staging!G204),-100,+Staging!H204+-Staging!G204)","v":0},{"$f":"IF(ISBLANK(Staging!H204),-100,+Staging!I204+-Staging!H204)","v":0},{"$f":"IF(ISBLANK(Staging!I204),-100,+Staging!J204+-Staging!I204)","v":0}]
[202,{"$f":"IF(ISBLANK(Staging!D205),-100,+Staging!E205+-Staging!D205)","v":0},{"$f":"IF(ISBLANK(Staging!E205),-100,+Staging!F205+-Staging!E205)","v":0},{"$f":"IF(ISBLANK(Staging!F205),-100,+Staging!G205+-Staging!F205)","v":0},{"$f":"IF(ISBLANK(Staging!G205),-100,+Staging!H205+-Staging!G205)","v":0},{"$f":"IF(ISBLANK(Staging!H205),-100,+Staging!I205+-Staging!H205)","v":0},{"$f":"IF(ISBLANK(Staging!I205),-100,+Staging!J205+-Staging!I205)","v":0}]
[203,{"$f":"IF(ISBLANK(Staging!D206),-100,+Staging!E206+-Staging!D206)","v":0},{"$f":"IF(ISBLANK(Staging!E206),-100,+Staging!F206+-Staging!E206)","v":0},{"$f":"IF(ISBLANK(Staging!F206),-100,+Staging!G206+-Staging!F206)","v":0},{"$f":"IF(ISBLANK(Staging!G206),-100,+Staging!H206+-Staging!G206)","v":0},{"$f":"IF(ISBLANK(Staging!H206),-100,+Staging!I206+-Staging!H206)","v":0},{"$f":"IF(ISBLANK(Staging!I206),-100,+Staging!J206+-Staging!I206)","v":0}]
[204,{"$f":"IF(ISBLANK(Staging!D207),-100,+Staging!E207+-Staging!D207)","v":0},{"$f":"IF(ISBLANK(Staging!E207),-100,+Staging!F207+-Staging!E207)","v":0},{"$f":"IF(ISBLANK(Staging!F207),-100,+Staging!G207+-Staging!F207)","v":0},{"$f":"IF(ISBLANK(Staging!G207),-100,+Staging!H207+-Staging!G207)","v":0},{"$f":"IF(ISBLANK(Staging!H207),-100,+Staging!I207+-Staging!H207)","v":0},{"$f":"IF(ISBLANK(Staging!I207),-100,+Staging!J207+-Staging!I207)","v":0}]
[205,{"$f":"IF(ISBLANK(Staging!D208),-100,+Staging!E208+-Staging!D208)","v":0},{"$f":"IF(ISBLANK(Staging!E208),-100,+Staging!F208+-Staging!E208)","v":0},{"$f":"IF(ISBLANK(Staging!F208),-100,+Staging!G208+-Staging!F208)","v":0},{"$f":"IF(ISBLANK(Staging!G208),-100,+Staging!H208+-Staging!G208)","v":0},{"$f":"IF(ISBLANK(Staging!H208),-100,+Staging!I208+-Staging!H208)","v":0},{"$f":"IF(ISBLANK(Staging!I208),-100,+Staging!J208+-Staging!I208)","v":0}]
[206,{"$f":"IF(ISBLANK(Staging!D209),-100,+Staging!E209+-Staging!D209)","v":0},{"$f":"IF(ISBLANK(Staging!E209),-100,+Staging!F209+-Staging!E209)","v":0},{"$f":"IF(ISBLANK(Staging!F209),-100,+Staging!G209+-Staging!F209)","v":0},{"$f":"IF(ISBLANK(Staging!G209),-100,+Staging!H209+-Staging!G209)","v":0},{"$f":"IF(ISBLANK(Staging!H209),-100,+Staging!I209+-Staging!H209)","v":0},{"$f":"IF(ISBLANK(Staging!I209),-100,+Staging!J209+-Staging!I209)","v":0}]
[207,{"$f":"IF(ISBLANK(Staging!D210),-100,+Staging!E210+-Staging!D210)","v":0},{"$f":"IF(ISBLANK(Staging!E210),-100,+Staging!F210+-Staging!E210)","v":0},{"$f":"IF(ISBLANK(Staging!F210),-100,+Staging!G210+-Staging!F210)","v":0},{"$f":"IF(ISBLANK(Staging!G210),-100,+Staging!H210+-Staging!G210)","v":0},{"$f":"IF(ISBLANK(Staging!H210),-100,+Staging!I210+-Staging!H210)","v":0},{"$f":"IF(ISBLANK(Staging!I210),-100,+Staging!J210+-Staging!I210)","v":0}]
[208,{"$f":"IF(ISBLANK(Staging!D211),-100,+Staging!E211+-Staging!D211)","v":0},{"$f":"IF(ISBLANK(Staging!E211),-100,+Staging!F211+-Staging!E211)","v":0},{"$f":"IF(ISBLANK(Staging!F211),-100,+Staging!G211+-Staging!F211)","v":0},{"$f":"IF(ISBLANK(Staging!G211),-100,+Staging!H211+-Staging!G211)","v":0},{"$f":"IF(ISBLANK(Staging!H211),-100,+Staging!I211+-Staging!H211)","v":0},{"$f":"IF(ISBLANK(Staging!I211),-100,+Staging!J211+-Staging!I211)","v":0}]
[209,{"$f":"IF(ISBLANK(Staging!D212),-100,+Staging!E212+-Staging!D212)","v":0},{"$f":"IF(ISBLANK(Staging!E212),-100,+Staging!F212+-Staging!E212)","v":0},{"$f":"IF(ISBLANK(Staging!F212),-100,+Staging!G212+-Staging!F212)","v":0},{"$f":"IF(ISBLANK(Staging!G212),-100,+Staging!H212+-Staging!G212)","v":0},{"$f":"IF(ISBLANK(Staging!H212),-100,+Staging!I212+-Staging!H212)","v":0},{"$f":"IF(ISBLANK(Staging!I212),-100,+Staging!J212+-Staging!I212)","v":0}]
[210,{"$f":"IF(ISBLANK(Staging!D213),-100,+Staging!E213+-Staging!D213)","v":0},{"$f":"IF(ISBLANK(Staging!E213),-100,+Staging!F213+-Staging!E213)","v":0},{"$f":"IF(ISBLANK(Staging!F213),-100,+Staging!G213+-Staging!F213)","v":0},{"$f":"IF(ISBLANK(Staging!G213),-100,+Staging!H213+-Staging!G213)","v":0},{"$f":"IF(ISBLANK(Staging!H213),-100,+Staging!I213+-Staging!H213)","v":0},{"$f":"IF(ISBLANK(Staging!I213),-100,+Staging!J213+-Staging!I213)","v":0}]
[211,{"$f":"IF(ISBLANK(Staging!D214),-100,+Staging!E214+-Staging!D214)","v":0},{"$f":"IF(ISBLANK(Staging!E214),-100,+Staging!F214+-Staging!E214)","v":0},{"$f":"IF(ISBLANK(Staging!F214),-100,+Staging!G214+-Staging!F214)","v":0},{"$f":"IF(ISBLANK(Staging!G214),-100,+Staging!H214+-Staging!G214)","v":0},{"$f":"IF(ISBLANK(Staging!H214),-100,+Staging!I214+-Staging!H214)","v":0},{"$f":"IF(ISBLANK(Staging!I214),-100,+Staging!J214+-Staging!I214)","v":0}]
[212,{"$f":"IF(ISBLANK(Staging!D215),-100,+Staging!E215+-Staging!D215)","v":0},{"$f":"IF(ISBLANK(Staging!E215),-100,+Staging!F215+-Staging!E215)","v":0},{"$f":"IF(ISBLANK(Staging!F215),-100,+Staging!G215+-Staging!F215)","v":0},{"$f":"IF(ISBLANK(Staging!G215),-100,+Staging!H215+-Staging!G215)","v":0},{"$f":"IF(ISBLANK(Staging!H215),-100,+Staging!I215+-Staging!H215)","v":0},{"$f":"IF(ISBLANK(Staging!I215),-100,+Staging!J215+-Staging!I215)","v":0}]
[213,{"$f":"IF(ISBLANK(Staging!D216),-100,+Staging!E216+-Staging!D216)","v":0},{"$f":"IF(ISBLANK(Staging!E216),-100,+Staging!F216+-Staging!E216)","v":0},{"$f":"IF(ISBLANK(Staging!F216),-100,+Staging!G216+-Staging!F216)","v":0},{"$f":"IF(ISBLANK(Staging!G216),-100,+Staging!H216+-Staging!G216)","v":0},{"$f":"IF(ISBLANK(Staging!H216),-100,+Staging!I216+-Staging!H216)","v":0},{"$f":"IF(ISBLANK(Staging!I216),-100,+Staging!J216+-Staging!I216)","v":0}]
[214,{"$f":"IF(ISBLANK(Staging!D217),-100,+Staging!E217+-Staging!D217)","v":0},{"$f":"IF(ISBLANK(Staging!E217),-100,+Staging!F217+-Staging!E217)","v":0},{"$f":"IF(ISBLANK(Staging!F217),-100,+Staging!G217+-Staging!F217)","v":0},{"$f":"IF(ISBLANK(Staging!G217),-100,+Staging!H217+-Staging!G217)","v":0},{"$f":"IF(ISBLANK(Staging!H217),-100,+Staging!I217+-Staging!H217)","v":0},{"$f":"IF(ISBLANK(Staging!I217),-100,+Staging!J217+-Staging!I217)","v":0}]
[215,{"$f":"IF(ISBLANK(Staging!D218),-100,+Staging!E218+-Staging!D218)","v":0},{"$f":"IF(ISBLANK(Staging!E218),-100,+Staging!F218+-Staging!E218)","v":0},{"$f":"IF(ISBLANK(Staging!F218),-100,+Staging!G218+-Staging!F218)","v":0},{"$f":"IF(ISBLANK(Staging!G218),-100,+Staging!H218+-Staging!G218)","v":0},{"$f":"IF(ISBLANK(Staging!H218),-100,+Staging!I218+-Staging!H218)","v":0},{"$f":"IF(ISBLANK(Staging!I218),-100,+Staging!J218+-Staging!I218)","v":0}]
[216,{"$f":"IF(ISBLANK(Staging!D219),-100,+Staging!E219+-Staging!D219)","v":0},{"$f":"IF(ISBLANK(Staging!E219),-100,+Staging!F219+-Staging!E219)","v":0},{"$f":"IF(ISBLANK(Staging!F219),-100,+Staging!G219+-Staging!F219)","v":0},{"$f":"IF(ISBLANK(Staging!G219),-100,+Staging!H219+-Staging!G219)","v":0},{"$f":"IF(ISBLANK(Staging!H219),-100,+Staging!I219+-Staging!H219)","v":0},{"$f":"IF(ISBLANK(Staging!I219),-100,+Staging!J219+-Staging!I219)","v":0}]
[217,{"$f":"IF(ISBLANK(Staging!D220),-100,+Staging!E220+-Staging!D220)","v":0},{"$f":"IF(ISBLANK(Staging!E220),-100,+Staging!F220+-Staging!E220)","v":0},{"$f":"IF(ISBLANK(Staging!F220),-100,+Staging!G220+-Staging!F220)","v":0},{"$f":"IF(ISBLANK(Staging!G220),-100,+Staging!H220+-Staging!G220)","v":0},{"$f":"IF(ISBLANK(Staging!H220),-100,+Staging!I220+-Staging!H220)","v":0},{"$f":"IF(ISBLANK(Staging!I220),-100,+Staging!J220+-Staging!I220)","v":0}]
[218,{"$f":"IF(ISBLANK(Staging!D221),-100,+Staging!E221+-Staging!D221)","v":0},{"$f":"IF(ISBLANK(Staging!E221),-100,+Staging!F221+-Staging!E221)","v":0},{"$f":"IF(ISBLANK(Staging!F221),-100,+Staging!G221+-Staging!F221)","v":0},{"$f":"IF(ISBLANK(Staging!G221),-100,+Staging!H221+-Staging!G221)","v":0},{"$f":"IF(ISBLANK(Staging!H221),-100,+Staging!I221+-Staging!H221)","v":0},{"$f":"IF(ISBLANK(Staging!I221),-100,+Staging!J221+-Staging!I221)","v":0}]
[219,{"$f":"IF(ISBLANK(Staging!D222),-100,+Staging!E222+-Staging!D222)","v":0},{"$f":"IF(ISBLANK(Staging!E222),-100,+Staging!F222+-Staging!E222)","v":0},{"$f":"IF(ISBLANK(Staging!F222),-100,+Staging!G222+-Staging!F222)","v":0},{"$f":"IF(ISBLANK(Staging!G222),-100,+Staging!H222+-Staging!G222)","v":0},{"$f":"IF(ISBLANK(Staging!H222),-100,+Staging!I222+-Staging!H222)","v":0},{"$f":"IF(ISBLANK(Staging!I222),-100,+Staging!J222+-Staging!I222)","v":0}]
[220,{"$f":"IF(ISBLANK(Staging!D223),-100,+Staging!E223+-Staging!D223)","v":0},{"$f":"IF(ISBLANK(Staging!E223),-100,+Staging!F223+-Staging!E223)","v":0},{"$f":"IF(ISBLANK(Staging!F223),-100,+Staging!G223+-Staging!F223)","v":0},{"$f":"IF(ISBLANK(Staging!G223),-100,+Staging!H223+-Staging!G223)","v":0},{"$f":"IF(ISBLANK(Staging!H223),-100,+Staging!I223+-Staging!H223)","v":0},{"$f":"IF(ISBLANK(Staging!I223),-100,+Staging!J223+-Staging!I223)","v":0}]
[221,{"$f":"IF(ISBLANK(Staging!D224),-100,+Staging!E224+-Staging!D224)","v":0},{"$f":"IF(ISBLANK(Staging!E224),-100,+Staging!F224+-Staging!E224)","v":0},{"$f":"IF(ISBLANK(Staging!F224),-100,+Staging!G224+-Staging!F224)","v":0},{"$f":"IF(ISBLANK(Staging!G224),-100,+Staging!H224+-Staging!G224)","v":0},{"$f":"IF(ISBLANK(Staging!H224),-100,+Staging!I224+-Staging!H224)","v":0},{"$f":"IF(ISBLANK(Staging!I224),-100,+Staging!J224+-Staging!I224)","v":0}]
[222,{"$f":"IF(ISBLANK(Staging!D225),-100,+Staging!E225+-Staging!D225)","v":0},{"$f":"IF(ISBLANK(Staging!E225),-100,+Staging!F225+-Staging!E225)","v":0},{"$f":"IF(ISBLANK(Staging!F225),-100,+Staging!G225+-Staging!F225)","v":0},{"$f":"IF(ISBLANK(Staging!G225),-100,+Staging!H225+-Staging!G225)","v":0},{"$f":"IF(ISBLANK(Staging!H225),-100,+Staging!I225+-Staging!H225)","v":0},{"$f":"IF(ISBLANK(Staging!I225),-100,+Staging!J225+-Staging!I225)","v":0}]
[223,{"$f":"IF(ISBLANK(Staging!D226),-100,+Staging!E226+-Staging!D226)","v":0},{"$f":"IF(ISBLANK(Staging!E226),-100,+Staging!F226+-Staging!E226)","v":0},{"$f":"IF(ISBLANK(Staging!F226),-100,+Staging!G226+-Staging!F226)","v":0},{"$f":"IF(ISBLANK(Staging!G226),-100,+Staging!H226+-Staging!G226)","v":0},{"$f":"IF(ISBLANK(Staging!H226),-100,+Staging!I226+-Staging!H226)","v":0},{"$f":"IF(ISBLANK(Staging!I226),-100,+Staging!J226+-Staging!I226)","v":0}]
[224,{"$f":"IF(ISBLANK(Staging!D227),-100,+Staging!E227+-Staging!D227)","v":0},{"$f":"IF(ISBLANK(Staging!E227),-100,+Staging!F227+-Staging!E227)","v":0},{"$f":"IF(ISBLANK(Staging!F227),-100,+Staging!G227+-Staging!F227)","v":0},{"$f":"IF(ISBLANK(Staging!G227),-100,+Staging!H227+-Staging!G227)","v":0},{"$f":"IF(ISBLANK(Staging!H227),-100,+Staging!I227+-Staging!H227)","v":0},{"$f":"IF(ISBLANK(Staging!I227),-100,+Staging!J227+-Staging!I227)","v":0}]
[225,{"$f":"IF(ISBLANK(Staging!D228),-100,+Staging!E228+-Staging!D228)","v":0},{"$f":"IF(ISBLANK(Staging!E228),-100,+Staging!F228+-Staging!E228)","v":0},{"$f":"IF(ISBLANK(Staging!F228),-100,+Staging!G228+-Staging!F228)","v":0},{"$f":"IF(ISBLANK(Staging!G228),-100,+Staging!H228+-Staging!G228)","v":0},{"$f":"IF(ISBLANK(Staging!H228),-100,+Staging!I228+-Staging!H228)","v":0},{"$f":"IF(ISBLANK(Staging!I228),-100,+Staging!J228+-Staging!I228)","v":0}]
[226,{"$f":"IF(ISBLANK(Staging!D229),-100,+Staging!E229+-Staging!D229)","v":0},{"$f":"IF(ISBLANK(Staging!E229),-100,+Staging!F229+-Staging!E229)","v":0},{"$f":"IF(ISBLANK(Staging!F229),-100,+Staging!G229+-Staging!F229)","v":0},{"$f":"IF(ISBLANK(Staging!G229),-100,+Staging!H229+-Staging!G229)","v":0},{"$f":"IF(ISBLANK(Staging!H229),-100,+Staging!I229+-Staging!H229)","v":0},{"$f":"IF(ISBLANK(Staging!I229),-100,+Staging!J229+-Staging!I229)","v":0}]
[227,{"$f":"IF(ISBLANK(Staging!D230),-100,+Staging!E230+-Staging!D230)","v":0},{"$f":"IF(ISBLANK(Staging!E230),-100,+Staging!F230+-Staging!E230)","v":0},{"$f":"IF(ISBLANK(Staging!F230),-100,+Staging!G230+-Staging!F230)","v":0},{"$f":"IF(ISBLANK(Staging!G230),-100,+Staging!H230+-Staging!G230)","v":0},{"$f":"IF(ISBLANK(Staging!H230),-100,+Staging!I230+-Staging!H230)","v":0},{"$f":"IF(ISBLANK(Staging!I230),-100,+Staging!J230+-Staging!I230)","v":0}]
[228,{"$f":"IF(ISBLANK(Staging!D231),-100,+Staging!E231+-Staging!D231)","v":0},{"$f":"IF(ISBLANK(Staging!E231),-100,+Staging!F231+-Staging!E231)","v":0},{"$f":"IF(ISBLANK(Staging!F231),-100,+Staging!G231+-Staging!F231)","v":0},{"$f":"IF(ISBLANK(Staging!G231),-100,+Staging!H231+-Staging!G231)","v":0},{"$f":"IF(ISBLANK(Staging!H231),-100,+Staging!I231+-Staging!H231)","v":0},{"$f":"IF(ISBLANK(Staging!I231),-100,+Staging!J231+-Staging!I231)","v":0}]
[229,{"$f":"IF(ISBLANK(Staging!D232),-100,+Staging!E232+-Staging!D232)","v":0},{"$f":"IF(ISBLANK(Staging!E232),-100,+Staging!F232+-Staging!E232)","v":0},{"$f":"IF(ISBLANK(Staging!F232),-100,+Staging!G232+-Staging!F232)","v":0},{"$f":"IF(ISBLANK(Staging!G232),-100,+Staging!H232+-Staging!G232)","v":0},{"$f":"IF(ISBLANK(Staging!H232),-100,+Staging!I232+-Staging!H232)","v":0},{"$f":"IF(ISBLANK(Staging!I232),-100,+Staging!J232+-Staging!I232)","v":0}]
[230,{"$f":"IF(ISBLANK(Staging!D233),-100,+Staging!E233+-Staging!D233)","v":0},{"$f":"IF(ISBLANK(Staging!E233),-100,+Staging!F233+-Staging!E233)","v":0},{"$f":"IF(ISBLANK(Staging!F233),-100,+Staging!G233+-Staging!F233)","v":0},{"$f":"IF(ISBLANK(Staging!G233),-100,+Staging!H233+-Staging!G233)","v":0},{"$f":"IF(ISBLANK(Staging!H233),-100,+Staging!I233+-Staging!H233)","v":0},{"$f":"IF(ISBLANK(Staging!I233),-100,+Staging!J233+-Staging!I233)","v":0}]
[231,{"$f":"IF(ISBLANK(Staging!D234),-100,+Staging!E234+-Staging!D234)","v":0},{"$f":"IF(ISBLANK(Staging!E234),-100,+Staging!F234+-Staging!E234)","v":0},{"$f":"IF(ISBLANK(Staging!F234),-100,+Staging!G234+-Staging!F234)","v":0},{"$f":"IF(ISBLANK(Staging!G234),-100,+Staging!H234+-Staging!G234)","v":0},{"$f":"IF(ISBLANK(Staging!H234),-100,+Staging!I234+-Staging!H234)","v":0},{"$f":"IF(ISBLANK(Staging!I234),-100,+Staging!J234+-Staging!I234)","v":0}]
[232,{"$f":"IF(ISBLANK(Staging!D235),-100,+Staging!E235+-Staging!D235)","v":0},{"$f":"IF(ISBLANK(Staging!E235),-100,+Staging!F235+-Staging!E235)","v":0},{"$f":"IF(ISBLANK(Staging!F235),-100,+Staging!G235+-Staging!F235)","v":0},{"$f":"IF(ISBLANK(Staging!G235),-100,+Staging!H235+-Staging!G235)","v":0},{"$f":"IF(ISBLANK(Staging!H235),-100,+Staging!I235+-Staging!H235)","v":0},{"$f":"IF(ISBLANK(Staging!I235),-100,+Staging!J235+-Staging!I235)","v":0}]
[233,{"$f":"IF(ISBLANK(Staging!D236),-100,+Staging!E236+-Staging!D236)","v":0},{"$f":"IF(ISBLANK(Staging!E236),-100,+Staging!F236+-Staging!E236)","v":0},{"$f":"IF(ISBLANK(Staging!F236),-100,+Staging!G236+-Staging!F236)","v":0},{"$f":"IF(ISBLANK(Staging!G236),-100,+Staging!H236+-Staging!G236)","v":0},{"$f":"IF(ISBLANK(Staging!H236),-100,+Staging!I236+-Staging!H236)","v":0},{"$f":"IF(ISBLANK(Staging!I236),-100,+Staging!J236+-Staging!I236)","v":0}]
[234,{"$f":"IF(ISBLANK(Staging!D237),-100,+Staging!E237+-Staging!D237)","v":0},{"$f":"IF(ISBLANK(Staging!E237),-100,+Staging!F237+-Staging!E237)","v":0},{"$f":"IF(ISBLANK(Staging!F237),-100,+Staging!G237+-Staging!F237)","v":0},{"$f":"IF(ISBLANK(Staging!G237),-100,+Staging!H237+-Staging!G237)","v":0},{"$f":"IF(ISBLANK(Staging!H237),-100,+Staging!I237+-Staging!H237)","v":0},{"$f":"IF(ISBLANK(Staging!I237),-100,+Staging!J237+-Staging!I237)","v":0}]
[235,{"$f":"IF(ISBLANK(Staging!D238),-100,+Staging!E238+-Staging!D238)","v":0},{"$f":"IF(ISBLANK(Staging!E238),-100,+Staging!F238+-Staging!E238)","v":0},{"$f":"IF(ISBLANK(Staging!F238),-100,+Staging!G238+-Staging!F238)","v":0},{"$f":"IF(ISBLANK(Staging!G238),-100,+Staging!H238+-Staging!G238)","v":0},{"$f":"IF(ISBLANK(Staging!H238),-100,+Staging!I238+-Staging!H238)","v":0},{"$f":"IF(ISBLANK(Staging!I238),-100,+Staging!J238+-Staging!I238)","v":0}]
[236,{"$f":"IF(ISBLANK(Staging!D239),-100,+Staging!E239+-Staging!D239)","v":0},{"$f":"IF(ISBLANK(Staging!E239),-100,+Staging!F239+-Staging!E239)","v":0},{"$f":"IF(ISBLANK(Staging!F239),-100,+Staging!G239+-Staging!F239)","v":0},{"$f":"IF(ISBLANK(Staging!G239),-100,+Staging!H239+-Staging!G239)","v":0},{"$f":"IF(ISBLANK(Staging!H239),-100,+Staging!I239+-Staging!H239)","v":0},{"$f":"IF(ISBLANK(Staging!I239),-100,+Staging!J239+-Staging!I239)","v":0}]
[237,{"$f":"IF(ISBLANK(Staging!D240),-100,+Staging!E240+-Staging!D240)","v":0},{"$f":"IF(ISBLANK(Staging!E240),-100,+Staging!F240+-Staging!E240)","v":0},{"$f":"IF(ISBLANK(Staging!F240),-100,+Staging!G240+-Staging!F240)","v":0},{"$f":"IF(ISBLANK(Staging!G240),-100,+Staging!H240+-Staging!G240)","v":0},{"$f":"IF(ISBLANK(Staging!H240),-100,+Staging!I240+-Staging!H240)","v":0},{"$f":"IF(ISBLANK(Staging!I240),-100,+Staging!J240+-Staging!I240)","v":0}]
[238,{"$f":"IF(ISBLANK(Staging!D241),-100,+Staging!E241+-Staging!D241)","v":0},{"$f":"IF(ISBLANK(Staging!E241),-100,+Staging!F241+-Staging!E241)","v":0},{"$f":"IF(ISBLANK(Staging!F241),-100,+Staging!G241+-Staging!F241)","v":0},{"$f":"IF(ISBLANK(Staging!G241),-100,+Staging!H241+-Staging!G241)","v":0},{"$f":"IF(ISBLANK(Staging!H241),-100,+Staging!I241+-Staging!H241)","v":0},{"$f":"IF(ISBLANK(Staging!I241),-100,+Staging!J241+-Staging!I241)","v":0}]
[239,{"$f":"IF(ISBLANK(Staging!D242),-100,+Staging!E242+-Staging!D242)","v":0},{"$f":"IF(ISBLANK(Staging!E242),-100,+Staging!F242+-Staging!E242)","v":0},{"$f":"IF(ISBLANK(Staging!F242),-100,+Staging!G242+-Staging!F242)","v":0},{"$f":"IF(ISBLANK(Staging!G242),-100,+Staging!H242+-Staging!G242)","v":0},{"$f":"IF(ISBLANK(Staging!H242),-100,+Staging!I242+-Staging!H242)","v":0},{"$f":"IF(ISBLANK(Staging!I242),-100,+Staging!J242+-Staging!I242)","v":0}]
[240,{"$f":"IF(ISBLANK(Staging!D243),-100,+Staging!E243+-Staging!D243)","v":0},{"$f":"IF(ISBLANK(Staging!E243),-100,+Staging!F243+-Staging!E243)","v":0},{"$f":"IF(ISBLANK(Staging!F243),-100,+Staging!G243+-Staging!F243)","v":0},{"$f":"IF(ISBLANK(Staging!G243),-100,+Staging!H243+-Staging!G243)","v":0},{"$f":"IF(ISBLANK(Staging!H243),-100,+Staging!I243+-Staging!H243)","v":0},{"$f":"IF(ISBLANK(Staging!I243),-100,+Staging!J243+-Staging!I243)","v":0}]
[241,{"$f":"IF(ISBLANK(Staging!D244),-100,+Staging!E244+-Staging!D244)","v":0},{"$f":"IF(ISBLANK(Staging!E244),-100,+Staging!F244+-Staging!E244)","v":0},{"$f":"IF(ISBLANK(Staging!F244),-100,+Staging!G244+-Staging!F244)","v":0},{"$f":"IF(ISBLANK(Staging!G244),-100,+Staging!H244+-Staging!G244)","v":0},{"$f":"IF(ISBLANK(Staging!H244),-100,+Staging!I244+-Staging!H244)","v":0},{"$f":"IF(ISBLANK(Staging!I244),-100,+Staging!J244+-Staging!I244)","v":0}]
[242,{"$f":"IF(ISBLANK(Staging!D245),-100,+Staging!E245+-Staging!D245)","v":0},{"$f":"IF(ISBLANK(Staging!E245),-100,+Staging!F245+-Staging!E245)","v":0},{"$f":"IF(ISBLANK(Staging!F245),-100,+Staging!G245+-Staging!F245)","v":0},{"$f":"IF(ISBLANK(Staging!G245),-100,+Staging!H245+-Staging!G245)","v":0},{"$f":"IF(ISBLANK(Staging!H245),-100,+Staging!I245+-Staging!H245)","v":0},{"$f":"IF(ISBLANK(Staging!I245),-100,+Staging!J245+-Staging!I245)","v":0}]
[243,{"$f":"IF(ISBLANK(Staging!D246),-100,+Staging!E246+-Staging!D246)","v":0},{"$f":"IF(ISBLANK(Staging!E246),-100,+Staging!F246+-Staging!E246)","v":0},{"$f":"IF(ISBLANK(Staging!F246),-100,+Staging!G246+-Staging!F246)","v":0},{"$f":"IF(ISBLANK(Staging!G246),-100,+Staging!H246+-Staging!G246)","v":0},{"$f":"IF(ISBLANK(Staging!H246),-100,+Staging!I246+-Staging!H246)","v":0},{"$f":"IF(ISBLANK(Staging!I246),-100,+Staging!J246+-Staging!I246)","v":0}]
[244,{"$f":"IF(ISBLANK(Staging!D247),-100,+Staging!E247+-Staging!D247)","v":0},{"$f":"IF(ISBLANK(Staging!E247),-100,+Staging!F247+-Staging!E247)","v":0},{"$f":"IF(ISBLANK(Staging!F247),-100,+Staging!G247+-Staging!F247)","v":0},{"$f":"IF(ISBLANK(Staging!G247),-100,+Staging!H247+-Staging!G247)","v":0},{"$f":"IF(ISBLANK(Staging!H247),-100,+Staging!I247+-Staging!H247)","v":0},{"$f":"IF(ISBLANK(Staging!I247),-100,+Staging!J247+-Staging!I247)","v":0}]
[245,{"$f":"IF(ISBLANK(Staging!D248),-100,+Staging!E248+-Staging!D248)","v":0},{"$f":"IF(ISBLANK(Staging!E248),-100,+Staging!F248+-Staging!E248)","v":0},{"$f":"IF(ISBLANK(Staging!F248),-100,+Staging!G248+-Staging!F248)","v":0},{"$f":"IF(ISBLANK(Staging!G248),-100,+Staging!H248+-Staging!G248)","v":0},{"$f":"IF(ISBLANK(Staging!H248),-100,+Staging!I248+-Staging!H248)","v":0},{"$f":"IF(ISBLANK(Staging!I248),-100,+Staging!J248+-Staging!I248)","v":0}]
[246,{"$f":"IF(ISBLANK(Staging!D249),-100,+Staging!E249+-Staging!D249)","v":0},{"$f":"IF(ISBLANK(Staging!E249),-100,+Staging!F249+-Staging!E249)","v":0},{"$f":"IF(ISBLANK(Staging!F249),-100,+Staging!G249+-Staging!F249)","v":0},{"$f":"IF(ISBLANK(Staging!G249),-100,+Staging!H249+-Staging!G249)","v":0},{"$f":"IF(ISBLANK(Staging!H249),-100,+Staging!I249+-Staging!H249)","v":0},{"$f":"IF(ISBLANK(Staging!I249),-100,+Staging!J249+-Staging!I249)","v":0}]
[247,{"$f":"IF(ISBLANK(Staging!D250),-100,+Staging!E250+-Staging!D250)","v":0},{"$f":"IF(ISBLANK(Staging!E250),-100,+Staging!F250+-Staging!E250)","v":0},{"$f":"IF(ISBLANK(Staging!F250),-100,+Staging!G250+-Staging!F250)","v":0},{"$f":"IF(ISBLANK(Staging!G250),-100,+Staging!H250+-Staging!G250)","v":0},{"$f":"IF(ISBLANK(Staging!H250),-100,+Staging!I250+-Staging!H250)","v":0},{"$f":"IF(ISBLANK(Staging!I250),-100,+Staging!J250+-Staging!I250)","v":0}]
[248,{"$f":"IF(ISBLANK(Staging!D251),-100,+Staging!E251+-Staging!D251)","v":0},{"$f":"IF(ISBLANK(Staging!E251),-100,+Staging!F251+-Staging!E251)","v":0},{"$f":"IF(ISBLANK(Staging!F251),-100,+Staging!G251+-Staging!F251)","v":0},{"$f":"IF(ISBLANK(Staging!G251),-100,+Staging!H251+-Staging!G251)","v":0},{"$f":"IF(ISBLANK(Staging!H251),-100,+Staging!I251+-Staging!H251)","v":0},{"$f":"IF(ISBLANK(Staging!I251),-100,+Staging!J251+-Staging!I251)","v":0}]
[249,{"$f":"IF(ISBLANK(Staging!D252),-100,+Staging!E252+-Staging!D252)","v":0},{"$f":"IF(ISBLANK(Staging!E252),-100,+Staging!F252+-Staging!E252)","v":0},{"$f":"IF(ISBLANK(Staging!F252),-100,+Staging!G252+-Staging!F252)","v":0},{"$f":"IF(ISBLANK(Staging!G252),-100,+Staging!H252+-Staging!G252)","v":0},{"$f":"IF(ISBLANK(Staging!H252),-100,+Staging!I252+-Staging!H252)","v":0},{"$f":"IF(ISBLANK(Staging!I252),-100,+Staging!J252+-Staging!I252)","v":0}]
[250,{"$f":"IF(ISBLANK(Staging!D253),-100,+Staging!E253+-Staging!D253)","v":0},{"$f":"IF(ISBLANK(Staging!E253),-100,+Staging!F253+-Staging!E253)","v":0},{"$f":"IF(ISBLANK(Staging!F253),-100,+Staging!G253+-Staging!F253)","v":0},{"$f":"IF(ISBLANK(Staging!G253),-100,+Staging!H253+-Staging!G253)","v":0},{"$f":"IF(ISBLANK(Staging!H253),-100,+Staging!I253+-Staging!H253)","v":0},{"$f":"IF(ISBLANK(Staging!I253),-100,+Staging!J253+-Staging!I253)","v":0}]
[251,{"$f":"IF(ISBLANK(Staging!D254),-100,+Staging!E254+-Staging!D254)","v":0},{"$f":"IF(ISBLANK(Staging!E254),-100,+Staging!F254+-Staging!E254)","v":0},{"$f":"IF(ISBLANK(Staging!F254),-100,+Staging!G254+-Staging!F254)","v":0},{"$f":"IF(ISBLANK(Staging!G254),-100,+Staging!H254+-Staging!G254)","v":0},{"$f":"IF(ISBLANK(Staging!H254),-100,+Staging!I254+-Staging!H254)","v":0},{"$f":"IF(ISBLANK(Staging!I254),-100,+Staging!J254+-Staging!I254)","v":0}]
[252,{"$f":"IF(ISBLANK(Staging!D255),-100,+Staging!E255+-Staging!D255)","v":0},{"$f":"IF(ISBLANK(Staging!E255),-100,+Staging!F255+-Staging!E255)","v":0},{"$f":"IF(ISBLANK(Staging!F255),-100,+Staging!G255+-Staging!F255)","v":0},{"$f":"IF(ISBLANK(Staging!G255),-100,+Staging!H255+-Staging!G255)","v":0},{"$f":"IF(ISBLANK(Staging!H255),-100,+Staging!I255+-Staging!H255)","v":0},{"$f":"IF(ISBLANK(Staging!I255),-100,+Staging!J255+-Staging!I255)","v":0}]
[253,{"$f":"IF(ISBLANK(Staging!D256),-100,+Staging!E256+-Staging!D256)","v":0},{"$f":"IF(ISBLANK(Staging!E256),-100,+Staging!F256+-Staging!E256)","v":0},{"$f":"IF(ISBLANK(Staging!F256),-100,+Staging!G256+-Staging!F256)","v":0},{"$f":"IF(ISBLANK(Staging!G256),-100,+Staging!H256+-Staging!G256)","v":0},{"$f":"IF(ISBLANK(Staging!H256),-100,+Staging!I256+-Staging!H256)","v":0},{"$f":"IF(ISBLANK(Staging!I256),-100,+Staging!J256+-Staging!I256)","v":0}]
[254,{"$f":"IF(ISBLANK(Staging!D257),-100,+Staging!E257+-Staging!D257)","v":0},{"$f":"IF(ISBLANK(Staging!E257),-100,+Staging!F257+-Staging!E257)","v":0},{"$f":"IF(ISBLANK(Staging!F257),-100,+Staging!G257+-Staging!F257)","v":0},{"$f":"IF(ISBLANK(Staging!G257),-100,+Staging!H257+-Staging!G257)","v":0},{"$f":"IF(ISBLANK(Staging!H257),-100,+Staging!I257+-Staging!H257)","v":0},{"$f":"IF(ISBLANK(Staging!I257),-100,+Staging!J257+-Staging!I257)","v":0}]
[255,{"$f":"IF(ISBLANK(Staging!D258),-100,+Staging!E258+-Staging!D258)","v":0},{"$f":"IF(ISBLANK(Staging!E258),-100,+Staging!F258+-Staging!E258)","v":0},{"$f":"IF(ISBLANK(Staging!F258),-100,+Staging!G258+-Staging!F258)","v":0},{"$f":"IF(ISBLANK(Staging!G258),-100,+Staging!H258+-Staging!G258)","v":0},{"$f":"IF(ISBLANK(Staging!H258),-100,+Staging!I258+-Staging!H258)","v":0},{"$f":"IF(ISBLANK(Staging!I258),-100,+Staging!J258+-Staging!I258)","v":0}]
[256,{"$f":"IF(ISBLANK(Staging!D259),-100,+Staging!E259+-Staging!D259)","v":0},{"$f":"IF(ISBLANK(Staging!E259),-100,+Staging!F259+-Staging!E259)","v":0},{"$f":"IF(ISBLANK(Staging!F259),-100,+Staging!G259+-Staging!F259)","v":0},{"$f":"IF(ISBLANK(Staging!G259),-100,+Staging!H259+-Staging!G259)","v":0},{"$f":"IF(ISBLANK(Staging!H259),-100,+Staging!I259+-Staging!H259)","v":0},{"$f":"IF(ISBLANK(Staging!I259),-100,+Staging!J259+-Staging!I259)","v":0}]
[257,{"$f":"IF(ISBLANK(Staging!D260),-100,+Staging!E260+-Staging!D260)","v":0},{"$f":"IF(ISBLANK(Staging!E260),-100,+Staging!F260+-Staging!E260)","v":0},{"$f":"IF(ISBLANK(Staging!F260),-100,+Staging!G260+-Staging!F260)","v":0},{"$f":"IF(ISBLANK(Staging!G260),-100,+Staging!H260+-Staging!G260)","v":0},{"$f":"IF(ISBLANK(Staging!H260),-100,+Staging!I260+-Staging!H260)","v":0},{"$f":"IF(ISBLANK(Staging!I260),-100,+Staging!J260+-Staging!I260)","v":0}]
[258,{"$f":"IF(ISBLANK(Staging!D261),-100,+Staging!E261+-Staging!D261)","v":0},{"$f":"IF(ISBLANK(Staging!E261),-100,+Staging!F261+-Staging!E261)","v":0},{"$f":"IF(ISBLANK(Staging!F261),-100,+Staging!G261+-Staging!F261)","v":0},{"$f":"IF(ISBLANK(Staging!G261),-100,+Staging!H261+-Staging!G261)","v":0},{"$f":"IF(ISBLANK(Staging!H261),-100,+Staging!I261+-Staging!H261)","v":0},{"$f":"IF(ISBLANK(Staging!I261),-100,+Staging!J261+-Staging!I261)","v":0}]
[259,{"$f":"IF(ISBLANK(Staging!D262),-100,+Staging!E262+-Staging!D262)","v":0},{"$f":"IF(ISBLANK(Staging!E262),-100,+Staging!F262+-Staging!E262)","v":0},{"$f":"IF(ISBLANK(Staging!F262),-100,+Staging!G262+-Staging!F262)","v":0},{"$f":"IF(ISBLANK(Staging!G262),-100,+Staging!H262+-Staging!G262)","v":0},{"$f":"IF(ISBLANK(Staging!H262),-100,+Staging!I262+-Staging!H262)","v":0},{"$f":"IF(ISBLANK(Staging!I262),-100,+Staging!J262+-Staging!I262)","v":0}]
[260,{"$f":"IF(ISBLANK(Staging!D263),-100,+Staging!E263+-Staging!D263)","v":0},{"$f":"IF(ISBLANK(Staging!E263),-100,+Staging!F263+-Staging!E263)","v":0},{"$f":"IF(ISBLANK(Staging!F263),-100,+Staging!G263+-Staging!F263)","v":0},{"$f":"IF(ISBLANK(Staging!G263),-100,+Staging!H263+-Staging!G263)","v":0},{"$f":"IF(ISBLANK(Staging!H263),-100,+Staging!I263+-Staging!H263)","v":0},{"$f":"IF(ISBLANK(Staging!I263),-100,+Staging!J263+-Staging!I263)","v":0}]
[261,{"$f":"IF(ISBLANK(Staging!D264),-100,+Staging!E264+-Staging!D264)","v":0},{"$f":"IF(ISBLANK(Staging!E264),-100,+Staging!F264+-Staging!E264)","v":0},{"$f":"IF(ISBLANK(Staging!F264),-100,+Staging!G264+-Staging!F264)","v":0},{"$f":"IF(ISBLANK(Staging!G264),-100,+Staging!H264+-Staging!G264)","v":0},{"$f":"IF(ISBLANK(Staging!H264),-100,+Staging!I264+-Staging!H264)","v":0},{"$f":"IF(ISBLANK(Staging!I264),-100,+Staging!J264+-Staging!I264)","v":0}]
[262,{"$f":"IF(ISBLANK(Staging!D265),-100,+Staging!E265+-Staging!D265)","v":0},{"$f":"IF(ISBLANK(Staging!E265),-100,+Staging!F265+-Staging!E265)","v":0},{"$f":"IF(ISBLANK(Staging!F265),-100,+Staging!G265+-Staging!F265)","v":0},{"$f":"IF(ISBLANK(Staging!G265),-100,+Staging!H265+-Staging!G265)","v":0},{"$f":"IF(ISBLANK(Staging!H265),-100,+Staging!I265+-Staging!H265)","v":0},{"$f":"IF(ISBLANK(Staging!I265),-100,+Staging!J265+-Staging!I265)","v":0}]
[263,{"$f":"IF(ISBLANK(Staging!D266),-100,+Staging!E266+-Staging!D266)","v":0},{"$f":"IF(ISBLANK(Staging!E266),-100,+Staging!F266+-Staging!E266)","v":0},{"$f":"IF(ISBLANK(Staging!F266),-100,+Staging!G266+-Staging!F266)","v":0},{"$f":"IF(ISBLANK(Staging!G266),-100,+Staging!H266+-Staging!G266)","v":0},{"$f":"IF(ISBLANK(Staging!H266),-100,+Staging!I266+-Staging!H266)","v":0},{"$f":"IF(ISBLANK(Staging!I266),-100,+Staging!J266+-Staging!I266)","v":0}]
[264,{"$f":"IF(ISBLANK(Staging!D267),-100,+Staging!E267+-Staging!D267)","v":0},{"$f":"IF(ISBLANK(Staging!E267),-100,+Staging!F267+-Staging!E267)","v":0},{"$f":"IF(ISBLANK(Staging!F267),-100,+Staging!G267+-Staging!F267)","v":0},{"$f":"IF(ISBLANK(Staging!G267),-100,+Staging!H267+-Staging!G267)","v":0},{"$f":"IF(ISBLANK(Staging!H267),-100,+Staging!I267+-Staging!H267)","v":0},{"$f":"IF(ISBLANK(Staging!I267),-100,+Staging!J267+-Staging!I267)","v":0}]
[265,{"$f":"IF(ISBLANK(Staging!D268),-100,+Staging!E268+-Staging!D268)","v":0},{"$f":"IF(ISBLANK(Staging!E268),-100,+Staging!F268+-Staging!E268)","v":0},{"$f":"IF(ISBLANK(Staging!F268),-100,+Staging!G268+-Staging!F268)","v":0},{"$f":"IF(ISBLANK(Staging!G268),-100,+Staging!H268+-Staging!G268)","v":0},{"$f":"IF(ISBLANK(Staging!H268),-100,+Staging!I268+-Staging!H268)","v":0},{"$f":"IF(ISBLANK(Staging!I268),-100,+Staging!J268+-Staging!I268)","v":0}]
[266,{"$f":"IF(ISBLANK(Staging!D269),-100,+Staging!E269+-Staging!D269)","v":0},{"$f":"IF(ISBLANK(Staging!E269),-100,+Staging!F269+-Staging!E269)","v":0},{"$f":"IF(ISBLANK(Staging!F269),-100,+Staging!G269+-Staging!F269)","v":0},{"$f":"IF(ISBLANK(Staging!G269),-100,+Staging!H269+-Staging!G269)","v":0},{"$f":"IF(ISBLANK(Staging!H269),-100,+Staging!I269+-Staging!H269)","v":0},{"$f":"IF(ISBLANK(Staging!I269),-100,+Staging!J269+-Staging!I269)","v":0}]
[267,{"$f":"IF(ISBLANK(Staging!D270),-100,+Staging!E270+-Staging!D270)","v":0},{"$f":"IF(ISBLANK(Staging!E270),-100,+Staging!F270+-Staging!E270)","v":0},{"$f":"IF(ISBLANK(Staging!F270),-100,+Staging!G270+-Staging!F270)","v":0},{"$f":"IF(ISBLANK(Staging!G270),-100,+Staging!H270+-Staging!G270)","v":0},{"$f":"IF(ISBLANK(Staging!H270),-100,+Staging!I270+-Staging!H270)","v":0},{"$f":"IF(ISBLANK(Staging!I270),-100,+Staging!J270+-Staging!I270)","v":0}]
[268,{"$f":"IF(ISBLANK(Staging!D271),-100,+Staging!E271+-Staging!D271)","v":0},{"$f":"IF(ISBLANK(Staging!E271),-100,+Staging!F271+-Staging!E271)","v":0},{"$f":"IF(ISBLANK(Staging!F271),-100,+Staging!G271+-Staging!F271)","v":0},{"$f":"IF(ISBLANK(Staging!G271),-100,+Staging!H271+-Staging!G271)","v":0},{"$f":"IF(ISBLANK(Staging!H271),-100,+Staging!I271+-Staging!H271)","v":0},{"$f":"IF(ISBLANK(Staging!I271),-100,+Staging!J271+-Staging!I271)","v":0}]
[269,{"$f":"IF(ISBLANK(Staging!D272),-100,+Staging!E272+-Staging!D272)","v":0},{"$f":"IF(ISBLANK(Staging!E272),-100,+Staging!F272+-Staging!E272)","v":0},{"$f":"IF(ISBLANK(Staging!F272),-100,+Staging!G272+-Staging!F272)","v":0},{"$f":"IF(ISBLANK(Staging!G272),-100,+Staging!H272+-Staging!G272)","v":0},{"$f":"IF(ISBLANK(Staging!H272),-100,+Staging!I272+-Staging!H272)","v":0},{"$f":"IF(ISBLANK(Staging!I272),-100,+Staging!J272+-Staging!I272)","v":0}]
[270,{"$f":"IF(ISBLANK(Staging!D273),-100,+Staging!E273+-Staging!D273)","v":0},{"$f":"IF(ISBLANK(Staging!E273),-100,+Staging!F273+-Staging!E273)","v":0},{"$f":"IF(ISBLANK(Staging!F273),-100,+Staging!G273+-Staging!F273)","v":0},{"$f":"IF(ISBLANK(Staging!G273),-100,+Staging!H273+-Staging!G273)","v":0},{"$f":"IF(ISBLANK(Staging!H273),-100,+Staging!I273+-Staging!H273)","v":0},{"$f":"IF(ISBLANK(Staging!I273),-100,+Staging!J273+-Staging!I273)","v":0}]
[271,{"$f":"IF(ISBLANK(Staging!D274),-100,+Staging!E274+-Staging!D274)","v":0},{"$f":"IF(ISBLANK(Staging!E274),-100,+Staging!F274+-Staging!E274)","v":0},{"$f":"IF(ISBLANK(Staging!F274),-100,+Staging!G274+-Staging!F274)","v":0},{"$f":"IF(ISBLANK(Staging!G274),-100,+Staging!H274+-Staging!G274)","v":0},{"$f":"IF(ISBLANK(Staging!H274),-100,+Staging!I274+-Staging!H274)","v":0},{"$f":"IF(ISBLANK(Staging!I274),-100,+Staging!J274+-Staging!I274)","v":0}]
[272,{"$f":"IF(ISBLANK(Staging!D275),-100,+Staging!E275+-Staging!D275)","v":0},{"$f":"IF(ISBLANK(Staging!E275),-100,+Staging!F275+-Staging!E275)","v":0},{"$f":"IF(ISBLANK(Staging!F275),-100,+Staging!G275+-Staging!F275)","v":0},{"$f":"IF(ISBLANK(Staging!G275),-100,+Staging!H275+-Staging!G275)","v":0},{"$f":"IF(ISBLANK(Staging!H275),-100,+Staging!I275+-Staging!H275)","v":0},{"$f":"IF(ISBLANK(Staging!I275),-100,+Staging!J275+-Staging!I275)","v":0}]
[273,{"$f":"IF(ISBLANK(Staging!D276),-100,+Staging!E276+-Staging!D276)","v":0},{"$f":"IF(ISBLANK(Staging!E276),-100,+Staging!F276+-Staging!E276)","v":0},{"$f":"IF(ISBLANK(Staging!F276),-100,+Staging!G276+-Staging!F276)","v":0},{"$f":"IF(ISBLANK(Staging!G276),-100,+Staging!H276+-Staging!G276)","v":0},{"$f":"IF(ISBLANK(Staging!H276),-100,+Staging!I276+-Staging!H276)","v":0},{"$f":"IF(ISBLANK(Staging!I276),-100,+Staging!J276+-Staging!I276)","v":0}]
[274,{"$f":"IF(ISBLANK(Staging!D277),-100,+Staging!E277+-Staging!D277)","v":0},{"$f":"IF(ISBLANK(Staging!E277),-100,+Staging!F277+-Staging!E277)","v":0},{"$f":"IF(ISBLANK(Staging!F277),-100,+Staging!G277+-Staging!F277)","v":0},{"$f":"IF(ISBLANK(Staging!G277),-100,+Staging!H277+-Staging!G277)","v":0},{"$f":"IF(ISBLANK(Staging!H277),-100,+Staging!I277+-Staging!H277)","v":0},{"$f":"IF(ISBLANK(Staging!I277),-100,+Staging!J277+-Staging!I277)","v":0}]
[275,{"$f":"IF(ISBLANK(Staging!D278),-100,+Staging!E278+-Staging!D278)","v":0},{"$f":"IF(ISBLANK(Staging!E278),-100,+Staging!F278+-Staging!E278)","v":0},{"$f":"IF(ISBLANK(Staging!F278),-100,+Staging!G278+-Staging!F278)","v":0},{"$f":"IF(ISBLANK(Staging!G278),-100,+Staging!H278+-Staging!G278)","v":0},{"$f":"IF(ISBLANK(Staging!H278),-100,+Staging!I278+-Staging!H278)","v":0},{"$f":"IF(ISBLANK(Staging!I278),-100,+Staging!J278+-Staging!I278)","v":0}]
[276,{"$f":"IF(ISBLANK(Staging!D279),-100,+Staging!E279+-Staging!D279)","v":0},{"$f":"IF(ISBLANK(Staging!E279),-100,+Staging!F279+-Staging!E279)","v":0},{"$f":"IF(ISBLANK(Staging!F279),-100,+Staging!G279+-Staging!F279)","v":0},{"$f":"IF(ISBLANK(Staging!G279),-100,+Staging!H279+-Staging!G279)","v":0},{"$f":"IF(ISBLANK(Staging!H279),-100,+Staging!I279+-Staging!H279)","v":0},{"$f":"IF(ISBLANK(Staging!I279),-100,+Staging!J279+-Staging!I279)","v":0}]
[277,{"$f":"IF(ISBLANK(Staging!D280),-100,+Staging!E280+-Staging!D280)","v":0},{"$f":"IF(ISBLANK(Staging!E280),-100,+Staging!F280+-Staging!E280)","v":0},{"$f":"IF(ISBLANK(Staging!F280),-100,+Staging!G280+-Staging!F280)","v":0},{"$f":"IF(ISBLANK(Staging!G280),-100,+Staging!H280+-Staging!G280)","v":0},{"$f":"IF(ISBLANK(Staging!H280),-100,+Staging!I280+-Staging!H280)","v":0},{"$f":"IF(ISBLANK(Staging!I280),-100,+Staging!J280+-Staging!I280)","v":0}]
[278,{"$f":"IF(ISBLANK(Staging!D281),-100,+Staging!E281+-Staging!D281)","v":0},{"$f":"IF(ISBLANK(Staging!E281),-100,+Staging!F281+-Staging!E281)","v":0},{"$f":"IF(ISBLANK(Staging!F281),-100,+Staging!G281+-Staging!F281)","v":0},{"$f":"IF(ISBLANK(Staging!G281),-100,+Staging!H281+-Staging!G281)","v":0},{"$f":"IF(ISBLANK(Staging!H281),-100,+Staging!I281+-Staging!H281)","v":0},{"$f":"IF(ISBLANK(Staging!I281),-100,+Staging!J281+-Staging!I281)","v":0}]
[279,{"$f":"IF(ISBLANK(Staging!D282),-100,+Staging!E282+-Staging!D282)","v":0},{"$f":"IF(ISBLANK(Staging!E282),-100,+Staging!F282+-Staging!E282)","v":0},{"$f":"IF(ISBLANK(Staging!F282),-100,+Staging!G282+-Staging!F282)","v":0},{"$f":"IF(ISBLANK(Staging!G282),-100,+Staging!H282+-Staging!G282)","v":0},{"$f":"IF(ISBLANK(Staging!H282),-100,+Staging!I282+-Staging!H282)","v":0},{"$f":"IF(ISBLANK(Staging!I282),-100,+Staging!J282+-Staging!I282)","v":0}]
[280,{"$f":"IF(ISBLANK(Staging!D283),-100,+Staging!E283+-Staging!D283)","v":0},{"$f":"IF(ISBLANK(Staging!E283),-100,+Staging!F283+-Staging!E283)","v":0},{"$f":"IF(ISBLANK(Staging!F283),-100,+Staging!G283+-Staging!F283)","v":0},{"$f":"IF(ISBLANK(Staging!G283),-100,+Staging!H283+-Staging!G283)","v":0},{"$f":"IF(ISBLANK(Staging!H283),-100,+Staging!I283+-Staging!H283)","v":0},{"$f":"IF(ISBLANK(Staging!I283),-100,+Staging!J283+-Staging!I283)","v":0}]
[281,{"$f":"IF(ISBLANK(Staging!D284),-100,+Staging!E284+-Staging!D284)","v":0},{"$f":"IF(ISBLANK(Staging!E284),-100,+Staging!F284+-Staging!E284)","v":0},{"$f":"IF(ISBLANK(Staging!F284),-100,+Staging!G284+-Staging!F284)","v":0},{"$f":"IF(ISBLANK(Staging!G284),-100,+Staging!H284+-Staging!G284)","v":0},{"$f":"IF(ISBLANK(Staging!H284),-100,+Staging!I284+-Staging!H284)","v":0},{"$f":"IF(ISBLANK(Staging!I284),-100,+Staging!J284+-Staging!I284)","v":0}]
[282,{"$f":"IF(ISBLANK(Staging!D285),-100,+Staging!E285+-Staging!D285)","v":0},{"$f":"IF(ISBLANK(Staging!E285),-100,+Staging!F285+-Staging!E285)","v":0},{"$f":"IF(ISBLANK(Staging!F285),-100,+Staging!G285+-Staging!F285)","v":0},{"$f":"IF(ISBLANK(Staging!G285),-100,+Staging!H285+-Staging!G285)","v":0},{"$f":"IF(ISBLANK(Staging!H285),-100,+Staging!I285+-Staging!H285)","v":0},{"$f":"IF(ISBLANK(Staging!I285),-100,+Staging!J285+-Staging!I285)","v":0}]
[283,{"$f":"IF(ISBLANK(Staging!D286),-100,+Staging!E286+-Staging!D286)","v":0},{"$f":"IF(ISBLANK(Staging!E286),-100,+Staging!F286+-Staging!E286)","v":0},{"$f":"IF(ISBLANK(Staging!F286),-100,+Staging!G286+-Staging!F286)","v":0},{"$f":"IF(ISBLANK(Staging!G286),-100,+Staging!H286+-Staging!G286)","v":0},{"$f":"IF(ISBLANK(Staging!H286),-100,+Staging!I286+-Staging!H286)","v":0},{"$f":"IF(ISBLANK(Staging!I286),-100,+Staging!J286+-Staging!I286)","v":0}]
[284,{"$f":"IF(ISBLANK(Staging!D287),-100,+Staging!E287+-Staging!D287)","v":0},{"$f":"IF(ISBLANK(Staging!E287),-100,+Staging!F287+-Staging!E287)","v":0},{"$f":"IF(ISBLANK(Staging!F287),-100,+Staging!G287+-Staging!F287)","v":0},{"$f":"IF(ISBLANK(Staging!G287),-100,+Staging!H287+-Staging!G287)","v":0},{"$f":"IF(ISBLANK(Staging!H287),-100,+Staging!I287+-Staging!H287)","v":0},{"$f":"IF(ISBLANK(Staging!I287),-100,+Staging!J287+-Staging!I287)","v":0}]
[285,{"$f":"IF(ISBLANK(Staging!D288),-100,+Staging!E288+-Staging!D288)","v":0},{"$f":"IF(ISBLANK(Staging!E288),-100,+Staging!F288+-Staging!E288)","v":0},{"$f":"IF(ISBLANK(Staging!F288),-100,+Staging!G288+-Staging!F288)","v":0},{"$f":"IF(ISBLANK(Staging!G288),-100,+Staging!H288+-Staging!G288)","v":0},{"$f":"IF(ISBLANK(Staging!H288),-100,+Staging!I288+-Staging!H288)","v":0},{"$f":"IF(ISBLANK(Staging!I288),-100,+Staging!J288+-Staging!I288)","v":0}]
[286,{"$f":"IF(ISBLANK(Staging!D289),-100,+Staging!E289+-Staging!D289)","v":0},{"$f":"IF(ISBLANK(Staging!E289),-100,+Staging!F289+-Staging!E289)","v":0},{"$f":"IF(ISBLANK(Staging!F289),-100,+Staging!G289+-Staging!F289)","v":0},{"$f":"IF(ISBLANK(Staging!G289),-100,+Staging!H289+-Staging!G289)","v":0},{"$f":"IF(ISBLANK(Staging!H289),-100,+Staging!I289+-Staging!H289)","v":0},{"$f":"IF(ISBLANK(Staging!I289),-100,+Staging!J289+-Staging!I289)","v":0}]
[287,{"$f":"IF(ISBLANK(Staging!D290),-100,+Staging!E290+-Staging!D290)","v":0},{"$f":"IF(ISBLANK(Staging!E290),-100,+Staging!F290+-Staging!E290)","v":0},{"$f":"IF(ISBLANK(Staging!F290),-100,+Staging!G290+-Staging!F290)","v":0},{"$f":"IF(ISBLANK(Staging!G290),-100,+Staging!H290+-Staging!G290)","v":0},{"$f":"IF(ISBLANK(Staging!H290),-100,+Staging!I290+-Staging!H290)","v":0},{"$f":"IF(ISBLANK(Staging!I290),-100,+Staging!J290+-Staging!I290)","v":0}]
[288,{"$f":"IF(ISBLANK(Staging!D291),-100,+Staging!E291+-Staging!D291)","v":0},{"$f":"IF(ISBLANK(Staging!E291),-100,+Staging!F291+-Staging!E291)","v":0},{"$f":"IF(ISBLANK(Staging!F291),-100,+Staging!G291+-Staging!F291)","v":0},{"$f":"IF(ISBLANK(Staging!G291),-100,+Staging!H291+-Staging!G291)","v":0},{"$f":"IF(ISBLANK(Staging!H291),-100,+Staging!I291+-Staging!H291)","v":0},{"$f":"IF(ISBLANK(Staging!I291),-100,+Staging!J291+-Staging!I291)","v":0}]
[289,{"$f":"IF(ISBLANK(Staging!D292),-100,+Staging!E292+-Staging!D292)","v":0},{"$f":"IF(ISBLANK(Staging!E292),-100,+Staging!F292+-Staging!E292)","v":0},{"$f":"IF(ISBLANK(Staging!F292),-100,+Staging!G292+-Staging!F292)","v":0},{"$f":"IF(ISBLANK(Staging!G292),-100,+Staging!H292+-Staging!G292)","v":0},{"$f":"IF(ISBLANK(Staging!H292),-100,+Staging!I292+-Staging!H292)","v":0},{"$f":"IF(ISBLANK(Staging!I292),-100,+Staging!J292+-Staging!I292)","v":0}]
[290,{"$f":"IF(ISBLANK(Staging!D293),-100,+Staging!E293+-Staging!D293)","v":0},{"$f":"IF(ISBLANK(Staging!E293),-100,+Staging!F293+-Staging!E293)","v":0},{"$f":"IF(ISBLANK(Staging!F293),-100,+Staging!G293+-Staging!F293)","v":0},{"$f":"IF(ISBLANK(Staging!G293),-100,+Staging!H293+-Staging!G293)","v":0},{"$f":"IF(ISBLANK(Staging!H293),-100,+Staging!I293+-Staging!H293)","v":0},{"$f":"IF(ISBLANK(Staging!I293),-100,+Staging!J293+-Staging!I293)","v":0}]
[291,{"$f":"IF(ISBLANK(Staging!D294),-100,+Staging!E294+-Staging!D294)","v":0},{"$f":"IF(ISBLANK(Staging!E294),-100,+Staging!F294+-Staging!E294)","v":0},{"$f":"IF(ISBLANK(Staging!F294),-100,+Staging!G294+-Staging!F294)","v":0},{"$f":"IF(ISBLANK(Staging!G294),-100,+Staging!H294+-Staging!G294)","v":0},{"$f":"IF(ISBLANK(Staging!H294),-100,+Staging!I294+-Staging!H294)","v":0},{"$f":"IF(ISBLANK(Staging!I294),-100,+Staging!J294+-Staging!I294)","v":0}]
[292,{"$f":"IF(ISBLANK(Staging!D295),-100,+Staging!E295+-Staging!D295)","v":0},{"$f":"IF(ISBLANK(Staging!E295),-100,+Staging!F295+-Staging!E295)","v":0},{"$f":"IF(ISBLANK(Staging!F295),-100,+Staging!G295+-Staging!F295)","v":0},{"$f":"IF(ISBLANK(Staging!G295),-100,+Staging!H295+-Staging!G295)","v":0},{"$f":"IF(ISBLANK(Staging!H295),-100,+Staging!I295+-Staging!H295)","v":0},{"$f":"IF(ISBLANK(Staging!I295),-100,+Staging!J295+-Staging!I295)","v":0}]
[293,{"$f":"IF(ISBLANK(Staging!D296),-100,+Staging!E296+-Staging!D296)","v":0},{"$f":"IF(ISBLANK(Staging!E296),-100,+Staging!F296+-Staging!E296)","v":0},{"$f":"IF(ISBLANK(Staging!F296),-100,+Staging!G296+-Staging!F296)","v":0},{"$f":"IF(ISBLANK(Staging!G296),-100,+Staging!H296+-Staging!G296)","v":0},{"$f":"IF(ISBLANK(Staging!H296),-100,+Staging!I296+-Staging!H296)","v":0},{"$f":"IF(ISBLANK(Staging!I296),-100,+Staging!J296+-Staging!I296)","v":0}]
[294,{"$f":"IF(ISBLANK(Staging!D297),-100,+Staging!E297+-Staging!D297)","v":0},{"$f":"IF(ISBLANK(Staging!E297),-100,+Staging!F297+-Staging!E297)","v":0},{"$f":"IF(ISBLANK(Staging!F297),-100,+Staging!G297+-Staging!F297)","v":0},{"$f":"IF(ISBLANK(Staging!G297),-100,+Staging!H297+-Staging!G297)","v":0},{"$f":"IF(ISBLANK(Staging!H297),-100,+Staging!I297+-Staging!H297)","v":0},{"$f":"IF(ISBLANK(Staging!I297),-100,+Staging!J297+-Staging!I297)","v":0}]
[295,{"$f":"IF(ISBLANK(Staging!D298),-100,+Staging!E298+-Staging!D298)","v":0},{"$f":"IF(ISBLANK(Staging!E298),-100,+Staging!F298+-Staging!E298)","v":0},{"$f":"IF(ISBLANK(Staging!F298),-100,+Staging!G298+-Staging!F298)","v":0},{"$f":"IF(ISBLANK(Staging!G298),-100,+Staging!H298+-Staging!G298)","v":0},{"$f":"IF(ISBLANK(Staging!H298),-100,+Staging!I298+-Staging!H298)","v":0},{"$f":"IF(ISBLANK(Staging!I298),-100,+Staging!J298+-Staging!I298)","v":0}]
[296,{"$f":"IF(ISBLANK(Staging!D299),-100,+Staging!E299+-Staging!D299)","v":0},{"$f":"IF(ISBLANK(Staging!E299),-100,+Staging!F299+-Staging!E299)","v":0},{"$f":"IF(ISBLANK(Staging!F299),-100,+Staging!G299+-Staging!F299)","v":0},{"$f":"IF(ISBLANK(Staging!G299),-100,+Staging!H299+-Staging!G299)","v":0},{"$f":"IF(ISBLANK(Staging!H299),-100,+Staging!I299+-Staging!H299)","v":0},{"$f":"IF(ISBLANK(Staging!I299),-100,+Staging!J299+-Staging!I299)","v":0}]
[297,{"$f":"IF(ISBLANK(Staging!D300),-100,+Staging!E300+-Staging!D300)","v":0},{"$f":"IF(ISBLANK(Staging!E300),-100,+Staging!F300+-Staging!E300)","v":0},{"$f":"IF(ISBLANK(Staging!F300),-100,+Staging!G300+-Staging!F300)","v":0},{"$f":"IF(ISBLANK(Staging!G300),-100,+Staging!H300+-Staging!G300)","v":0},{"$f":"IF(ISBLANK(Staging!H300),-100,+Staging!I300+-Staging!H300)","v":0},{"$f":"IF(ISBLANK(Staging!I300),-100,+Staging!J300+-Staging!I300)","v":0}]
[298,{"$f":"IF(ISBLANK(Staging!D301),-100,+Staging!E301+-Staging!D301)","v":0},{"$f":"IF(ISBLANK(Staging!E301),-100,+Staging!F301+-Staging!E301)","v":0},{"$f":"IF(ISBLANK(Staging!F301),-100,+Staging!G301+-Staging!F301)","v":0},{"$f":"IF(ISBLANK(Staging!G301),-100,+Staging!H301+-Staging!G301)","v":0},{"$f":"IF(ISBLANK(Staging!H301),-100,+Staging!I301+-Staging!H301)","v":0},{"$f":"IF(ISBLANK(Staging!I301),-100,+Staging!J301+-Staging!I301)","v":0}]
[299,{"$f":"IF(ISBLANK(Staging!D302),-100,+Staging!E302+-Staging!D302)","v":0},{"$f":"IF(ISBLANK(Staging!E302),-100,+Staging!F302+-Staging!E302)","v":0},{"$f":"IF(ISBLANK(Staging!F302),-100,+Staging!G302+-Staging!F302)","v":0},{"$f":"IF(ISBLANK(Staging!G302),-100,+Staging!H302+-Staging!G302)","v":0},{"$f":"IF(ISBLANK(Staging!H302),-100,+Staging!I302+-Staging!H302)","v":0},{"$f":"IF(ISBLANK(Staging!I302),-100,+Staging!J302+-Staging!I302)","v":0}]
[300,{"$f":"IF(ISBLANK(Staging!D303),-100,+Staging!E303+-Staging!D303)","v":0},{"$f":"IF(ISBLANK(Staging!E303),-100,+Staging!F303+-Staging!E303)","v":0},{"$f":"IF(ISBLANK(Staging!F303),-100,+Staging!G303+-Staging!F303)","v":0},{"$f":"IF(ISBLANK(Staging!G303),-100,+Staging!H303+-Staging!G303)","v":0},{"$f":"IF(ISBLANK(Staging!H303),-100,+Staging!I303+-Staging!H303)","v":0},{"$f":"IF(ISBLANK(Staging!I303),-100,+Staging!J303+-Staging!I303)","v":0}]
[301,{"$f":"IF(ISBLANK(Staging!D304),-100,+Staging!E304+-Staging!D304)","v":0},{"$f":"IF(ISBLANK(Staging!E304),-100,+Staging!F304+-Staging!E304)","v":0},{"$f":"IF(ISBLANK(Staging!F304),-100,+Staging!G304+-Staging!F304)","v":0},{"$f":"IF(ISBLANK(Staging!G304),-100,+Staging!H304+-Staging!G304)","v":0},{"$f":"IF(ISBLANK(Staging!H304),-100,+Staging!I304+-Staging!H304)","v":0},{"$f":"IF(ISBLANK(Staging!I304),-100,+Staging!J304+-Staging!I304)","v":0}]
[302,{"$f":"IF(ISBLANK(Staging!D305),-100,+Staging!E305+-Staging!D305)","v":0},{"$f":"IF(ISBLANK(Staging!E305),-100,+Staging!F305+-Staging!E305)","v":0},{"$f":"IF(ISBLANK(Staging!F305),-100,+Staging!G305+-Staging!F305)","v":0},{"$f":"IF(ISBLANK(Staging!G305),-100,+Staging!H305+-Staging!G305)","v":0},{"$f":"IF(ISBLANK(Staging!H305),-100,+Staging!I305+-Staging!H305)","v":0},{"$f":"IF(ISBLANK(Staging!I305),-100,+Staging!J305+-Staging!I305)","v":0}]
[303,{"$f":"IF(ISBLANK(Staging!D306),-100,+Staging!E306+-Staging!D306)","v":0},{"$f":"IF(ISBLANK(Staging!E306),-100,+Staging!F306+-Staging!E306)","v":0},{"$f":"IF(ISBLANK(Staging!F306),-100,+Staging!G306+-Staging!F306)","v":0},{"$f":"IF(ISBLANK(Staging!G306),-100,+Staging!H306+-Staging!G306)","v":0},{"$f":"IF(ISBLANK(Staging!H306),-100,+Staging!I306+-Staging!H306)","v":0},{"$f":"IF(ISBLANK(Staging!I306),-100,+Staging!J306+-Staging!I306)","v":0}]
[304,{"$f":"IF(ISBLANK(Staging!D307),-100,+Staging!E307+-Staging!D307)","v":0},{"$f":"IF(ISBLANK(Staging!E307),-100,+Staging!F307+-Staging!E307)","v":0},{"$f":"IF(ISBLANK(Staging!F307),-100,+Staging!G307+-Staging!F307)","v":0},{"$f":"IF(ISBLANK(Staging!G307),-100,+Staging!H307+-Staging!G307)","v":0},{"$f":"IF(ISBLANK(Staging!H307),-100,+Staging!I307+-Staging!H307)","v":0},{"$f":"IF(ISBLANK(Staging!I307),-100,+Staging!J307+-Staging!I307)","v":0}]
[305,{"$f":"IF(ISBLANK(Staging!D308),-100,+Staging!E308+-Staging!D308)","v":0},{"$f":"IF(ISBLANK(Staging!E308),-100,+Staging!F308+-Staging!E308)","v":0},{"$f":"IF(ISBLANK(Staging!F308),-100,+Staging!G308+-Staging!F308)","v":0},{"$f":"IF(ISBLANK(Staging!G308),-100,+Staging!H308+-Staging!G308)","v":0},{"$f":"IF(ISBLANK(Staging!H308),-100,+Staging!I308+-Staging!H308)","v":0},{"$f":"IF(ISBLANK(Staging!I308),-100,+Staging!J308+-Staging!I308)","v":0}]
[306,{"$f":"IF(ISBLANK(Staging!D309),-100,+Staging!E309+-Staging!D309)","v":0},{"$f":"IF(ISBLANK(Staging!E309),-100,+Staging!F309+-Staging!E309)","v":0},{"$f":"IF(ISBLANK(Staging!F309),-100,+Staging!G309+-Staging!F309)","v":0},{"$f":"IF(ISBLANK(Staging!G309),-100,+Staging!H309+-Staging!G309)","v":0},{"$f":"IF(ISBLANK(Staging!H309),-100,+Staging!I309+-Staging!H309)","v":0},{"$f":"IF(ISBLANK(Staging!I309),-100,+Staging!J309+-Staging!I309)","v":0}]
[307,{"$f":"IF(ISBLANK(Staging!D310),-100,+Staging!E310+-Staging!D310)","v":0},{"$f":"IF(ISBLANK(Staging!E310),-100,+Staging!F310+-Staging!E310)","v":0},{"$f":"IF(ISBLANK(Staging!F310),-100,+Staging!G310+-Staging!F310)","v":0},{"$f":"IF(ISBLANK(Staging!G310),-100,+Staging!H310+-Staging!G310)","v":0},{"$f":"IF(ISBLANK(Staging!H310),-100,+Staging!I310+-Staging!H310)","v":0},{"$f":"IF(ISBLANK(Staging!I310),-100,+Staging!J310+-Staging!I310)","v":0}]
[308,{"$f":"IF(ISBLANK(Staging!D311),-100,+Staging!E311+-Staging!D311)","v":0},{"$f":"IF(ISBLANK(Staging!E311),-100,+Staging!F311+-Staging!E311)","v":0},{"$f":"IF(ISBLANK(Staging!F311),-100,+Staging!G311+-Staging!F311)","v":0},{"$f":"IF(ISBLANK(Staging!G311),-100,+Staging!H311+-Staging!G311)","v":0},{"$f":"IF(ISBLANK(Staging!H311),-100,+Staging!I311+-Staging!H311)","v":0},{"$f":"IF(ISBLANK(Staging!I311),-100,+Staging!J311+-Staging!I311)","v":0}]
[309,{"$f":"IF(ISBLANK(Staging!D312),-100,+Staging!E312+-Staging!D312)","v":0},{"$f":"IF(ISBLANK(Staging!E312),-100,+Staging!F312+-Staging!E312)","v":0},{"$f":"IF(ISBLANK(Staging!F312),-100,+Staging!G312+-Staging!F312)","v":0},{"$f":"IF(ISBLANK(Staging!G312),-100,+Staging!H312+-Staging!G312)","v":0},{"$f":"IF(ISBLANK(Staging!H312),-100,+Staging!I312+-Staging!H312)","v":0},{"$f":"IF(ISBLANK(Staging!I312),-100,+Staging!J312+-Staging!I312)","v":0}]
[310,{"$f":"IF(ISBLANK(Staging!D313),-100,+Staging!E313+-Staging!D313)","v":0},{"$f":"IF(ISBLANK(Staging!E313),-100,+Staging!F313+-Staging!E313)","v":0},{"$f":"IF(ISBLANK(Staging!F313),-100,+Staging!G313+-Staging!F313)","v":0},{"$f":"IF(ISBLANK(Staging!G313),-100,+Staging!H313+-Staging!G313)","v":0},{"$f":"IF(ISBLANK(Staging!H313),-100,+Staging!I313+-Staging!H313)","v":0},{"$f":"IF(ISBLANK(Staging!I313),-100,+Staging!J313+-Staging!I313)","v":0}]
[311,{"$f":"IF(ISBLANK(Staging!D314),-100,+Staging!E314+-Staging!D314)","v":0},{"$f":"IF(ISBLANK(Staging!E314),-100,+Staging!F314+-Staging!E314)","v":0},{"$f":"IF(ISBLANK(Staging!F314),-100,+Staging!G314+-Staging!F314)","v":0},{"$f":"IF(ISBLANK(Staging!G314),-100,+Staging!H314+-Staging!G314)","v":0},{"$f":"IF(ISBLANK(Staging!H314),-100,+Staging!I314+-Staging!H314)","v":0},{"$f":"IF(ISBLANK(Staging!I314),-100,+Staging!J314+-Staging!I314)","v":0}]
[312,{"$f":"IF(ISBLANK(Staging!D315),-100,+Staging!E315+-Staging!D315)","v":0},{"$f":"IF(ISBLANK(Staging!E315),-100,+Staging!F315+-Staging!E315)","v":0},{"$f":"IF(ISBLANK(Staging!F315),-100,+Staging!G315+-Staging!F315)","v":0},{"$f":"IF(ISBLANK(Staging!G315),-100,+Staging!H315+-Staging!G315)","v":0},{"$f":"IF(ISBLANK(Staging!H315),-100,+Staging!I315+-Staging!H315)","v":0},{"$f":"IF(ISBLANK(Staging!I315),-100,+Staging!J315+-Staging!I315)","v":0}]
[313,{"$f":"IF(ISBLANK(Staging!D316),-100,+Staging!E316+-Staging!D316)","v":0},{"$f":"IF(ISBLANK(Staging!E316),-100,+Staging!F316+-Staging!E316)","v":0},{"$f":"IF(ISBLANK(Staging!F316),-100,+Staging!G316+-Staging!F316)","v":0},{"$f":"IF(ISBLANK(Staging!G316),-100,+Staging!H316+-Staging!G316)","v":0},{"$f":"IF(ISBLANK(Staging!H316),-100,+Staging!I316+-Staging!H316)","v":0},{"$f":"IF(ISBLANK(Staging!I316),-100,+Staging!J316+-Staging!I316)","v":0}]
[314,{"$f":"IF(ISBLANK(Staging!D317),-100,+Staging!E317+-Staging!D317)","v":0},{"$f":"IF(ISBLANK(Staging!E317),-100,+Staging!F317+-Staging!E317)","v":0},{"$f":"IF(ISBLANK(Staging!F317),-100,+Staging!G317+-Staging!F317)","v":0},{"$f":"IF(ISBLANK(Staging!G317),-100,+Staging!H317+-Staging!G317)","v":0},{"$f":"IF(ISBLANK(Staging!H317),-100,+Staging!I317+-Staging!H317)","v":0},{"$f":"IF(ISBLANK(Staging!I317),-100,+Staging!J317+-Staging!I317)","v":0}]
[315,{"$f":"IF(ISBLANK(Staging!D318),-100,+Staging!E318+-Staging!D318)","v":0},{"$f":"IF(ISBLANK(Staging!E318),-100,+Staging!F318+-Staging!E318)","v":0},{"$f":"IF(ISBLANK(Staging!F318),-100,+Staging!G318+-Staging!F318)","v":0},{"$f":"IF(ISBLANK(Staging!G318),-100,+Staging!H318+-Staging!G318)","v":0},{"$f":"IF(ISBLANK(Staging!H318),-100,+Staging!I318+-Staging!H318)","v":0},{"$f":"IF(ISBLANK(Staging!I318),-100,+Staging!J318+-Staging!I318)","v":0}]
[316,{"$f":"IF(ISBLANK(Staging!D319),-100,+Staging!E319+-Staging!D319)","v":0},{"$f":"IF(ISBLANK(Staging!E319),-100,+Staging!F319+-Staging!E319)","v":0},{"$f":"IF(ISBLANK(Staging!F319),-100,+Staging!G319+-Staging!F319)","v":0},{"$f":"IF(ISBLANK(Staging!G319),-100,+Staging!H319+-Staging!G319)","v":0},{"$f":"IF(ISBLANK(Staging!H319),-100,+Staging!I319+-Staging!H319)","v":0},{"$f":"IF(ISBLANK(Staging!I319),-100,+Staging!J319+-Staging!I319)","v":0}]
[317,{"$f":"IF(ISBLANK(Staging!D320),-100,+Staging!E320+-Staging!D320)","v":0},{"$f":"IF(ISBLANK(Staging!E320),-100,+Staging!F320+-Staging!E320)","v":0},{"$f":"IF(ISBLANK(Staging!F320),-100,+Staging!G320+-Staging!F320)","v":0},{"$f":"IF(ISBLANK(Staging!G320),-100,+Staging!H320+-Staging!G320)","v":0},{"$f":"IF(ISBLANK(Staging!H320),-100,+Staging!I320+-Staging!H320)","v":0},{"$f":"IF(ISBLANK(Staging!I320),-100,+Staging!J320+-Staging!I320)","v":0}]
[318,{"$f":"IF(ISBLANK(Staging!D321),-100,+Staging!E321+-Staging!D321)","v":0},{"$f":"IF(ISBLANK(Staging!E321),-100,+Staging!F321+-Staging!E321)","v":0},{"$f":"IF(ISBLANK(Staging!F321),-100,+Staging!G321+-Staging!F321)","v":0},{"$f":"IF(ISBLANK(Staging!G321),-100,+Staging!H321+-Staging!G321)","v":0},{"$f":"IF(ISBLANK(Staging!H321),-100,+Staging!I321+-Staging!H321)","v":0},{"$f":"IF(ISBLANK(Staging!I321),-100,+Staging!J321+-Staging!I321)","v":0}]
[319,{"$f":"IF(ISBLANK(Staging!D322),-100,+Staging!E322+-Staging!D322)","v":0},{"$f":"IF(ISBLANK(Staging!E322),-100,+Staging!F322+-Staging!E322)","v":0},{"$f":"IF(ISBLANK(Staging!F322),-100,+Staging!G322+-Staging!F322)","v":0},{"$f":"IF(ISBLANK(Staging!G322),-100,+Staging!H322+-Staging!G322)","v":0},{"$f":"IF(ISBLANK(Staging!H322),-100,+Staging!I322+-Staging!H322)","v":0},{"$f":"IF(ISBLANK(Staging!I322),-100,+Staging!J322+-Staging!I322)","v":0}]
[320,{"$f":"IF(ISBLANK(Staging!D323),-100,+Staging!E323+-Staging!D323)","v":0},{"$f":"IF(ISBLANK(Staging!E323),-100,+Staging!F323+-Staging!E323)","v":0},{"$f":"IF(ISBLANK(Staging!F323),-100,+Staging!G323+-Staging!F323)","v":0},{"$f":"IF(ISBLANK(Staging!G323),-100,+Staging!H323+-Staging!G323)","v":0},{"$f":"IF(ISBLANK(Staging!H323),-100,+Staging!I323+-Staging!H323)","v":0},{"$f":"IF(ISBLANK(Staging!I323),-100,+Staging!J323+-Staging!I323)","v":0}]
[321,{"$f":"IF(ISBLANK(Staging!D324),-100,+Staging!E324+-Staging!D324)","v":0},{"$f":"IF(ISBLANK(Staging!E324),-100,+Staging!F324+-Staging!E324)","v":0},{"$f":"IF(ISBLANK(Staging!F324),-100,+Staging!G324+-Staging!F324)","v":0},{"$f":"IF(ISBLANK(Staging!G324),-100,+Staging!H324+-Staging!G324)","v":0},{"$f":"IF(ISBLANK(Staging!H324),-100,+Staging!I324+-Staging!H324)","v":0},{"$f":"IF(ISBLANK(Staging!I324),-100,+Staging!J324+-Staging!I324)","v":0}]
[322,{"$f":"IF(ISBLANK(Staging!D325),-100,+Staging!E325+-Staging!D325)","v":0},{"$f":"IF(ISBLANK(Staging!E325),-100,+Staging!F325+-Staging!E325)","v":0},{"$f":"IF(ISBLANK(Staging!F325),-100,+Staging!G325+-Staging!F325)","v":0},{"$f":"IF(ISBLANK(Staging!G325),-100,+Staging!H325+-Staging!G325)","v":0},{"$f":"IF(ISBLANK(Staging!H325),-100,+Staging!I325+-Staging!H325)","v":0},{"$f":"IF(ISBLANK(Staging!I325),-100,+Staging!J325+-Staging!I325)","v":0}]
[323,{"$f":"IF(ISBLANK(Staging!D326),-100,+Staging!E326+-Staging!D326)","v":0},{"$f":"IF(ISBLANK(Staging!E326),-100,+Staging!F326+-Staging!E326)","v":0},{"$f":"IF(ISBLANK(Staging!F326),-100,+Staging!G326+-Staging!F326)","v":0},{"$f":"IF(ISBLANK(Staging!G326),-100,+Staging!H326+-Staging!G326)","v":0},{"$f":"IF(ISBLANK(Staging!H326),-100,+Staging!I326+-Staging!H326)","v":0},{"$f":"IF(ISBLANK(Staging!I326),-100,+Staging!J326+-Staging!I326)","v":0}]
[324,{"$f":"IF(ISBLANK(Staging!D327),-100,+Staging!E327+-Staging!D327)","v":0},{"$f":"IF(ISBLANK(Staging!E327),-100,+Staging!F327+-Staging!E327)","v":0},{"$f":"IF(ISBLANK(Staging!F327),-100,+Staging!G327+-Staging!F327)","v":0},{"$f":"IF(ISBLANK(Staging!G327),-100,+Staging!H327+-Staging!G327)","v":0},{"$f":"IF(ISBLANK(Staging!H327),-100,+Staging!I327+-Staging!H327)","v":0},{"$f":"IF(ISBLANK(Staging!I327),-100,+Staging!J327+-Staging!I327)","v":0}]
[325,{"$f":"IF(ISBLANK(Staging!D328),-100,+Staging!E328+-Staging!D328)","v":0},{"$f":"IF(ISBLANK(Staging!E328),-100,+Staging!F328+-Staging!E328)","v":0},{"$f":"IF(ISBLANK(Staging!F328),-100,+Staging!G328+-Staging!F328)","v":0},{"$f":"IF(ISBLANK(Staging!G328),-100,+Staging!H328+-Staging!G328)","v":0},{"$f":"IF(ISBLANK(Staging!H328),-100,+Staging!I328+-Staging!H328)","v":0},{"$f":"IF(ISBLANK(Staging!I328),-100,+Staging!J328+-Staging!I328)","v":0}]
[326,{"$f":"IF(ISBLANK(Staging!D329),-100,+Staging!E329+-Staging!D329)","v":0},{"$f":"IF(ISBLANK(Staging!E329),-100,+Staging!F329+-Staging!E329)","v":0},{"$f":"IF(ISBLANK(Staging!F329),-100,+Staging!G329+-Staging!F329)","v":0},{"$f":"IF(ISBLANK(Staging!G329),-100,+Staging!H329+-Staging!G329)","v":0},{"$f":"IF(ISBLANK(Staging!H329),-100,+Staging!I329+-Staging!H329)","v":0},{"$f":"IF(ISBLANK(Staging!I329),-100,+Staging!J329+-Staging!I329)","v":0}]
[327,{"$f":"IF(ISBLANK(Staging!D330),-100,+Staging!E330+-Staging!D330)","v":0},{"$f":"IF(ISBLANK(Staging!E330),-100,+Staging!F330+-Staging!E330)","v":0},{"$f":"IF(ISBLANK(Staging!F330),-100,+Staging!G330+-Staging!F330)","v":0},{"$f":"IF(ISBLANK(Staging!G330),-100,+Staging!H330+-Staging!G330)","v":0},{"$f":"IF(ISBLANK(Staging!H330),-100,+Staging!I330+-Staging!H330)","v":0},{"$f":"IF(ISBLANK(Staging!I330),-100,+Staging!J330+-Staging!I330)","v":0}]
[328,{"$f":"IF(ISBLANK(Staging!D331),-100,+Staging!E331+-Staging!D331)","v":0},{"$f":"IF(ISBLANK(Staging!E331),-100,+Staging!F331+-Staging!E331)","v":0},{"$f":"IF(ISBLANK(Staging!F331),-100,+Staging!G331+-Staging!F331)","v":0},{"$f":"IF(ISBLANK(Staging!G331),-100,+Staging!H331+-Staging!G331)","v":0},{"$f":"IF(ISBLANK(Staging!H331),-100,+Staging!I331+-Staging!H331)","v":0},{"$f":"IF(ISBLANK(Staging!I331),-100,+Staging!J331+-Staging!I331)","v":0}]
[329,{"$f":"IF(ISBLANK(Staging!D332),-100,+Staging!E332+-Staging!D332)","v":0},{"$f":"IF(ISBLANK(Staging!E332),-100,+Staging!F332+-Staging!E332)","v":0},{"$f":"IF(ISBLANK(Staging!F332),-100,+Staging!G332+-Staging!F332)","v":0},{"$f":"IF(ISBLANK(Staging!G332),-100,+Staging!H332+-Staging!G332)","v":0},{"$f":"IF(ISBLANK(Staging!H332),-100,+Staging!I332+-Staging!H332)","v":0},{"$f":"IF(ISBLANK(Staging!I332),-100,+Staging!J332+-Staging!I332)","v":0}]
[330,{"$f":"IF(ISBLANK(Staging!D333),-100,+Staging!E333+-Staging!D333)","v":0},{"$f":"IF(ISBLANK(Staging!E333),-100,+Staging!F333+-Staging!E333)","v":0},{"$f":"IF(ISBLANK(Staging!F333),-100,+Staging!G333+-Staging!F333)","v":0},{"$f":"IF(ISBLANK(Staging!G333),-100,+Staging!H333+-Staging!G333)","v":0},{"$f":"IF(ISBLANK(Staging!H333),-100,+Staging!I333+-Staging!H333)","v":0},{"$f":"IF(ISBLANK(Staging!I333),-100,+Staging!J333+-Staging!I333)","v":0}]
[331,{"$f":"IF(ISBLANK(Staging!D334),-100,+Staging!E334+-Staging!D334)","v":0},{"$f":"IF(ISBLANK(Staging!E334),-100,+Staging!F334+-Staging!E334)","v":0},{"$f":"IF(ISBLANK(Staging!F334),-100,+Staging!G334+-Staging!F334)","v":0},{"$f":"IF(ISBLANK(Staging!G334),-100,+Staging!H334+-Staging!G334)","v":0},{"$f":"IF(ISBLANK(Staging!H334),-100,+Staging!I334+-Staging!H334)","v":0},{"$f":"IF(ISBLANK(Staging!I334),-100,+Staging!J334+-Staging!I334)","v":0}]
[332,{"$f":"IF(ISBLANK(Staging!D335),-100,+Staging!E335+-Staging!D335)","v":0},{"$f":"IF(ISBLANK(Staging!E335),-100,+Staging!F335+-Staging!E335)","v":0},{"$f":"IF(ISBLANK(Staging!F335),-100,+Staging!G335+-Staging!F335)","v":0},{"$f":"IF(ISBLANK(Staging!G335),-100,+Staging!H335+-Staging!G335)","v":0},{"$f":"IF(ISBLANK(Staging!H335),-100,+Staging!I335+-Staging!H335)","v":0},{"$f":"IF(ISBLANK(Staging!I335),-100,+Staging!J335+-Staging!I335)","v":0}]
[333,{"$f":"IF(ISBLANK(Staging!D336),-100,+Staging!E336+-Staging!D336)","v":0},{"$f":"IF(ISBLANK(Staging!E336),-100,+Staging!F336+-Staging!E336)","v":0},{"$f":"IF(ISBLANK(Staging!F336),-100,+Staging!G336+-Staging!F336)","v":0},{"$f":"IF(ISBLANK(Staging!G336),-100,+Staging!H336+-Staging!G336)","v":0},{"$f":"IF(ISBLANK(Staging!H336),-100,+Staging!I336+-Staging!H336)","v":0},{"$f":"IF(ISBLANK(Staging!I336),-100,+Staging!J336+-Staging!I336)","v":0}]
[334,{"$f":"IF(ISBLANK(Staging!D337),-100,+Staging!E337+-Staging!D337)","v":0},{"$f":"IF(ISBLANK(Staging!E337),-100,+Staging!F337+-Staging!E337)","v":0},{"$f":"IF(ISBLANK(Staging!F337),-100,+Staging!G337+-Staging!F337)","v":0},{"$f":"IF(ISBLANK(Staging!G337),-100,+Staging!H337+-Staging!G337)","v":0},{"$f":"IF(ISBLANK(Staging!H337),-100,+Staging!I337+-Staging!H337)","v":0},{"$f":"IF(ISBLANK(Staging!I337),-100,+Staging!J337+-Staging!I337)","v":0}]
[335,{"$f":"IF(ISBLANK(Staging!D338),-100,+Staging!E338+-Staging!D338)","v":0},{"$f":"IF(ISBLANK(Staging!E338),-100,+Staging!F338+-Staging!E338)","v":0},{"$f":"IF(ISBLANK(Staging!F338),-100,+Staging!G338+-Staging!F338)","v":0},{"$f":"IF(ISBLANK(Staging!G338),-100,+Staging!H338+-Staging!G338)","v":0},{"$f":"IF(ISBLANK(Staging!H338),-100,+Staging!I338+-Staging!H338)","v":0},{"$f":"IF(ISBLANK(Staging!I338),-100,+Staging!J338+-Staging!I338)","v":0}]
[336,{"$f":"IF(ISBLANK(Staging!D339),-100,+Staging!E339+-Staging!D339)","v":0},{"$f":"IF(ISBLANK(Staging!E339),-100,+Staging!F339+-Staging!E339)","v":0},{"$f":"IF(ISBLANK(Staging!F339),-100,+Staging!G339+-Staging!F339)","v":0},{"$f":"IF(ISBLANK(Staging!G339),-100,+Staging!H339+-Staging!G339)","v":0},{"$f":"IF(ISBLANK(Staging!H339),-100,+Staging!I339+-Staging!H339)","v":0},{"$f":"IF(ISBLANK(Staging!I339),-100,+Staging!J339+-Staging!I339)","v":0}]
[337,{"$f":"IF(ISBLANK(Staging!D340),-100,+Staging!E340+-Staging!D340)","v":0},{"$f":"IF(ISBLANK(Staging!E340),-100,+Staging!F340+-Staging!E340)","v":0},{"$f":"IF(ISBLANK(Staging!F340),-100,+Staging!G340+-Staging!F340)","v":0},{"$f":"IF(ISBLANK(Staging!G340),-100,+Staging!H340+-Staging!G340)","v":0},{"$f":"IF(ISBLANK(Staging!H340),-100,+Staging!I340+-Staging!H340)","v":0},{"$f":"IF(ISBLANK(Staging!I340),-100,+Staging!J340+-Staging!I340)","v":0}]
[338,{"$f":"IF(ISBLANK(Staging!D341),-100,+Staging!E341+-Staging!D341)","v":0},{"$f":"IF(ISBLANK(Staging!E341),-100,+Staging!F341+-Staging!E341)","v":0},{"$f":"IF(ISBLANK(Staging!F341),-100,+Staging!G341+-Staging!F341)","v":0},{"$f":"IF(ISBLANK(Staging!G341),-100,+Staging!H341+-Staging!G341)","v":0},{"$f":"IF(ISBLANK(Staging!H341),-100,+Staging!I341+-Staging!H341)","v":0},{"$f":"IF(ISBLANK(Staging!I341),-100,+Staging!J341+-Staging!I341)","v":0}]
[339,{"$f":"IF(ISBLANK(Staging!D342),-100,+Staging!E342+-Staging!D342)","v":0},{"$f":"IF(ISBLANK(Staging!E342),-100,+Staging!F342+-Staging!E342)","v":0},{"$f":"IF(ISBLANK(Staging!F342),-100,+Staging!G342+-Staging!F342)","v":0},{"$f":"IF(ISBLANK(Staging!G342),-100,+Staging!H342+-Staging!G342)","v":0},{"$f":"IF(ISBLANK(Staging!H342),-100,+Staging!I342+-Staging!H342)","v":0},{"$f":"IF(ISBLANK(Staging!I342),-100,+Staging!J342+-Staging!I342)","v":0}]
[340,{"$f":"IF(ISBLANK(Staging!D343),-100,+Staging!E343+-Staging!D343)","v":0},{"$f":"IF(ISBLANK(Staging!E343),-100,+Staging!F343+-Staging!E343)","v":0},{"$f":"IF(ISBLANK(Staging!F343),-100,+Staging!G343+-Staging!F343)","v":0},{"$f":"IF(ISBLANK(Staging!G343),-100,+Staging!H343+-Staging!G343)","v":0},{"$f":"IF(ISBLANK(Staging!H343),-100,+Staging!I343+-Staging!H343)","v":0},{"$f":"IF(ISBLANK(Staging!I343),-100,+Staging!J343+-Staging!I343)","v":0}]
[341,{"$f":"IF(ISBLANK(Staging!D344),-100,+Staging!E344+-Staging!D344)","v":0},{"$f":"IF(ISBLANK(Staging!E344),-100,+Staging!F344+-Staging!E344)","v":0},{"$f":"IF(ISBLANK(Staging!F344),-100,+Staging!G344+-Staging!F344)","v":0},{"$f":"IF(ISBLANK(Staging!G344),-100,+Staging!H344+-Staging!G344)","v":0},{"$f":"IF(ISBLANK(Staging!H344),-100,+Staging!I344+-Staging!H344)","v":0},{"$f":"IF(ISBLANK(Staging!I344),-100,+Staging!J344+-Staging!I344)","v":0}]
[342,{"$f":"IF(ISBLANK(Staging!D345),-100,+Staging!E345+-Staging!D345)","v":0},{"$f":"IF(ISBLANK(Staging!E345),-100,+Staging!F345+-Staging!E345)","v":0},{"$f":"IF(ISBLANK(Staging!F345),-100,+Staging!G345+-Staging!F345)","v":0},{"$f":"IF(ISBLANK(Staging!G345),-100,+Staging!H345+-Staging!G345)","v":0},{"$f":"IF(ISBLANK(Staging!H345),-100,+Staging!I345+-Staging!H345)","v":0},{"$f":"IF(ISBLANK(Staging!I345),-100,+Staging!J345+-Staging!I345)","v":0}]
[343,{"$f":"IF(ISBLANK(Staging!D346),-100,+Staging!E346+-Staging!D346)","v":0},{"$f":"IF(ISBLANK(Staging!E346),-100,+Staging!F346+-Staging!E346)","v":0},{"$f":"IF(ISBLANK(Staging!F346),-100,+Staging!G346+-Staging!F346)","v":0},{"$f":"IF(ISBLANK(Staging!G346),-100,+Staging!H346+-Staging!G346)","v":0},{"$f":"IF(ISBLANK(Staging!H346),-100,+Staging!I346+-Staging!H346)","v":0},{"$f":"IF(ISBLANK(Staging!I346),-100,+Staging!J346+-Staging!I346)","v":0}]
[344,{"$f":"IF(ISBLANK(Staging!D347),-100,+Staging!E347+-Staging!D347)","v":0},{"$f":"IF(ISBLANK(Staging!E347),-100,+Staging!F347+-Staging!E347)","v":0},{"$f":"IF(ISBLANK(Staging!F347),-100,+Staging!G347+-Staging!F347)","v":0},{"$f":"IF(ISBLANK(Staging!G347),-100,+Staging!H347+-Staging!G347)","v":0},{"$f":"IF(ISBLANK(Staging!H347),-100,+Staging!I347+-Staging!H347)","v":0},{"$f":"IF(ISBLANK(Staging!I347),-100,+Staging!J347+-Staging!I347)","v":0}]
[345,{"$f":"IF(ISBLANK(Staging!D348),-100,+Staging!E348+-Staging!D348)","v":0},{"$f":"IF(ISBLANK(Staging!E348),-100,+Staging!F348+-Staging!E348)","v":0},{"$f":"IF(ISBLANK(Staging!F348),-100,+Staging!G348+-Staging!F348)","v":0},{"$f":"IF(ISBLANK(Staging!G348),-100,+Staging!H348+-Staging!G348)","v":0},{"$f":"IF(ISBLANK(Staging!H348),-100,+Staging!I348+-Staging!H348)","v":0},{"$f":"IF(ISBLANK(Staging!I348),-100,+Staging!J348+-Staging!I348)","v":0}]
[346,{"$f":"IF(ISBLANK(Staging!D349),-100,+Staging!E349+-Staging!D349)","v":0},{"$f":"IF(ISBLANK(Staging!E349),-100,+Staging!F349+-Staging!E349)","v":0},{"$f":"IF(ISBLANK(Staging!F349),-100,+Staging!G349+-Staging!F349)","v":0},{"$f":"IF(ISBLANK(Staging!G349),-100,+Staging!H349+-Staging!G349)","v":0},{"$f":"IF(ISBLANK(Staging!H349),-100,+Staging!I349+-Staging!H349)","v":0},{"$f":"IF(ISBLANK(Staging!I349),-100,+Staging!J349+-Staging!I349)","v":0}]
[347,{"$f":"IF(ISBLANK(Staging!D350),-100,+Staging!E350+-Staging!D350)","v":0},{"$f":"IF(ISBLANK(Staging!E350),-100,+Staging!F350+-Staging!E350)","v":0},{"$f":"IF(ISBLANK(Staging!F350),-100,+Staging!G350+-Staging!F350)","v":0},{"$f":"IF(ISBLANK(Staging!G350),-100,+Staging!H350+-Staging!G350)","v":0},{"$f":"IF(ISBLANK(Staging!H350),-100,+Staging!I350+-Staging!H350)","v":0},{"$f":"IF(ISBLANK(Staging!I350),-100,+Staging!J350+-Staging!I350)","v":0}]
[348,{"$f":"IF(ISBLANK(Staging!D351),-100,+Staging!E351+-Staging!D351)","v":0},{"$f":"IF(ISBLANK(Staging!E351),-100,+Staging!F351+-Staging!E351)","v":0},{"$f":"IF(ISBLANK(Staging!F351),-100,+Staging!G351+-Staging!F351)","v":0},{"$f":"IF(ISBLANK(Staging!G351),-100,+Staging!H351+-Staging!G351)","v":0},{"$f":"IF(ISBLANK(Staging!H351),-100,+Staging!I351+-Staging!H351)","v":0},{"$f":"IF(ISBLANK(Staging!I351),-100,+Staging!J351+-Staging!I351)","v":0}]
[349,{"$f":"IF(ISBLANK(Staging!D352),-100,+Staging!E352+-Staging!D352)","v":0},{"$f":"IF(ISBLANK(Staging!E352),-100,+Staging!F352+-Staging!E352)","v":0},{"$f":"IF(ISBLANK(Staging!F352),-100,+Staging!G352+-Staging!F352)","v":0},{"$f":"IF(ISBLANK(Staging!G352),-100,+Staging!H352+-Staging!G352)","v":0},{"$f":"IF(ISBLANK(Staging!H352),-100,+Staging!I352+-Staging!H352)","v":0},{"$f":"IF(ISBLANK(Staging!I352),-100,+Staging!J352+-Staging!I352)","v":0}]
[350,{"$f":"IF(ISBLANK(Staging!D353),-100,+Staging!E353+-Staging!D353)","v":0},{"$f":"IF(ISBLANK(Staging!E353),-100,+Staging!F353+-Staging!E353)","v":0},{"$f":"IF(ISBLANK(Staging!F353),-100,+Staging!G353+-Staging!F353)","v":0},{"$f":"IF(ISBLANK(Staging!G353),-100,+Staging!H353+-Staging!G353)","v":0},{"$f":"IF(ISBLANK(Staging!H353),-100,+Staging!I353+-Staging!H353)","v":0},{"$f":"IF(ISBLANK(Staging!I353),-100,+Staging!J353+-Staging!I353)","v":0}]
[351,{"$f":"IF(ISBLANK(Staging!D354),-100,+Staging!E354+-Staging!D354)","v":0},{"$f":"IF(ISBLANK(Staging!E354),-100,+Staging!F354+-Staging!E354)","v":0},{"$f":"IF(ISBLANK(Staging!F354),-100,+Staging!G354+-Staging!F354)","v":0},{"$f":"IF(ISBLANK(Staging!G354),-100,+Staging!H354+-Staging!G354)","v":0},{"$f":"IF(ISBLANK(Staging!H354),-100,+Staging!I354+-Staging!H354)","v":0},{"$f":"IF(ISBLANK(Staging!I354),-100,+Staging!J354+-Staging!I354)","v":0}]
[352,{"$f":"IF(ISBLANK(Staging!D355),-100,+Staging!E355+-Staging!D355)","v":0},{"$f":"IF(ISBLANK(Staging!E355),-100,+Staging!F355+-Staging!E355)","v":0},{"$f":"IF(ISBLANK(Staging!F355),-100,+Staging!G355+-Staging!F355)","v":0},{"$f":"IF(ISBLANK(Staging!G355),-100,+Staging!H355+-Staging!G355)","v":0},{"$f":"IF(ISBLANK(Staging!H355),-100,+Staging!I355+-Staging!H355)","v":0},{"$f":"IF(ISBLANK(Staging!I355),-100,+Staging!J355+-Staging!I355)","v":0}]
[353,{"$f":"IF(ISBLANK(Staging!D356),-100,+Staging!E356+-Staging!D356)","v":0},{"$f":"IF(ISBLANK(Staging!E356),-100,+Staging!F356+-Staging!E356)","v":0},{"$f":"IF(ISBLANK(Staging!F356),-100,+Staging!G356+-Staging!F356)","v":0},{"$f":"IF(ISBLANK(Staging!G356),-100,+Staging!H356+-Staging!G356)","v":0},{"$f":"IF(ISBLANK(Staging!H356),-100,+Staging!I356+-Staging!H356)","v":0},{"$f":"IF(ISBLANK(Staging!I356),-100,+Staging!J356+-Staging!I356)","v":0}]
[354,{"$f":"IF(ISBLANK(Staging!D357),-100,+Staging!E357+-Staging!D357)","v":0},{"$f":"IF(ISBLANK(Staging!E357),-100,+Staging!F357+-Staging!E357)","v":0},{"$f":"IF(ISBLANK(Staging!F357),-100,+Staging!G357+-Staging!F357)","v":0},{"$f":"IF(ISBLANK(Staging!G357),-100,+Staging!H357+-Staging!G357)","v":0},{"$f":"IF(ISBLANK(Staging!H357),-100,+Staging!I357+-Staging!H357)","v":0},{"$f":"IF(ISBLANK(Staging!I357),-100,+Staging!J357+-Staging!I357)","v":0}]
[355,{"$f":"IF(ISBLANK(Staging!D358),-100,+Staging!E358+-Staging!D358)","v":0},{"$f":"IF(ISBLANK(Staging!E358),-100,+Staging!F358+-Staging!E358)","v":0},{"$f":"IF(ISBLANK(Staging!F358),-100,+Staging!G358+-Staging!F358)","v":0},{"$f":"IF(ISBLANK(Staging!G358),-100,+Staging!H358+-Staging!G358)","v":0},{"$f":"IF(ISBLANK(Staging!H358),-100,+Staging!I358+-Staging!H358)","v":0},{"$f":"IF(ISBLANK(Staging!I358),-100,+Staging!J358+-Staging!I358)","v":0}]
[356,{"$f":"IF(ISBLANK(Staging!D359),-100,+Staging!E359+-Staging!D359)","v":0},{"$f":"IF(ISBLANK(Staging!E359),-100,+Staging!F359+-Staging!E359)","v":0},{"$f":"IF(ISBLANK(Staging!F359),-100,+Staging!G359+-Staging!F359)","v":0},{"$f":"IF(ISBLANK(Staging!G359),-100,+Staging!H359+-Staging!G359)","v":0},{"$f":"IF(ISBLANK(Staging!H359),-100,+Staging!I359+-Staging!H359)","v":0},{"$f":"IF(ISBLANK(Staging!I359),-100,+Staging!J359+-Staging!I359)","v":0}]
[357,{"$f":"IF(ISBLANK(Staging!D360),-100,+Staging!E360+-Staging!D360)","v":0},{"$f":"IF(ISBLANK(Staging!E360),-100,+Staging!F360+-Staging!E360)","v":0},{"$f":"IF(ISBLANK(Staging!F360),-100,+Staging!G360+-Staging!F360)","v":0},{"$f":"IF(ISBLANK(Staging!G360),-100,+Staging!H360+-Staging!G360)","v":0},{"$f":"IF(ISBLANK(Staging!H360),-100,+Staging!I360+-Staging!H360)","v":0},{"$f":"IF(ISBLANK(Staging!I360),-100,+Staging!J360+-Staging!I360)","v":0}]
[358,{"$f":"IF(ISBLANK(Staging!D361),-100,+Staging!E361+-Staging!D361)","v":0},{"$f":"IF(ISBLANK(Staging!E361),-100,+Staging!F361+-Staging!E361)","v":0},{"$f":"IF(ISBLANK(Staging!F361),-100,+Staging!G361+-Staging!F361)","v":0},{"$f":"IF(ISBLANK(Staging!G361),-100,+Staging!H361+-Staging!G361)","v":0},{"$f":"IF(ISBLANK(Staging!H361),-100,+Staging!I361+-Staging!H361)","v":0},{"$f":"IF(ISBLANK(Staging!I361),-100,+Staging!J361+-Staging!I361)","v":0}]
[359,{"$f":"IF(ISBLANK(Staging!D362),-100,+Staging!E362+-Staging!D362)","v":0},{"$f":"IF(ISBLANK(Staging!E362),-100,+Staging!F362+-Staging!E362)","v":0},{"$f":"IF(ISBLANK(Staging!F362),-100,+Staging!G362+-Staging!F362)","v":0},{"$f":"IF(ISBLANK(Staging!G362),-100,+Staging!H362+-Staging!G362)","v":0},{"$f":"IF(ISBLANK(Staging!H362),-100,+Staging!I362+-Staging!H362)","v":0},{"$f":"IF(ISBLANK(Staging!I362),-100,+Staging!J362+-Staging!I362)","v":0}]
[360,{"$f":"IF(ISBLANK(Staging!D363),-100,+Staging!E363+-Staging!D363)","v":0},{"$f":"IF(ISBLANK(Staging!E363),-100,+Staging!F363+-Staging!E363)","v":0},{"$f":"IF(ISBLANK(Staging!F363),-100,+Staging!G363+-Staging!F363)","v":0},{"$f":"IF(ISBLANK(Staging!G363),-100,+Staging!H363+-Staging!G363)","v":0},{"$f":"IF(ISBLANK(Staging!H363),-100,+Staging!I363+-Staging!H363)","v":0},{"$f":"IF(ISBLANK(Staging!I363),-100,+Staging!J363+-Staging!I363)","v":0}]
[361,{"$f":"IF(ISBLANK(Staging!D364),-100,+Staging!E364+-Staging!D364)","v":0},{"$f":"IF(ISBLANK(Staging!E364),-100,+Staging!F364+-Staging!E364)","v":0},{"$f":"IF(ISBLANK(Staging!F364),-100,+Staging!G364+-Staging!F364)","v":0},{"$f":"IF(ISBLANK(Staging!G364),-100,+Staging!H364+-Staging!G364)","v":0},{"$f":"IF(ISBLANK(Staging!H364),-100,+Staging!I364+-Staging!H364)","v":0},{"$f":"IF(ISBLANK(Staging!I364),-100,+Staging!J364+-Staging!I364)","v":0}]
[362,{"$f":"IF(ISBLANK(Staging!D365),-100,+Staging!E365+-Staging!D365)","v":0},{"$f":"IF(ISBLANK(Staging!E365),-100,+Staging!F365+-Staging!E365)","v":0},{"$f":"IF(ISBLANK(Staging!F365),-100,+Staging!G365+-Staging!F365)","v":0},{"$f":"IF(ISBLANK(Staging!G365),-100,+Staging!H365+-Staging!G365)","v":0},{"$f":"IF(ISBLANK(Staging!H365),-100,+Staging!I365+-Staging!H365)","v":0},{"$f":"IF(ISBLANK(Staging!I365),-100,+Staging!J365+-Staging!I365)","v":0}]
[363,{"$f":"IF(ISBLANK(Staging!D366),-100,+Staging!E366+-Staging!D366)","v":0},{"$f":"IF(ISBLANK(Staging!E366),-100,+Staging!F366+-Staging!E366)","v":0},{"$f":"IF(ISBLANK(Staging!F366),-100,+Staging!G366+-Staging!F366)","v":0},{"$f":"IF(ISBLANK(Staging!G366),-100,+Staging!H366+-Staging!G366)","v":0},{"$f":"IF(ISBLANK(Staging!H366),-100,+Staging!I366+-Staging!H366)","v":0},{"$f":"IF(ISBLANK(Staging!I366),-100,+Staging!J366+-Staging!I366)","v":0}]
[364,{"$f":"IF(ISBLANK(Staging!D367),-100,+Staging!E367+-Staging!D367)","v":0},{"$f":"IF(ISBLANK(Staging!E367),-100,+Staging!F367+-Staging!E367)","v":0},{"$f":"IF(ISBLANK(Staging!F367),-100,+Staging!G367+-Staging!F367)","v":0},{"$f":"IF(ISBLANK(Staging!G367),-100,+Staging!H367+-Staging!G367)","v":0},{"$f":"IF(ISBLANK(Staging!H367),-100,+Staging!I367+-Staging!H367)","v":0},{"$f":"IF(ISBLANK(Staging!I367),-100,+Staging!J367+-Staging!I367)","v":0}]
[365,{"$f":"IF(ISBLANK(Staging!D368),-100,+Staging!E368+-Staging!D368)","v":0},{"$f":"IF(ISBLANK(Staging!E368),-100,+Staging!F368+-Staging!E368)","v":0},{"$f":"IF(ISBLANK(Staging!F368),-100,+Staging!G368+-Staging!F368)","v":0},{"$f":"IF(ISBLANK(Staging!G368),-100,+Staging!H368+-Staging!G368)","v":0},{"$f":"IF(ISBLANK(Staging!H368),-100,+Staging!I368+-Staging!H368)","v":0},{"$f":"IF(ISBLANK(Staging!I368),-100,+Staging!J368+-Staging!I368)","v":0}]
[366,{"$f":"IF(ISBLANK(Staging!D369),-100,+Staging!E369+-Staging!D369)","v":0},{"$f":"IF(ISBLANK(Staging!E369),-100,+Staging!F369+-Staging!E369)","v":0},{"$f":"IF(ISBLANK(Staging!F369),-100,+Staging!G369+-Staging!F369)","v":0},{"$f":"IF(ISBLANK(Staging!G369),-100,+Staging!H369+-Staging!G369)","v":0},{"$f":"IF(ISBLANK(Staging!H369),-100,+Staging!I369+-Staging!H369)","v":0},{"$f":"IF(ISBLANK(Staging!I369),-100,+Staging!J369+-Staging!I369)","v":0}]
[367,{"$f":"IF(ISBLANK(Staging!D370),-100,+Staging!E370+-Staging!D370)","v":0},{"$f":"IF(ISBLANK(Staging!E370),-100,+Staging!F370+-Staging!E370)","v":0},{"$f":"IF(ISBLANK(Staging!F370),-100,+Staging!G370+-Staging!F370)","v":0},{"$f":"IF(ISBLANK(Staging!G370),-100,+Staging!H370+-Staging!G370)","v":0},{"$f":"IF(ISBLANK(Staging!H370),-100,+Staging!I370+-Staging!H370)","v":0},{"$f":"IF(ISBLANK(Staging!I370),-100,+Staging!J370+-Staging!I370)","v":0}]
[368,{"$f":"IF(ISBLANK(Staging!D371),-100,+Staging!E371+-Staging!D371)","v":0},{"$f":"IF(ISBLANK(Staging!E371),-100,+Staging!F371+-Staging!E371)","v":0},{"$f":"IF(ISBLANK(Staging!F371),-100,+Staging!G371+-Staging!F371)","v":0},{"$f":"IF(ISBLANK(Staging!G371),-100,+Staging!H371+-Staging!G371)","v":0},{"$f":"IF(ISBLANK(Staging!H371),-100,+Staging!I371+-Staging!H371)","v":0},{"$f":"IF(ISBLANK(Staging!I371),-100,+Staging!J371+-Staging!I371)","v":0}]
[369,{"$f":"IF(ISBLANK(Staging!D372),-100,+Staging!E372+-Staging!D372)","v":0},{"$f":"IF(ISBLANK(Staging!E372),-100,+Staging!F372+-Staging!E372)","v":0},{"$f":"IF(ISBLANK(Staging!F372),-100,+Staging!G372+-Staging!F372)","v":0},{"$f":"IF(ISBLANK(Staging!G372),-100,+Staging!H372+-Staging!G372)","v":0},{"$f":"IF(ISBLANK(Staging!H372),-100,+Staging!I372+-Staging!H372)","v":0},{"$f":"IF(ISBLANK(Staging!I372),-100,+Staging!J372+-Staging!I372)","v":0}]
[370,{"$f":"IF(ISBLANK(Staging!D373),-100,+Staging!E373+-Staging!D373)","v":0},{"$f":"IF(ISBLANK(Staging!E373),-100,+Staging!F373+-Staging!E373)","v":0},{"$f":"IF(ISBLANK(Staging!F373),-100,+Staging!G373+-Staging!F373)","v":0},{"$f":"IF(ISBLANK(Staging!G373),-100,+Staging!H373+-Staging!G373)","v":0},{"$f":"IF(ISBLANK(Staging!H373),-100,+Staging!I373+-Staging!H373)","v":0},{"$f":"IF(ISBLANK(Staging!I373),-100,+Staging!J373+-Staging!I373)","v":0}]
[371,{"$f":"IF(ISBLANK(Staging!D374),-100,+Staging!E374+-Staging!D374)","v":0},{"$f":"IF(ISBLANK(Staging!E374),-100,+Staging!F374+-Staging!E374)","v":0},{"$f":"IF(ISBLANK(Staging!F374),-100,+Staging!G374+-Staging!F374)","v":0},{"$f":"IF(ISBLANK(Staging!G374),-100,+Staging!H374+-Staging!G374)","v":0},{"$f":"IF(ISBLANK(Staging!H374),-100,+Staging!I374+-Staging!H374)","v":0},{"$f":"IF(ISBLANK(Staging!I374),-100,+Staging!J374+-Staging!I374)","v":0}]
[372,{"$f":"IF(ISBLANK(Staging!D375),-100,+Staging!E375+-Staging!D375)","v":0},{"$f":"IF(ISBLANK(Staging!E375),-100,+Staging!F375+-Staging!E375)","v":0},{"$f":"IF(ISBLANK(Staging!F375),-100,+Staging!G375+-Staging!F375)","v":0},{"$f":"IF(ISBLANK(Staging!G375),-100,+Staging!H375+-Staging!G375)","v":0},{"$f":"IF(ISBLANK(Staging!H375),-100,+Staging!I375+-Staging!H375)","v":0},{"$f":"IF(ISBLANK(Staging!I375),-100,+Staging!J375+-Staging!I375)","v":0}]
[373,{"$f":"IF(ISBLANK(Staging!D376),-100,+Staging!E376+-Staging!D376)","v":0},{"$f":"IF(ISBLANK(Staging!E376),-100,+Staging!F376+-Staging!E376)","v":0},{"$f":"IF(ISBLANK(Staging!F376),-100,+Staging!G376+-Staging!F376)","v":0},{"$f":"IF(ISBLANK(Staging!G376),-100,+Staging!H376+-Staging!G376)","v":0},{"$f":"IF(ISBLANK(Staging!H376),-100,+Staging!I376+-Staging!H376)","v":0},{"$f":"IF(ISBLANK(Staging!I376),-100,+Staging!J376+-Staging!I376)","v":0}]
[374,{"$f":"IF(ISBLANK(Staging!D377),-100,+Staging!E377+-Staging!D377)","v":0},{"$f":"IF(ISBLANK(Staging!E377),-100,+Staging!F377+-Staging!E377)","v":0},{"$f":"IF(ISBLANK(Staging!F377),-100,+Staging!G377+-Staging!F377)","v":0},{"$f":"IF(ISBLANK(Staging!G377),-100,+Staging!H377+-Staging!G377)","v":0},{"$f":"IF(ISBLANK(Staging!H377),-100,+Staging!I377+-Staging!H377)","v":0},{"$f":"IF(ISBLANK(Staging!I377),-100,+Staging!J377+-Staging!I377)","v":0}]
[375,{"$f":"IF(ISBLANK(Staging!D378),-100,+Staging!E378+-Staging!D378)","v":0},{"$f":"IF(ISBLANK(Staging!E378),-100,+Staging!F378+-Staging!E378)","v":0},{"$f":"IF(ISBLANK(Staging!F378),-100,+Staging!G378+-Staging!F378)","v":0},{"$f":"IF(ISBLANK(Staging!G378),-100,+Staging!H378+-Staging!G378)","v":0},{"$f":"IF(ISBLANK(Staging!H378),-100,+Staging!I378+-Staging!H378)","v":0},{"$f":"IF(ISBLANK(Staging!I378),-100,+Staging!J378+-Staging!I378)","v":0}]
[376,{"$f":"IF(ISBLANK(Staging!D379),-100,+Staging!E379+-Staging!D379)","v":0},{"$f":"IF(ISBLANK(Staging!E379),-100,+Staging!F379+-Staging!E379)","v":0},{"$f":"IF(ISBLANK(Staging!F379),-100,+Staging!G379+-Staging!F379)","v":0},{"$f":"IF(ISBLANK(Staging!G379),-100,+Staging!H379+-Staging!G379)","v":0},{"$f":"IF(ISBLANK(Staging!H379),-100,+Staging!I379+-Staging!H379)","v":0},{"$f":"IF(ISBLANK(Staging!I379),-100,+Staging!J379+-Staging!I379)","v":0}]
[377,{"$f":"IF(ISBLANK(Staging!D380),-100,+Staging!E380+-Staging!D380)","v":0},{"$f":"IF(ISBLANK(Staging!E380),-100,+Staging!F380+-Staging!E380)","v":0},{"$f":"IF(ISBLANK(Staging!F380),-100,+Staging!G380+-Staging!F380)","v":0},{"$f":"IF(ISBLANK(Staging!G380),-100,+Staging!H380+-Staging!G380)","v":0},{"$f":"IF(ISBLANK(Staging!H380),-100,+Staging!I380+-Staging!H380)","v":0},{"$f":"IF(ISBLANK(Staging!I380),-100,+Staging!J380+-Staging!I380)","v":0}]
[378,{"$f":"IF(ISBLANK(Staging!D381),-100,+Staging!E381+-Staging!D381)","v":0},{"$f":"IF(ISBLANK(Staging!E381),-100,+Staging!F381+-Staging!E381)","v":0},{"$f":"IF(ISBLANK(Staging!F381),-100,+Staging!G381+-Staging!F381)","v":0},{"$f":"IF(ISBLANK(Staging!G381),-100,+Staging!H381+-Staging!G381)","v":0},{"$f":"IF(ISBLANK(Staging!H381),-100,+Staging!I381+-Staging!H381)","v":0},{"$f":"IF(ISBLANK(Staging!I381),-100,+Staging!J381+-Staging!I381)","v":0}]
[379,{"$f":"IF(ISBLANK(Staging!D382),-100,+Staging!E382+-Staging!D382)","v":0},{"$f":"IF(ISBLANK(Staging!E382),-100,+Staging!F382+-Staging!E382)","v":0},{"$f":"IF(ISBLANK(Staging!F382),-100,+Staging!G382+-Staging!F382)","v":0},{"$f":"IF(ISBLANK(Staging!G382),-100,+Staging!H382+-Staging!G382)","v":0},{"$f":"IF(ISBLANK(Staging!H382),-100,+Staging!I382+-Staging!H382)","v":0},{"$f":"IF(ISBLANK(Staging!I382),-100,+Staging!J382+-Staging!I382)","v":0}]
[380,{"$f":"IF(ISBLANK(Staging!D383),-100,+Staging!E383+-Staging!D383)","v":0},{"$f":"IF(ISBLANK(Staging!E383),-100,+Staging!F383+-Staging!E383)","v":0},{"$f":"IF(ISBLANK(Staging!F383),-100,+Staging!G383+-Staging!F383)","v":0},{"$f":"IF(ISBLANK(Staging!G383),-100,+Staging!H383+-Staging!G383)","v":0},{"$f":"IF(ISBLANK(Staging!H383),-100,+Staging!I383+-Staging!H383)","v":0},{"$f":"IF(ISBLANK(Staging!I383),-100,+Staging!J383+-Staging!I383)","v":0}]
[381,{"$f":"IF(ISBLANK(Staging!D384),-100,+Staging!E384+-Staging!D384)","v":0},{"$f":"IF(ISBLANK(Staging!E384),-100,+Staging!F384+-Staging!E384)","v":0},{"$f":"IF(ISBLANK(Staging!F384),-100,+Staging!G384+-Staging!F384)","v":0},{"$f":"IF(ISBLANK(Staging!G384),-100,+Staging!H384+-Staging!G384)","v":0},{"$f":"IF(ISBLANK(Staging!H384),-100,+Staging!I384+-Staging!H384)","v":0},{"$f":"IF(ISBLANK(Staging!I384),-100,+Staging!J384+-Staging!I384)","v":0}]
[382,{"$f":"IF(ISBLANK(Staging!D385),-100,+Staging!E385+-Staging!D385)","v":0},{"$f":"IF(ISBLANK(Staging!E385),-100,+Staging!F385+-Staging!E385)","v":0},{"$f":"IF(ISBLANK(Staging!F385),-100,+Staging!G385+-Staging!F385)","v":0},{"$f":"IF(ISBLANK(Staging!G385),-100,+Staging!H385+-Staging!G385)","v":0},{"$f":"IF(ISBLANK(Staging!H385),-100,+Staging!I385+-Staging!H385)","v":0},{"$f":"IF(ISBLANK(Staging!I385),-100,+Staging!J385+-Staging!I385)","v":0}]
[383,{"$f":"IF(ISBLANK(Staging!D386),-100,+Staging!E386+-Staging!D386)","v":0},{"$f":"IF(ISBLANK(Staging!E386),-100,+Staging!F386+-Staging!E386)","v":0},{"$f":"IF(ISBLANK(Staging!F386),-100,+Staging!G386+-Staging!F386)","v":0},{"$f":"IF(ISBLANK(Staging!G386),-100,+Staging!H386+-Staging!G386)","v":0},{"$f":"IF(ISBLANK(Staging!H386),-100,+Staging!I386+-Staging!H386)","v":0},{"$f":"IF(ISBLANK(Staging!I386),-100,+Staging!J386+-Staging!I386)","v":0}]
[384,{"$f":"IF(ISBLANK(Staging!D387),-100,+Staging!E387+-Staging!D387)","v":0},{"$f":"IF(ISBLANK(Staging!E387),-100,+Staging!F387+-Staging!E387)","v":0},{"$f":"IF(ISBLANK(Staging!F387),-100,+Staging!G387+-Staging!F387)","v":0},{"$f":"IF(ISBLANK(Staging!G387),-100,+Staging!H387+-Staging!G387)","v":0},{"$f":"IF(ISBLANK(Staging!H387),-100,+Staging!I387+-Staging!H387)","v":0},{"$f":"IF(ISBLANK(Staging!I387),-100,+Staging!J387+-Staging!I387)","v":0}]
[385,{"$f":"IF(ISBLANK(Staging!D388),-100,+Staging!E388+-Staging!D388)","v":0},{"$f":"IF(ISBLANK(Staging!E388),-100,+Staging!F388+-Staging!E388)","v":0},{"$f":"IF(ISBLANK(Staging!F388),-100,+Staging!G388+-Staging!F388)","v":0},{"$f":"IF(ISBLANK(Staging!G388),-100,+Staging!H388+-Staging!G388)","v":0},{"$f":"IF(ISBLANK(Staging!H388),-100,+Staging!I388+-Staging!H388)","v":0},{"$f":"IF(ISBLANK(Staging!I388),-100,+Staging!J388+-Staging!I388)","v":0}]
[386,{"$f":"IF(ISBLANK(Staging!D389),-100,+Staging!E389+-Staging!D389)","v":0},{"$f":"IF(ISBLANK(Staging!E389),-100,+Staging!F389+-Staging!E389)","v":0},{"$f":"IF(ISBLANK(Staging!F389),-100,+Staging!G389+-Staging!F389)","v":0},{"$f":"IF(ISBLANK(Staging!G389),-100,+Staging!H389+-Staging!G389)","v":0},{"$f":"IF(ISBLANK(Staging!H389),-100,+Staging!I389+-Staging!H389)","v":0},{"$f":"IF(ISBLANK(Staging!I389),-100,+Staging!J389+-Staging!I389)","v":0}]
[387,{"$f":"IF(ISBLANK(Staging!D390),-100,+Staging!E390+-Staging!D390)","v":0},{"$f":"IF(ISBLANK(Staging!E390),-100,+Staging!F390+-Staging!E390)","v":0},{"$f":"IF(ISBLANK(Staging!F390),-100,+Staging!G390+-Staging!F390)","v":0},{"$f":"IF(ISBLANK(Staging!G390),-100,+Staging!H390+-Staging!G390)","v":0},{"$f":"IF(ISBLANK(Staging!H390),-100,+Staging!I390+-Staging!H390)","v":0},{"$f":"IF(ISBLANK(Staging!I390),-100,+Staging!J390+-Staging!I390)","v":0}]
[388,{"$f":"IF(ISBLANK(Staging!D391),-100,+Staging!E391+-Staging!D391)","v":0},{"$f":"IF(ISBLANK(Staging!E391),-100,+Staging!F391+-Staging!E391)","v":0},{"$f":"IF(ISBLANK(Staging!F391),-100,+Staging!G391+-Staging!F391)","v":0},{"$f":"IF(ISBLANK(Staging!G391),-100,+Staging!H391+-Staging!G391)","v":0},{"$f":"IF(ISBLANK(Staging!H391),-100,+Staging!I391+-Staging!H391)","v":0},{"$f":"IF(ISBLANK(Staging!I391),-100,+Staging!J391+-Staging!I391)","v":0}]
[389,{"$f":"IF(ISBLANK(Staging!D392),-100,+Staging!E392+-Staging!D392)","v":0},{"$f":"IF(ISBLANK(Staging!E392),-100,+Staging!F392+-Staging!E392)","v":0},{"$f":"IF(ISBLANK(Staging!F392),-100,+Staging!G392+-Staging!F392)","v":0},{"$f":"IF(ISBLANK(Staging!G392),-100,+Staging!H392+-Staging!G392)","v":0},{"$f":"IF(ISBLANK(Staging!H392),-100,+Staging!I392+-Staging!H392)","v":0},{"$f":"IF(ISBLANK(Staging!I392),-100,+Staging!J392+-Staging!I392)","v":0}]
[390,{"$f":"IF(ISBLANK(Staging!D393),-100,+Staging!E393+-Staging!D393)","v":0},{"$f":"IF(ISBLANK(Staging!E393),-100,+Staging!F393+-Staging!E393)","v":0},{"$f":"IF(ISBLANK(Staging!F393),-100,+Staging!G393+-Staging!F393)","v":0},{"$f":"IF(ISBLANK(Staging!G393),-100,+Staging!H393+-Staging!G393)","v":0},{"$f":"IF(ISBLANK(Staging!H393),-100,+Staging!I393+-Staging!H393)","v":0},{"$f":"IF(ISBLANK(Staging!I393),-100,+Staging!J393+-Staging!I393)","v":0}]
[391,{"$f":"IF(ISBLANK(Staging!D394),-100,+Staging!E394+-Staging!D394)","v":0},{"$f":"IF(ISBLANK(Staging!E394),-100,+Staging!F394+-Staging!E394)","v":0},{"$f":"IF(ISBLANK(Staging!F394),-100,+Staging!G394+-Staging!F394)","v":0},{"$f":"IF(ISBLANK(Staging!G394),-100,+Staging!H394+-Staging!G394)","v":0},{"$f":"IF(ISBLANK(Staging!H394),-100,+Staging!I394+-Staging!H394)","v":0},{"$f":"IF(ISBLANK(Staging!I394),-100,+Staging!J394+-Staging!I394)","v":0}]
[392,{"$f":"IF(ISBLANK(Staging!D395),-100,+Staging!E395+-Staging!D395)","v":0},{"$f":"IF(ISBLANK(Staging!E395),-100,+Staging!F395+-Staging!E395)","v":0},{"$f":"IF(ISBLANK(Staging!F395),-100,+Staging!G395+-Staging!F395)","v":0},{"$f":"IF(ISBLANK(Staging!G395),-100,+Staging!H395+-Staging!G395)","v":0},{"$f":"IF(ISBLANK(Staging!H395),-100,+Staging!I395+-Staging!H395)","v":0},{"$f":"IF(ISBLANK(Staging!I395),-100,+Staging!J395+-Staging!I395)","v":0}]
[393,{"$f":"IF(ISBLANK(Staging!D396),-100,+Staging!E396+-Staging!D396)","v":0},{"$f":"IF(ISBLANK(Staging!E396),-100,+Staging!F396+-Staging!E396)","v":0},{"$f":"IF(ISBLANK(Staging!F396),-100,+Staging!G396+-Staging!F396)","v":0},{"$f":"IF(ISBLANK(Staging!G396),-100,+Staging!H396+-Staging!G396)","v":0},{"$f":"IF(ISBLANK(Staging!H396),-100,+Staging!I396+-Staging!H396)","v":0},{"$f":"IF(ISBLANK(Staging!I396),-100,+Staging!J396+-Staging!I396)","v":0}]
[394,{"$f":"IF(ISBLANK(Staging!D397),-100,+Staging!E397+-Staging!D397)","v":0},{"$f":"IF(ISBLANK(Staging!E397),-100,+Staging!F397+-Staging!E397)","v":0},{"$f":"IF(ISBLANK(Staging!F397),-100,+Staging!G397+-Staging!F397)","v":0},{"$f":"IF(ISBLANK(Staging!G397),-100,+Staging!H397+-Staging!G397)","v":0},{"$f":"IF(ISBLANK(Staging!H397),-100,+Staging!I397+-Staging!H397)","v":0},{"$f":"IF(ISBLANK(Staging!I397),-100,+Staging!J397+-Staging!I397)","v":0}]
[395,{"$f":"IF(ISBLANK(Staging!D398),-100,+Staging!E398+-Staging!D398)","v":0},{"$f":"IF(ISBLANK(Staging!E398),-100,+Staging!F398+-Staging!E398)","v":0},{"$f":"IF(ISBLANK(Staging!F398),-100,+Staging!G398+-Staging!F398)","v":0},{"$f":"IF(ISBLANK(Staging!G398),-100,+Staging!H398+-Staging!G398)","v":0},{"$f":"IF(ISBLANK(Staging!H398),-100,+Staging!I398+-Staging!H398)","v":0},{"$f":"IF(ISBLANK(Staging!I398),-100,+Staging!J398+-Staging!I398)","v":0}]
[396,{"$f":"IF(ISBLANK(Staging!D399),-100,+Staging!E399+-Staging!D399)","v":0},{"$f":"IF(ISBLANK(Staging!E399),-100,+Staging!F399+-Staging!E399)","v":0},{"$f":"IF(ISBLANK(Staging!F399),-100,+Staging!G399+-Staging!F399)","v":0},{"$f":"IF(ISBLANK(Staging!G399),-100,+Staging!H399+-Staging!G399)","v":0},{"$f":"IF(ISBLANK(Staging!H399),-100,+Staging!I399+-Staging!H399)","v":0},{"$f":"IF(ISBLANK(Staging!I399),-100,+Staging!J399+-Staging!I399)","v":0}]
[397,{"$f":"IF(ISBLANK(Staging!D400),-100,+Staging!E400+-Staging!D400)","v":0},{"$f":"IF(ISBLANK(Staging!E400),-100,+Staging!F400+-Staging!E400)","v":0},{"$f":"IF(ISBLANK(Staging!F400),-100,+Staging!G400+-Staging!F400)","v":0},{"$f":"IF(ISBLANK(Staging!G400),-100,+Staging!H400+-Staging!G400)","v":0},{"$f":"IF(ISBLANK(Staging!H400),-100,+Staging!I400+-Staging!H400)","v":0},{"$f":"IF(ISBLANK(Staging!I400),-100,+Staging!J400+-Staging!I400)","v":0}]
[398,{"$f":"IF(ISBLANK(Staging!D401),-100,+Staging!E401+-Staging!D401)","v":0},{"$f":"IF(ISBLANK(Staging!E401),-100,+Staging!F401+-Staging!E401)","v":0},{"$f":"IF(ISBLANK(Staging!F401),-100,+Staging!G401+-Staging!F401)","v":0},{"$f":"IF(ISBLANK(Staging!G401),-100,+Staging!H401+-Staging!G401)","v":0},{"$f":"IF(ISBLANK(Staging!H401),-100,+Staging!I401+-Staging!H401)","v":0},{"$f":"IF(ISBLANK(Staging!I401),-100,+Staging!J401+-Staging!I401)","v":0}]
[399,{"$f":"IF(ISBLANK(Staging!D402),-100,+Staging!E402+-Staging!D402)","v":0},{"$f":"IF(ISBLANK(Staging!E402),-100,+Staging!F402+-Staging!E402)","v":0},{"$f":"IF(ISBLANK(Staging!F402),-100,+Staging!G402+-Staging!F402)","v":0},{"$f":"IF(ISBLANK(Staging!G402),-100,+Staging!H402+-Staging!G402)","v":0},{"$f":"IF(ISBLANK(Staging!H402),-100,+Staging!I402+-Staging!H402)","v":0},{"$f":"IF(ISBLANK(Staging!I402),-100,+Staging!J402+-Staging!I402)","v":0}]
[400,{"$f":"IF(ISBLANK(Staging!D403),-100,+Staging!E403+-Staging!D403)","v":0},{"$f":"IF(ISBLANK(Staging!E403),-100,+Staging!F403+-Staging!E403)","v":0},{"$f":"IF(ISBLANK(Staging!F403),-100,+Staging!G403+-Staging!F403)","v":0},{"$f":"IF(ISBLANK(Staging!G403),-100,+Staging!H403+-Staging!G403)","v":0},{"$f":"IF(ISBLANK(Staging!H403),-100,+Staging!I403+-Staging!H403)","v":0},{"$f":"IF(ISBLANK(Staging!I403),-100,+Staging!J403+-Staging!I403)","v":0}]
[401,{"$f":"IF(ISBLANK(Staging!D404),-100,+Staging!E404+-Staging!D404)","v":0},{"$f":"IF(ISBLANK(Staging!E404),-100,+Staging!F404+-Staging!E404)","v":0},{"$f":"IF(ISBLANK(Staging!F404),-100,+Staging!G404+-Staging!F404)","v":0},{"$f":"IF(ISBLANK(Staging!G404),-100,+Staging!H404+-Staging!G404)","v":0},{"$f":"IF(ISBLANK(Staging!H404),-100,+Staging!I404+-Staging!H404)","v":0},{"$f":"IF(ISBLANK(Staging!I404),-100,+Staging!J404+-Staging!I404)","v":0}]
[402,{"$f":"IF(ISBLANK(Staging!D405),-100,+Staging!E405+-Staging!D405)","v":0},{"$f":"IF(ISBLANK(Staging!E405),-100,+Staging!F405+-Staging!E405)","v":0},{"$f":"IF(ISBLANK(Staging!F405),-100,+Staging!G405+-Staging!F405)","v":0},{"$f":"IF(ISBLANK(Staging!G405),-100,+Staging!H405+-Staging!G405)","v":0},{"$f":"IF(ISBLANK(Staging!H405),-100,+Staging!I405+-Staging!H405)","v":0},{"$f":"IF(ISBLANK(Staging!I405),-100,+Staging!J405+-Staging!I405)","v":0}]
[403,{"$f":"IF(ISBLANK(Staging!D406),-100,+Staging!E406+-Staging!D406)","v":0},{"$f":"IF(ISBLANK(Staging!E406),-100,+Staging!F406+-Staging!E406)","v":0},{"$f":"IF(ISBLANK(Staging!F406),-100,+Staging!G406+-Staging!F406)","v":0},{"$f":"IF(ISBLANK(Staging!G406),-100,+Staging!H406+-Staging!G406)","v":0},{"$f":"IF(ISBLANK(Staging!H406),-100,+Staging!I406+-Staging!H406)","v":0},{"$f":"IF(ISBLANK(Staging!I406),-100,+Staging!J406+-Staging!I406)","v":0}]
[404,{"$f":"IF(ISBLANK(Staging!D407),-100,+Staging!E407+-Staging!D407)","v":0},{"$f":"IF(ISBLANK(Staging!E407),-100,+Staging!F407+-Staging!E407)","v":0},{"$f":"IF(ISBLANK(Staging!F407),-100,+Staging!G407+-Staging!F407)","v":0},{"$f":"IF(ISBLANK(Staging!G407),-100,+Staging!H407+-Staging!G407)","v":0},{"$f":"IF(ISBLANK(Staging!H407),-100,+Staging!I407+-Staging!H407)","v":0},{"$f":"IF(ISBLANK(Staging!I407),-100,+Staging!J407+-Staging!I407)","v":0}]
[405,{"$f":"IF(ISBLANK(Staging!D408),-100,+Staging!E408+-Staging!D408)","v":0},{"$f":"IF(ISBLANK(Staging!E408),-100,+Staging!F408+-Staging!E408)","v":0},{"$f":"IF(ISBLANK(Staging!F408),-100,+Staging!G408+-Staging!F408)","v":0},{"$f":"IF(ISBLANK(Staging!G408),-100,+Staging!H408+-Staging!G408)","v":0},{"$f":"IF(ISBLANK(Staging!H408),-100,+Staging!I408+-Staging!H408)","v":0},{"$f":"IF(ISBLANK(Staging!I408),-100,+Staging!J408+-Staging!I408)","v":0}]
[406,{"$f":"IF(ISBLANK(Staging!D409),-100,+Staging!E409+-Staging!D409)","v":0},{"$f":"IF(ISBLANK(Staging!E409),-100,+Staging!F409+-Staging!E409)","v":0},{"$f":"IF(ISBLANK(Staging!F409),-100,+Staging!G409+-Staging!F409)","v":0},{"$f":"IF(ISBLANK(Staging!G409),-100,+Staging!H409+-Staging!G409)","v":0},{"$f":"IF(ISBLANK(Staging!H409),-100,+Staging!I409+-Staging!H409)","v":0},{"$f":"IF(ISBLANK(Staging!I409),-100,+Staging!J409+-Staging!I409)","v":0}]
[407,{"$f":"IF(ISBLANK(Staging!D410),-100,+Staging!E410+-Staging!D410)","v":0},{"$f":"IF(ISBLANK(Staging!E410),-100,+Staging!F410+-Staging!E410)","v":0},{"$f":"IF(ISBLANK(Staging!F410),-100,+Staging!G410+-Staging!F410)","v":0},{"$f":"IF(ISBLANK(Staging!G410),-100,+Staging!H410+-Staging!G410)","v":0},{"$f":"IF(ISBLANK(Staging!H410),-100,+Staging!I410+-Staging!H410)","v":0},{"$f":"IF(ISBLANK(Staging!I410),-100,+Staging!J410+-Staging!I410)","v":0}]
[408,{"$f":"IF(ISBLANK(Staging!D411),-100,+Staging!E411+-Staging!D411)","v":0},{"$f":"IF(ISBLANK(Staging!E411),-100,+Staging!F411+-Staging!E411)","v":0},{"$f":"IF(ISBLANK(Staging!F411),-100,+Staging!G411+-Staging!F411)","v":0},{"$f":"IF(ISBLANK(Staging!G411),-100,+Staging!H411+-Staging!G411)","v":0},{"$f":"IF(ISBLANK(Staging!H411),-100,+Staging!I411+-Staging!H411)","v":0},{"$f":"IF(ISBLANK(Staging!I411),-100,+Staging!J411+-Staging!I411)","v":0}]
[409,{"$f":"IF(ISBLANK(Staging!D412),-100,+Staging!E412+-Staging!D412)","v":0},{"$f":"IF(ISBLANK(Staging!E412),-100,+Staging!F412+-Staging!E412)","v":0},{"$f":"IF(ISBLANK(Staging!F412),-100,+Staging!G412+-Staging!F412)","v":0},{"$f":"IF(ISBLANK(Staging!G412),-100,+Staging!H412+-Staging!G412)","v":0},{"$f":"IF(ISBLANK(Staging!H412),-100,+Staging!I412+-Staging!H412)","v":0},{"$f":"IF(ISBLANK(Staging!I412),-100,+Staging!J412+-Staging!I412)","v":0}]
[410,{"$f":"IF(ISBLANK(Staging!D413),-100,+Staging!E413+-Staging!D413)","v":0},{"$f":"IF(ISBLANK(Staging!E413),-100,+Staging!F413+-Staging!E413)","v":0},{"$f":"IF(ISBLANK(Staging!F413),-100,+Staging!G413+-Staging!F413)","v":0},{"$f":"IF(ISBLANK(Staging!G413),-100,+Staging!H413+-Staging!G413)","v":0},{"$f":"IF(ISBLANK(Staging!H413),-100,+Staging!I413+-Staging!H413)","v":0},{"$f":"IF(ISBLANK(Staging!I413),-100,+Staging!J413+-Staging!I413)","v":0}]
[411,{"$f":"IF(ISBLANK(Staging!D414),-100,+Staging!E414+-Staging!D414)","v":0},{"$f":"IF(ISBLANK(Staging!E414),-100,+Staging!F414+-Staging!E414)","v":0},{"$f":"IF(ISBLANK(Staging!F414),-100,+Staging!G414+-Staging!F414)","v":0},{"$f":"IF(ISBLANK(Staging!G414),-100,+Staging!H414+-Staging!G414)","v":0},{"$f":"IF(ISBLANK(Staging!H414),-100,+Staging!I414+-Staging!H414)","v":0},{"$f":"IF(ISBLANK(Staging!I414),-100,+Staging!J414+-Staging!I414)","v":0}]
[412,{"$f":"IF(ISBLANK(Staging!D415),-100,+Staging!E415+-Staging!D415)","v":0},{"$f":"IF(ISBLANK(Staging!E415),-100,+Staging!F415+-Staging!E415)","v":0},{"$f":"IF(ISBLANK(Staging!F415),-100,+Staging!G415+-Staging!F415)","v":0},{"$f":"IF(ISBLANK(Staging!G415),-100,+Staging!H415+-Staging!G415)","v":0},{"$f":"IF(ISBLANK(Staging!H415),-100,+Staging!I415+-Staging!H415)","v":0},{"$f":"IF(ISBLANK(Staging!I415),-100,+Staging!J415+-Staging!I415)","v":0}]
[413,{"$f":"IF(ISBLANK(Staging!D416),-100,+Staging!E416+-Staging!D416)","v":0},{"$f":"IF(ISBLANK(Staging!E416),-100,+Staging!F416+-Staging!E416)","v":0},{"$f":"IF(ISBLANK(Staging!F416),-100,+Staging!G416+-Staging!F416)","v":0},{"$f":"IF(ISBLANK(Staging!G416),-100,+Staging!H416+-Staging!G416)","v":0},{"$f":"IF(ISBLANK(Staging!H416),-100,+Staging!I416+-Staging!H416)","v":0},{"$f":"IF(ISBLANK(Staging!I416),-100,+Staging!J416+-Staging!I416)","v":0}]
[414,{"$f":"IF(ISBLANK(Staging!D417),-100,+Staging!E417+-Staging!D417)","v":0},{"$f":"IF(ISBLANK(Staging!E417),-100,+Staging!F417+-Staging!E417)","v":0},{"$f":"IF(ISBLANK(Staging!F417),-100,+Staging!G417+-Staging!F417)","v":0},{"$f":"IF(ISBLANK(Staging!G417),-100,+Staging!H417+-Staging!G417)","v":0},{"$f":"IF(ISBLANK(Staging!H417),-100,+Staging!I417+-Staging!H417)","v":0},{"$f":"IF(ISBLANK(Staging!I417),-100,+Staging!J417+-Staging!I417)","v":0}]
[415,{"$f":"IF(ISBLANK(Staging!D418),-100,+Staging!E418+-Staging!D418)","v":0},{"$f":"IF(ISBLANK(Staging!E418),-100,+Staging!F418+-Staging!E418)","v":0},{"$f":"IF(ISBLANK(Staging!F418),-100,+Staging!G418+-Staging!F418)","v":0},{"$f":"IF(ISBLANK(Staging!G418),-100,+Staging!H418+-Staging!G418)","v":0},{"$f":"IF(ISBLANK(Staging!H418),-100,+Staging!I418+-Staging!H418)","v":0},{"$f":"IF(ISBLANK(Staging!I418),-100,+Staging!J418+-Staging!I418)","v":0}]
[416,{"$f":"IF(ISBLANK(Staging!D419),-100,+Staging!E419+-Staging!D419)","v":0},{"$f":"IF(ISBLANK(Staging!E419),-100,+Staging!F419+-Staging!E419)","v":0},{"$f":"IF(ISBLANK(Staging!F419),-100,+Staging!G419+-Staging!F419)","v":0},{"$f":"IF(ISBLANK(Staging!G419),-100,+Staging!H419+-Staging!G419)","v":0},{"$f":"IF(ISBLANK(Staging!H419),-100,+Staging!I419+-Staging!H419)","v":0},{"$f":"IF(ISBLANK(Staging!I419),-100,+Staging!J419+-Staging!I419)","v":0}]
[417,{"$f":"IF(ISBLANK(Staging!D420),-100,+Staging!E420+-Staging!D420)","v":0},{"$f":"IF(ISBLANK(Staging!E420),-100,+Staging!F420+-Staging!E420)","v":0},{"$f":"IF(ISBLANK(Staging!F420),-100,+Staging!G420+-Staging!F420)","v":0},{"$f":"IF(ISBLANK(Staging!G420),-100,+Staging!H420+-Staging!G420)","v":0},{"$f":"IF(ISBLANK(Staging!H420),-100,+Staging!I420+-Staging!H420)","v":0},{"$f":"IF(ISBLANK(Staging!I420),-100,+Staging!J420+-Staging!I420)","v":0}]
[418,{"$f":"IF(ISBLANK(Staging!D421),-100,+Staging!E421+-Staging!D421)","v":0},{"$f":"IF(ISBLANK(Staging!E421),-100,+Staging!F421+-Staging!E421)","v":0},{"$f":"IF(ISBLANK(Staging!F421),-100,+Staging!G421+-Staging!F421)","v":0},{"$f":"IF(ISBLANK(Staging!G421),-100,+Staging!H421+-Staging!G421)","v":0},{"$f":"IF(ISBLANK(Staging!H421),-100,+Staging!I421+-Staging!H421)","v":0},{"$f":"IF(ISBLANK(Staging!I421),-100,+Staging!J421+-Staging!I421)","v":0}]
[419,{"$f":"IF(ISBLANK(Staging!D422),-100,+Staging!E422+-Staging!D422)","v":0},{"$f":"IF(ISBLANK(Staging!E422),-100,+Staging!F422+-Staging!E422)","v":0},{"$f":"IF(ISBLANK(Staging!F422),-100,+Staging!G422+-Staging!F422)","v":0},{"$f":"IF(ISBLANK(Staging!G422),-100,+Staging!H422+-Staging!G422)","v":0},{"$f":"IF(ISBLANK(Staging!H422),-100,+Staging!I422+-Staging!H422)","v":0},{"$f":"IF(ISBLANK(Staging!I422),-100,+Staging!J422+-Staging!I422)","v":0}]
[420,{"$f":"IF(ISBLANK(Staging!D423),-100,+Staging!E423+-Staging!D423)","v":0},{"$f":"IF(ISBLANK(Staging!E423),-100,+Staging!F423+-Staging!E423)","v":0},{"$f":"IF(ISBLANK(Staging!F423),-100,+Staging!G423+-Staging!F423)","v":0},{"$f":"IF(ISBLANK(Staging!G423),-100,+Staging!H423+-Staging!G423)","v":0},{"$f":"IF(ISBLANK(Staging!H423),-100,+Staging!I423+-Staging!H423)","v":0},{"$f":"IF(ISBLANK(Staging!I423),-100,+Staging!J423+-Staging!I423)","v":0}]
[421,{"$f":"IF(ISBLANK(Staging!D424),-100,+Staging!E424+-Staging!D424)","v":0},{"$f":"IF(ISBLANK(Staging!E424),-100,+Staging!F424+-Staging!E424)","v":0},{"$f":"IF(ISBLANK(Staging!F424),-100,+Staging!G424+-Staging!F424)","v":0},{"$f":"IF(ISBLANK(Staging!G424),-100,+Staging!H424+-Staging!G424)","v":0},{"$f":"IF(ISBLANK(Staging!H424),-100,+Staging!I424+-Staging!H424)","v":0},{"$f":"IF(ISBLANK(Staging!I424),-100,+Staging!J424+-Staging!I424)","v":0}]
[422,{"$f":"IF(ISBLANK(Staging!D425),-100,+Staging!E425+-Staging!D425)","v":0},{"$f":"IF(ISBLANK(Staging!E425),-100,+Staging!F425+-Staging!E425)","v":0},{"$f":"IF(ISBLANK(Staging!F425),-100,+Staging!G425+-Staging!F425)","v":0},{"$f":"IF(ISBLANK(Staging!G425),-100,+Staging!H425+-Staging!G425)","v":0},{"$f":"IF(ISBLANK(Staging!H425),-100,+Staging!I425+-Staging!H425)","v":0},{"$f":"IF(ISBLANK(Staging!I425),-100,+Staging!J425+-Staging!I425)","v":0}]
[423,{"$f":"IF(ISBLANK(Staging!D426),-100,+Staging!E426+-Staging!D426)","v":0},{"$f":"IF(ISBLANK(Staging!E426),-100,+Staging!F426+-Staging!E426)","v":0},{"$f":"IF(ISBLANK(Staging!F426),-100,+Staging!G426+-Staging!F426)","v":0},{"$f":"IF(ISBLANK(Staging!G426),-100,+Staging!H426+-Staging!G426)","v":0},{"$f":"IF(ISBLANK(Staging!H426),-100,+Staging!I426+-Staging!H426)","v":0},{"$f":"IF(ISBLANK(Staging!I426),-100,+Staging!J426+-Staging!I426)","v":0}]
[424,{"$f":"IF(ISBLANK(Staging!D427),-100,+Staging!E427+-Staging!D427)","v":0},{"$f":"IF(ISBLANK(Staging!E427),-100,+Staging!F427+-Staging!E427)","v":0},{"$f":"IF(ISBLANK(Staging!F427),-100,+Staging!G427+-Staging!F427)","v":0},{"$f":"IF(ISBLANK(Staging!G427),-100,+Staging!H427+-Staging!G427)","v":0},{"$f":"IF(ISBLANK(Staging!H427),-100,+Staging!I427+-Staging!H427)","v":0},{"$f":"IF(ISBLANK(Staging!I427),-100,+Staging!J427+-Staging!I427)","v":0}]
[425,{"$f":"IF(ISBLANK(Staging!D428),-100,+Staging!E428+-Staging!D428)","v":0},{"$f":"IF(ISBLANK(Staging!E428),-100,+Staging!F428+-Staging!E428)","v":0},{"$f":"IF(ISBLANK(Staging!F428),-100,+Staging!G428+-Staging!F428)","v":0},{"$f":"IF(ISBLANK(Staging!G428),-100,+Staging!H428+-Staging!G428)","v":0},{"$f":"IF(ISBLANK(Staging!H428),-100,+Staging!I428+-Staging!H428)","v":0},{"$f":"IF(ISBLANK(Staging!I428),-100,+Staging!J428+-Staging!I428)","v":0}]
[426,{"$f":"IF(ISBLANK(Staging!D429),-100,+Staging!E429+-Staging!D429)","v":0},{"$f":"IF(ISBLANK(Staging!E429),-100,+Staging!F429+-Staging!E429)","v":0},{"$f":"IF(ISBLANK(Staging!F429),-100,+Staging!G429+-Staging!F429)","v":0},{"$f":"IF(ISBLANK(Staging!G429),-100,+Staging!H429+-Staging!G429)","v":0},{"$f":"IF(ISBLANK(Staging!H429),-100,+Staging!I429+-Staging!H429)","v":0},{"$f":"IF(ISBLANK(Staging!I429),-100,+Staging!J429+-Staging!I429)","v":0}]
[427,{"$f":"IF(ISBLANK(Staging!D430),-100,+Staging!E430+-Staging!D430)","v":0},{"$f":"IF(ISBLANK(Staging!E430),-100,+Staging!F430+-Staging!E430)","v":0},{"$f":"IF(ISBLANK(Staging!F430),-100,+Staging!G430+-Staging!F430)","v":0},{"$f":"IF(ISBLANK(Staging!G430),-100,+Staging!H430+-Staging!G430)","v":0},{"$f":"IF(ISBLANK(Staging!H430),-100,+Staging!I430+-Staging!H430)","v":0},{"$f":"IF(ISBLANK(Staging!I430),-100,+Staging!J430+-Staging!I430)","v":0}]
[428,{"$f":"IF(ISBLANK(Staging!D431),-100,+Staging!E431+-Staging!D431)","v":0},{"$f":"IF(ISBLANK(Staging!E431),-100,+Staging!F431+-Staging!E431)","v":0},{"$f":"IF(ISBLANK(Staging!F431),-100,+Staging!G431+-Staging!F431)","v":0},{"$f":"IF(ISBLANK(Staging!G431),-100,+Staging!H431+-Staging!G431)","v":0},{"$f":"IF(ISBLANK(Staging!H431),-100,+Staging!I431+-Staging!H431)","v":0},{"$f":"IF(ISBLANK(Staging!I431),-100,+Staging!J431+-Staging!I431)","v":0}]
[429,{"$f":"IF(ISBLANK(Staging!D432),-100,+Staging!E432+-Staging!D432)","v":0},{"$f":"IF(ISBLANK(Staging!E432),-100,+Staging!F432+-Staging!E432)","v":0},{"$f":"IF(ISBLANK(Staging!F432),-100,+Staging!G432+-Staging!F432)","v":0},{"$f":"IF(ISBLANK(Staging!G432),-100,+Staging!H432+-Staging!G432)","v":0},{"$f":"IF(ISBLANK(Staging!H432),-100,+Staging!I432+-Staging!H432)","v":0},{"$f":"IF(ISBLANK(Staging!I432),-100,+Staging!J432+-Staging!I432)","v":0}]
[430,{"$f":"IF(ISBLANK(Staging!D433),-100,+Staging!E433+-Staging!D433)","v":0},{"$f":"IF(ISBLANK(Staging!E433),-100,+Staging!F433+-Staging!E433)","v":0},{"$f":"IF(ISBLANK(Staging!F433),-100,+Staging!G433+-Staging!F433)","v":0},{"$f":"IF(ISBLANK(Staging!G433),-100,+Staging!H433+-Staging!G433)","v":0},{"$f":"IF(ISBLANK(Staging!H433),-100,+Staging!I433+-Staging!H433)","v":0},{"$f":"IF(ISBLANK(Staging!I433),-100,+Staging!J433+-Staging!I433)","v":0}]
[431,{"$f":"IF(ISBLANK(Staging!D434),-100,+Staging!E434+-Staging!D434)","v":0},{"$f":"IF(ISBLANK(Staging!E434),-100,+Staging!F434+-Staging!E434)","v":0},{"$f":"IF(ISBLANK(Staging!F434),-100,+Staging!G434+-Staging!F434)","v":0},{"$f":"IF(ISBLANK(Staging!G434),-100,+Staging!H434+-Staging!G434)","v":0},{"$f":"IF(ISBLANK(Staging!H434),-100,+Staging!I434+-Staging!H434)","v":0},{"$f":"IF(ISBLANK(Staging!I434),-100,+Staging!J434+-Staging!I434)","v":0}]
[432,{"$f":"IF(ISBLANK(Staging!D435),-100,+Staging!E435+-Staging!D435)","v":0},{"$f":"IF(ISBLANK(Staging!E435),-100,+Staging!F435+-Staging!E435)","v":0},{"$f":"IF(ISBLANK(Staging!F435),-100,+Staging!G435+-Staging!F435)","v":0},{"$f":"IF(ISBLANK(Staging!G435),-100,+Staging!H435+-Staging!G435)","v":0},{"$f":"IF(ISBLANK(Staging!H435),-100,+Staging!I435+-Staging!H435)","v":0},{"$f":"IF(ISBLANK(Staging!I435),-100,+Staging!J435+-Staging!I435)","v":0}]
[433,{"$f":"IF(ISBLANK(Staging!D436),-100,+Staging!E436+-Staging!D436)","v":0},{"$f":"IF(ISBLANK(Staging!E436),-100,+Staging!F436+-Staging!E436)","v":0},{"$f":"IF(ISBLANK(Staging!F436),-100,+Staging!G436+-Staging!F436)","v":0},{"$f":"IF(ISBLANK(Staging!G436),-100,+Staging!H436+-Staging!G436)","v":0},{"$f":"IF(ISBLANK(Staging!H436),-100,+Staging!I436+-Staging!H436)","v":0},{"$f":"IF(ISBLANK(Staging!I436),-100,+Staging!J436+-Staging!I436)","v":0}]
[434,{"$f":"IF(ISBLANK(Staging!D437),-100,+Staging!E437+-Staging!D437)","v":0},{"$f":"IF(ISBLANK(Staging!E437),-100,+Staging!F437+-Staging!E437)","v":0},{"$f":"IF(ISBLANK(Staging!F437),-100,+Staging!G437+-Staging!F437)","v":0},{"$f":"IF(ISBLANK(Staging!G437),-100,+Staging!H437+-Staging!G437)","v":0},{"$f":"IF(ISBLANK(Staging!H437),-100,+Staging!I437+-Staging!H437)","v":0},{"$f":"IF(ISBLANK(Staging!I437),-100,+Staging!J437+-Staging!I437)","v":0}]
[435,{"$f":"IF(ISBLANK(Staging!D438),-100,+Staging!E438+-Staging!D438)","v":0},{"$f":"IF(ISBLANK(Staging!E438),-100,+Staging!F438+-Staging!E438)","v":0},{"$f":"IF(ISBLANK(Staging!F438),-100,+Staging!G438+-Staging!F438)","v":0},{"$f":"IF(ISBLANK(Staging!G438),-100,+Staging!H438+-Staging!G438)","v":0},{"$f":"IF(ISBLANK(Staging!H438),-100,+Staging!I438+-Staging!H438)","v":0},{"$f":"IF(ISBLANK(Staging!I438),-100,+Staging!J438+-Staging!I438)","v":0}]
[436,{"$f":"IF(ISBLANK(Staging!D439),-100,+Staging!E439+-Staging!D439)","v":0},{"$f":"IF(ISBLANK(Staging!E439),-100,+Staging!F439+-Staging!E439)","v":0},{"$f":"IF(ISBLANK(Staging!F439),-100,+Staging!G439+-Staging!F439)","v":0},{"$f":"IF(ISBLANK(Staging!G439),-100,+Staging!H439+-Staging!G439)","v":0},{"$f":"IF(ISBLANK(Staging!H439),-100,+Staging!I439+-Staging!H439)","v":0},{"$f":"IF(ISBLANK(Staging!I439),-100,+Staging!J439+-Staging!I439)","v":0}]
[437,{"$f":"IF(ISBLANK(Staging!D440),-100,+Staging!E440+-Staging!D440)","v":0},{"$f":"IF(ISBLANK(Staging!E440),-100,+Staging!F440+-Staging!E440)","v":0},{"$f":"IF(ISBLANK(Staging!F440),-100,+Staging!G440+-Staging!F440)","v":0},{"$f":"IF(ISBLANK(Staging!G440),-100,+Staging!H440+-Staging!G440)","v":0},{"$f":"IF(ISBLANK(Staging!H440),-100,+Staging!I440+-Staging!H440)","v":0},{"$f":"IF(ISBLANK(Staging!I440),-100,+Staging!J440+-Staging!I440)","v":0}]
[438,{"$f":"IF(ISBLANK(Staging!D441),-100,+Staging!E441+-Staging!D441)","v":0},{"$f":"IF(ISBLANK(Staging!E441),-100,+Staging!F441+-Staging!E441)","v":0},{"$f":"IF(ISBLANK(Staging!F441),-100,+Staging!G441+-Staging!F441)","v":0},{"$f":"IF(ISBLANK(Staging!G441),-100,+Staging!H441+-Staging!G441)","v":0},{"$f":"IF(ISBLANK(Staging!H441),-100,+Staging!I441+-Staging!H441)","v":0},{"$f":"IF(ISBLANK(Staging!I441),-100,+Staging!J441+-Staging!I441)","v":0}]
[439,{"$f":"IF(ISBLANK(Staging!D442),-100,+Staging!E442+-Staging!D442)","v":0},{"$f":"IF(ISBLANK(Staging!E442),-100,+Staging!F442+-Staging!E442)","v":0},{"$f":"IF(ISBLANK(Staging!F442),-100,+Staging!G442+-Staging!F442)","v":0},{"$f":"IF(ISBLANK(Staging!G442),-100,+Staging!H442+-Staging!G442)","v":0},{"$f":"IF(ISBLANK(Staging!H442),-100,+Staging!I442+-Staging!H442)","v":0},{"$f":"IF(ISBLANK(Staging!I442),-100,+Staging!J442+-Staging!I442)","v":0}]
[440,{"$f":"IF(ISBLANK(Staging!D443),-100,+Staging!E443+-Staging!D443)","v":0},{"$f":"IF(ISBLANK(Staging!E443),-100,+Staging!F443+-Staging!E443)","v":0},{"$f":"IF(ISBLANK(Staging!F443),-100,+Staging!G443+-Staging!F443)","v":0},{"$f":"IF(ISBLANK(Staging!G443),-100,+Staging!H443+-Staging!G443)","v":0},{"$f":"IF(ISBLANK(Staging!H443),-100,+Staging!I443+-Staging!H443)","v":0},{"$f":"IF(ISBLANK(Staging!I443),-100,+Staging!J443+-Staging!I443)","v":0}]
[441,{"$f":"IF(ISBLANK(Staging!D444),-100,+Staging!E444+-Staging!D444)","v":0},{"$f":"IF(ISBLANK(Staging!E444),-100,+Staging!F444+-Staging!E444)","v":0},{"$f":"IF(ISBLANK(Staging!F444),-100,+Staging!G444+-Staging!F444)","v":0},{"$f":"IF(ISBLANK(Staging!G444),-100,+Staging!H444+-Staging!G444)","v":0},{"$f":"IF(ISBLANK(Staging!H444),-100,+Staging!I444+-Staging!H444)","v":0},{"$f":"IF(ISBLANK(Staging!I444),-100,+Staging!J444+-Staging!I444)","v":0}]
[442,{"$f":"IF(ISBLANK(Staging!D445),-100,+Staging!E445+-Staging!D445)","v":0},{"$f":"IF(ISBLANK(Staging!E445),-100,+Staging!F445+-Staging!E445)","v":0},{"$f":"IF(ISBLANK(Staging!F445),-100,+Staging!G445+-Staging!F445)","v":0},{"$f":"IF(ISBLANK(Staging!G445),-100,+Staging!H445+-Staging!G445)","v":0},{"$f":"IF(ISBLANK(Staging!H445),-100,+Staging!I445+-Staging!H445)","v":0},{"$f":"IF(ISBLANK(Staging!I445),-100,+Staging!J445+-Staging!I445)","v":0}]
[443,{"$f":"IF(ISBLANK(Staging!D446),-100,+Staging!E446+-Staging!D446)","v":0},{"$f":"IF(ISBLANK(Staging!E446),-100,+Staging!F446+-Staging!E446)","v":0},{"$f":"IF(ISBLANK(Staging!F446),-100,+Staging!G446+-Staging!F446)","v":0},{"$f":"IF(ISBLANK(Staging!G446),-100,+Staging!H446+-Staging!G446)","v":0},{"$f":"IF(ISBLANK(Staging!H446),-100,+Staging!I446+-Staging!H446)","v":0},{"$f":"IF(ISBLANK(Staging!I446),-100,+Staging!J446+-Staging!I446)","v":0}]
[444,{"$f":"IF(ISBLANK(Staging!D447),-100,+Staging!E447+-Staging!D447)","v":0},{"$f":"IF(ISBLANK(Staging!E447),-100,+Staging!F447+-Staging!E447)","v":0},{"$f":"IF(ISBLANK(Staging!F447),-100,+Staging!G447+-Staging!F447)","v":0},{"$f":"IF(ISBLANK(Staging!G447),-100,+Staging!H447+-Staging!G447)","v":0},{"$f":"IF(ISBLANK(Staging!H447),-100,+Staging!I447+-Staging!H447)","v":0},{"$f":"IF(ISBLANK(Staging!I447),-100,+Staging!J447+-Staging!I447)","v":0}]
[445,{"$f":"IF(ISBLANK(Staging!D448),-100,+Staging!E448+-Staging!D448)","v":0},{"$f":"IF(ISBLANK(Staging!E448),-100,+Staging!F448+-Staging!E448)","v":0},{"$f":"IF(ISBLANK(Staging!F448),-100,+Staging!G448+-Staging!F448)","v":0},{"$f":"IF(ISBLANK(Staging!G448),-100,+Staging!H448+-Staging!G448)","v":0},{"$f":"IF(ISBLANK(Staging!H448),-100,+Staging!I448+-Staging!H448)","v":0},{"$f":"IF(ISBLANK(Staging!I448),-100,+Staging!J448+-Staging!I448)","v":0}]
[446,{"$f":"IF(ISBLANK(Staging!D449),-100,+Staging!E449+-Staging!D449)","v":0},{"$f":"IF(ISBLANK(Staging!E449),-100,+Staging!F449+-Staging!E449)","v":0},{"$f":"IF(ISBLANK(Staging!F449),-100,+Staging!G449+-Staging!F449)","v":0},{"$f":"IF(ISBLANK(Staging!G449),-100,+Staging!H449+-Staging!G449)","v":0},{"$f":"IF(ISBLANK(Staging!H449),-100,+Staging!I449+-Staging!H449)","v":0},{"$f":"IF(ISBLANK(Staging!I449),-100,+Staging!J449+-Staging!I449)","v":0}]
[447,{"$f":"IF(ISBLANK(Staging!D450),-100,+Staging!E450+-Staging!D450)","v":0},{"$f":"IF(ISBLANK(Staging!E450),-100,+Staging!F450+-Staging!E450)","v":0},{"$f":"IF(ISBLANK(Staging!F450),-100,+Staging!G450+-Staging!F450)","v":0},{"$f":"IF(ISBLANK(Staging!G450),-100,+Staging!H450+-Staging!G450)","v":0},{"$f":"IF(ISBLANK(Staging!H450),-100,+Staging!I450+-Staging!H450)","v":0},{"$f":"IF(ISBLANK(Staging!I450),-100,+Staging!J450+-Staging!I450)","v":0}]
[448,{"$f":"IF(ISBLANK(Staging!D451),-100,+Staging!E451+-Staging!D451)","v":0},{"$f":"IF(ISBLANK(Staging!E451),-100,+Staging!F451+-Staging!E451)","v":0},{"$f":"IF(ISBLANK(Staging!F451),-100,+Staging!G451+-Staging!F451)","v":0},{"$f":"IF(ISBLANK(Staging!G451),-100,+Staging!H451+-Staging!G451)","v":0},{"$f":"IF(ISBLANK(Staging!H451),-100,+Staging!I451+-Staging!H451)","v":0},{"$f":"IF(ISBLANK(Staging!I451),-100,+Staging!J451+-Staging!I451)","v":0}]
[449,{"$f":"IF(ISBLANK(Staging!D452),-100,+Staging!E452+-Staging!D452)","v":0},{"$f":"IF(ISBLANK(Staging!E452),-100,+Staging!F452+-Staging!E452)","v":0},{"$f":"IF(ISBLANK(Staging!F452),-100,+Staging!G452+-Staging!F452)","v":0},{"$f":"IF(ISBLANK(Staging!G452),-100,+Staging!H452+-Staging!G452)","v":0},{"$f":"IF(ISBLANK(Staging!H452),-100,+Staging!I452+-Staging!H452)","v":0},{"$f":"IF(ISBLANK(Staging!I452),-100,+Staging!J452+-Staging!I452)","v":0}]
[450,{"$f":"IF(ISBLANK(Staging!D453),-100,+Staging!E453+-Staging!D453)","v":0},{"$f":"IF(ISBLANK(Staging!E453),-100,+Staging!F453+-Staging!E453)","v":0},{"$f":"IF(ISBLANK(Staging!F453),-100,+Staging!G453+-Staging!F453)","v":0},{"$f":"IF(ISBLANK(Staging!G453),-100,+Staging!H453+-Staging!G453)","v":0},{"$f":"IF(ISBLANK(Staging!H453),-100,+Staging!I453+-Staging!H453)","v":0},{"$f":"IF(ISBLANK(Staging!I453),-100,+Staging!J453+-Staging!I453)","v":0}]
[451,{"$f":"IF(ISBLANK(Staging!D454),-100,+Staging!E454+-Staging!D454)","v":0},{"$f":"IF(ISBLANK(Staging!E454),-100,+Staging!F454+-Staging!E454)","v":0},{"$f":"IF(ISBLANK(Staging!F454),-100,+Staging!G454+-Staging!F454)","v":0},{"$f":"IF(ISBLANK(Staging!G454),-100,+Staging!H454+-Staging!G454)","v":0},{"$f":"IF(ISBLANK(Staging!H454),-100,+Staging!I454+-Staging!H454)","v":0},{"$f":"IF(ISBLANK(Staging!I454),-100,+Staging!J454+-Staging!I454)","v":0}]
[452,{"$f":"IF(ISBLANK(Staging!D455),-100,+Staging!E455+-Staging!D455)","v":0},{"$f":"IF(ISBLANK(Staging!E455),-100,+Staging!F455+-Staging!E455)","v":0},{"$f":"IF(ISBLANK(Staging!F455),-100,+Staging!G455+-Staging!F455)","v":0},{"$f":"IF(ISBLANK(Staging!G455),-100,+Staging!H455+-Staging!G455)","v":0},{"$f":"IF(ISBLANK(Staging!H455),-100,+Staging!I455+-Staging!H455)","v":0},{"$f":"IF(ISBLANK(Staging!I455),-100,+Staging!J455+-Staging!I455)","v":0}]
[453,{"$f":"IF(ISBLANK(Staging!D456),-100,+Staging!E456+-Staging!D456)","v":0},{"$f":"IF(ISBLANK(Staging!E456),-100,+Staging!F456+-Staging!E456)","v":0},{"$f":"IF(ISBLANK(Staging!F456),-100,+Staging!G456+-Staging!F456)","v":0},{"$f":"IF(ISBLANK(Staging!G456),-100,+Staging!H456+-Staging!G456)","v":0},{"$f":"IF(ISBLANK(Staging!H456),-100,+Staging!I456+-Staging!H456)","v":0},{"$f":"IF(ISBLANK(Staging!I456),-100,+Staging!J456+-Staging!I456)","v":0}]
[454,{"$f":"IF(ISBLANK(Staging!D457),-100,+Staging!E457+-Staging!D457)","v":0},{"$f":"IF(ISBLANK(Staging!E457),-100,+Staging!F457+-Staging!E457)","v":0},{"$f":"IF(ISBLANK(Staging!F457),-100,+Staging!G457+-Staging!F457)","v":0},{"$f":"IF(ISBLANK(Staging!G457),-100,+Staging!H457+-Staging!G457)","v":0},{"$f":"IF(ISBLANK(Staging!H457),-100,+Staging!I457+-Staging!H457)","v":0},{"$f":"IF(ISBLANK(Staging!I457),-100,+Staging!J457+-Staging!I457)","v":0}]
[455,{"$f":"IF(ISBLANK(Staging!D458),-100,+Staging!E458+-Staging!D458)","v":0},{"$f":"IF(ISBLANK(Staging!E458),-100,+Staging!F458+-Staging!E458)","v":0},{"$f":"IF(ISBLANK(Staging!F458),-100,+Staging!G458+-Staging!F458)","v":0},{"$f":"IF(ISBLANK(Staging!G458),-100,+Staging!H458+-Staging!G458)","v":0},{"$f":"IF(ISBLANK(Staging!H458),-100,+Staging!I458+-Staging!H458)","v":0},{"$f":"IF(ISBLANK(Staging!I458),-100,+Staging!J458+-Staging!I458)","v":0}]
[456,{"$f":"IF(ISBLANK(Staging!D459),-100,+Staging!E459+-Staging!D459)","v":0},{"$f":"IF(ISBLANK(Staging!E459),-100,+Staging!F459+-Staging!E459)","v":0},{"$f":"IF(ISBLANK(Staging!F459),-100,+Staging!G459+-Staging!F459)","v":0},{"$f":"IF(ISBLANK(Staging!G459),-100,+Staging!H459+-Staging!G459)","v":0},{"$f":"IF(ISBLANK(Staging!H459),-100,+Staging!I459+-Staging!H459)","v":0},{"$f":"IF(ISBLANK(Staging!I459),-100,+Staging!J459+-Staging!I459)","v":0}]
[457,{"$f":"IF(ISBLANK(Staging!D460),-100,+Staging!E460+-Staging!D460)","v":0},{"$f":"IF(ISBLANK(Staging!E460),-100,+Staging!F460+-Staging!E460)","v":0},{"$f":"IF(ISBLANK(Staging!F460),-100,+Staging!G460+-Staging!F460)","v":0},{"$f":"IF(ISBLANK(Staging!G460),-100,+Staging!H460+-Staging!G460)","v":0},{"$f":"IF(ISBLANK(Staging!H460),-100,+Staging!I460+-Staging!H460)","v":0},{"$f":"IF(ISBLANK(Staging!I460),-100,+Staging!J460+-Staging!I460)","v":0}]
[458,{"$f":"IF(ISBLANK(Staging!D461),-100,+Staging!E461+-Staging!D461)","v":0},{"$f":"IF(ISBLANK(Staging!E461),-100,+Staging!F461+-Staging!E461)","v":0},{"$f":"IF(ISBLANK(Staging!F461),-100,+Staging!G461+-Staging!F461)","v":0},{"$f":"IF(ISBLANK(Staging!G461),-100,+Staging!H461+-Staging!G461)","v":0},{"$f":"IF(ISBLANK(Staging!H461),-100,+Staging!I461+-Staging!H461)","v":0},{"$f":"IF(ISBLANK(Staging!I461),-100,+Staging!J461+-Staging!I461)","v":0}]
[459,{"$f":"IF(ISBLANK(Staging!D462),-100,+Staging!E462+-Staging!D462)","v":0},{"$f":"IF(ISBLANK(Staging!E462),-100,+Staging!F462+-Staging!E462)","v":0},{"$f":"IF(ISBLANK(Staging!F462),-100,+Staging!G462+-Staging!F462)","v":0},{"$f":"IF(ISBLANK(Staging!G462),-100,+Staging!H462+-Staging!G462)","v":0},{"$f":"IF(ISBLANK(Staging!H462),-100,+Staging!I462+-Staging!H462)","v":0},{"$f":"IF(ISBLANK(Staging!I462),-100,+Staging!J462+-Staging!I462)","v":0}]
[460,{"$f":"IF(ISBLANK(Staging!D463),-100,+Staging!E463+-Staging!D463)","v":0},{"$f":"IF(ISBLANK(Staging!E463),-100,+Staging!F463+-Staging!E463)","v":0},{"$f":"IF(ISBLANK(Staging!F463),-100,+Staging!G463+-Staging!F463)","v":0},{"$f":"IF(ISBLANK(Staging!G463),-100,+Staging!H463+-Staging!G463)","v":0},{"$f":"IF(ISBLANK(Staging!H463),-100,+Staging!I463+-Staging!H463)","v":0},{"$f":"IF(ISBLANK(Staging!I463),-100,+Staging!J463+-Staging!I463)","v":0}]
[461,{"$f":"IF(ISBLANK(Staging!D464),-100,+Staging!E464+-Staging!D464)","v":0},{"$f":"IF(ISBLANK(Staging!E464),-100,+Staging!F464+-Staging!E464)","v":0},{"$f":"IF(ISBLANK(Staging!F464),-100,+Staging!G464+-Staging!F464)","v":0},{"$f":"IF(ISBLANK(Staging!G464),-100,+Staging!H464+-Staging!G464)","v":0},{"$f":"IF(ISBLANK(Staging!H464),-100,+Staging!I464+-Staging!H464)","v":0},{"$f":"IF(ISBLANK(Staging!I464),-100,+Staging!J464+-Staging!I464)","v":0}]
[462,{"$f":"IF(ISBLANK(Staging!D465),-100,+Staging!E465+-Staging!D465)","v":0},{"$f":"IF(ISBLANK(Staging!E465),-100,+Staging!F465+-Staging!E465)","v":0},{"$f":"IF(ISBLANK(Staging!F465),-100,+Staging!G465+-Staging!F465)","v":0},{"$f":"IF(ISBLANK(Staging!G465),-100,+Staging!H465+-Staging!G465)","v":0},{"$f":"IF(ISBLANK(Staging!H465),-100,+Staging!I465+-Staging!H465)","v":0},{"$f":"IF(ISBLANK(Staging!I465),-100,+Staging!J465+-Staging!I465)","v":0}]
[463,{"$f":"IF(ISBLANK(Staging!D466),-100,+Staging!E466+-Staging!D466)","v":0},{"$f":"IF(ISBLANK(Staging!E466),-100,+Staging!F466+-Staging!E466)","v":0},{"$f":"IF(ISBLANK(Staging!F466),-100,+Staging!G466+-Staging!F466)","v":0},{"$f":"IF(ISBLANK(Staging!G466),-100,+Staging!H466+-Staging!G466)","v":0},{"$f":"IF(ISBLANK(Staging!H466),-100,+Staging!I466+-Staging!H466)","v":0},{"$f":"IF(ISBLANK(Staging!I466),-100,+Staging!J466+-Staging!I466)","v":0}]
[464,{"$f":"IF(ISBLANK(Staging!D467),-100,+Staging!E467+-Staging!D467)","v":0},{"$f":"IF(ISBLANK(Staging!E467),-100,+Staging!F467+-Staging!E467)","v":0},{"$f":"IF(ISBLANK(Staging!F467),-100,+Staging!G467+-Staging!F467)","v":0},{"$f":"IF(ISBLANK(Staging!G467),-100,+Staging!H467+-Staging!G467)","v":0},{"$f":"IF(ISBLANK(Staging!H467),-100,+Staging!I467+-Staging!H467)","v":0},{"$f":"IF(ISBLANK(Staging!I467),-100,+Staging!J467+-Staging!I467)","v":0}]
[465,{"$f":"IF(ISBLANK(Staging!D468),-100,+Staging!E468+-Staging!D468)","v":0},{"$f":"IF(ISBLANK(Staging!E468),-100,+Staging!F468+-Staging!E468)","v":0},{"$f":"IF(ISBLANK(Staging!F468),-100,+Staging!G468+-Staging!F468)","v":0},{"$f":"IF(ISBLANK(Staging!G468),-100,+Staging!H468+-Staging!G468)","v":0},{"$f":"IF(ISBLANK(Staging!H468),-100,+Staging!I468+-Staging!H468)","v":0},{"$f":"IF(ISBLANK(Staging!I468),-100,+Staging!J468+-Staging!I468)","v":0}]
[466,{"$f":"IF(ISBLANK(Staging!D469),-100,+Staging!E469+-Staging!D469)","v":0},{"$f":"IF(ISBLANK(Staging!E469),-100,+Staging!F469+-Staging!E469)","v":0},{"$f":"IF(ISBLANK(Staging!F469),-100,+Staging!G469+-Staging!F469)","v":0},{"$f":"IF(ISBLANK(Staging!G469),-100,+Staging!H469+-Staging!G469)","v":0},{"$f":"IF(ISBLANK(Staging!H469),-100,+Staging!I469+-Staging!H469)","v":0},{"$f":"IF(ISBLANK(Staging!I469),-100,+Staging!J469+-Staging!I469)","v":0}]
[467,{"$f":"IF(ISBLANK(Staging!D470),-100,+Staging!E470+-Staging!D470)","v":0},{"$f":"IF(ISBLANK(Staging!E470),-100,+Staging!F470+-Staging!E470)","v":0},{"$f":"IF(ISBLANK(Staging!F470),-100,+Staging!G470+-Staging!F470)","v":0},{"$f":"IF(ISBLANK(Staging!G470),-100,+Staging!H470+-Staging!G470)","v":0},{"$f":"IF(ISBLANK(Staging!H470),-100,+Staging!I470+-Staging!H470)","v":0},{"$f":"IF(ISBLANK(Staging!I470),-100,+Staging!J470+-Staging!I470)","v":0}]
[468,{"$f":"IF(ISBLANK(Staging!D471),-100,+Staging!E471+-Staging!D471)","v":0},{"$f":"IF(ISBLANK(Staging!E471),-100,+Staging!F471+-Staging!E471)","v":0},{"$f":"IF(ISBLANK(Staging!F471),-100,+Staging!G471+-Staging!F471)","v":0},{"$f":"IF(ISBLANK(Staging!G471),-100,+Staging!H471+-Staging!G471)","v":0},{"$f":"IF(ISBLANK(Staging!H471),-100,+Staging!I471+-Staging!H471)","v":0},{"$f":"IF(ISBLANK(Staging!I471),-100,+Staging!J471+-Staging!I471)","v":0}]
[469,{"$f":"IF(ISBLANK(Staging!D472),-100,+Staging!E472+-Staging!D472)","v":0},{"$f":"IF(ISBLANK(Staging!E472),-100,+Staging!F472+-Staging!E472)","v":0},{"$f":"IF(ISBLANK(Staging!F472),-100,+Staging!G472+-Staging!F472)","v":0},{"$f":"IF(ISBLANK(Staging!G472),-100,+Staging!H472+-Staging!G472)","v":0},{"$f":"IF(ISBLANK(Staging!H472),-100,+Staging!I472+-Staging!H472)","v":0},{"$f":"IF(ISBLANK(Staging!I472),-100,+Staging!J472+-Staging!I472)","v":0}]
[470,{"$f":"IF(ISBLANK(Staging!D473),-100,+Staging!E473+-Staging!D473)","v":0},{"$f":"IF(ISBLANK(Staging!E473),-100,+Staging!F473+-Staging!E473)","v":0},{"$f":"IF(ISBLANK(Staging!F473),-100,+Staging!G473+-Staging!F473)","v":0},{"$f":"IF(ISBLANK(Staging!G473),-100,+Staging!H473+-Staging!G473)","v":0},{"$f":"IF(ISBLANK(Staging!H473),-100,+Staging!I473+-Staging!H473)","v":0},{"$f":"IF(ISBLANK(Staging!I473),-100,+Staging!J473+-Staging!I473)","v":0}]
[471,{"$f":"IF(ISBLANK(Staging!D474),-100,+Staging!E474+-Staging!D474)","v":0},{"$f":"IF(ISBLANK(Staging!E474),-100,+Staging!F474+-Staging!E474)","v":0},{"$f":"IF(ISBLANK(Staging!F474),-100,+Staging!G474+-Staging!F474)","v":0},{"$f":"IF(ISBLANK(Staging!G474),-100,+Staging!H474+-Staging!G474)","v":0},{"$f":"IF(ISBLANK(Staging!H474),-100,+Staging!I474+-Staging!H474)","v":0},{"$f":"IF(ISBLANK(Staging!I474),-100,+Staging!J474+-Staging!I474)","v":0}]
[472,{"$f":"IF(ISBLANK(Staging!D475),-100,+Staging!E475+-Staging!D475)","v":0},{"$f":"IF(ISBLANK(Staging!E475),-100,+Staging!F475+-Staging!E475)","v":0},{"$f":"IF(ISBLANK(Staging!F475),-100,+Staging!G475+-Staging!F475)","v":0},{"$f":"IF(ISBLANK(Staging!G475),-100,+Staging!H475+-Staging!G475)","v":0},{"$f":"IF(ISBLANK(Staging!H475),-100,+Staging!I475+-Staging!H475)","v":0},{"$f":"IF(ISBLANK(Staging!I475),-100,+Staging!J475+-Staging!I475)","v":0}]
[473,{"$f":"IF(ISBLANK(Staging!D476),-100,+Staging!E476+-Staging!D476)","v":0},{"$f":"IF(ISBLANK(Staging!E476),-100,+Staging!F476+-Staging!E476)","v":0},{"$f":"IF(ISBLANK(Staging!F476),-100,+Staging!G476+-Staging!F476)","v":0},{"$f":"IF(ISBLANK(Staging!G476),-100,+Staging!H476+-Staging!G476)","v":0},{"$f":"IF(ISBLANK(Staging!H476),-100,+Staging!I476+-Staging!H476)","v":0},{"$f":"IF(ISBLANK(Staging!I476),-100,+Staging!J476+-Staging!I476)","v":0}]
[474,{"$f":"IF(ISBLANK(Staging!D477),-100,+Staging!E477+-Staging!D477)","v":0},{"$f":"IF(ISBLANK(Staging!E477),-100,+Staging!F477+-Staging!E477)","v":0},{"$f":"IF(ISBLANK(Staging!F477),-100,+Staging!G477+-Staging!F477)","v":0},{"$f":"IF(ISBLANK(Staging!G477),-100,+Staging!H477+-Staging!G477)","v":0},{"$f":"IF(ISBLANK(Staging!H477),-100,+Staging!I477+-Staging!H477)","v":0},{"$f":"IF(ISBLANK(Staging!I477),-100,+Staging!J477+-Staging!I477)","v":0}]
[475,{"$f":"IF(ISBLANK(Staging!D478),-100,+Staging!E478+-Staging!D478)","v":0},{"$f":"IF(ISBLANK(Staging!E478),-100,+Staging!F478+-Staging!E478)","v":0},{"$f":"IF(ISBLANK(Staging!F478),-100,+Staging!G478+-Staging!F478)","v":0},{"$f":"IF(ISBLANK(Staging!G478),-100,+Staging!H478+-Staging!G478)","v":0},{"$f":"IF(ISBLANK(Staging!H478),-100,+Staging!I478+-Staging!H478)","v":0},{"$f":"IF(ISBLANK(Staging!I478),-100,+Staging!J478+-Staging!I478)","v":0}]
[476,{"$f":"IF(ISBLANK(Staging!D479),-100,+Staging!E479+-Staging!D479)","v":0},{"$f":"IF(ISBLANK(Staging!E479),-100,+Staging!F479+-Staging!E479)","v":0},{"$f":"IF(ISBLANK(Staging!F479),-100,+Staging!G479+-Staging!F479)","v":0},{"$f":"IF(ISBLANK(Staging!G479),-100,+Staging!H479+-Staging!G479)","v":0},{"$f":"IF(ISBLANK(Staging!H479),-100,+Staging!I479+-Staging!H479)","v":0},{"$f":"IF(ISBLANK(Staging!I479),-100,+Staging!J479+-Staging!I479)","v":0}]
[477,{"$f":"IF(ISBLANK(Staging!D480),-100,+Staging!E480+-Staging!D480)","v":0},{"$f":"IF(ISBLANK(Staging!E480),-100,+Staging!F480+-Staging!E480)","v":0},{"$f":"IF(ISBLANK(Staging!F480),-100,+Staging!G480+-Staging!F480)","v":0},{"$f":"IF(ISBLANK(Staging!G480),-100,+Staging!H480+-Staging!G480)","v":0},{"$f":"IF(ISBLANK(Staging!H480),-100,+Staging!I480+-Staging!H480)","v":0},{"$f":"IF(ISBLANK(Staging!I480),-100,+Staging!J480+-Staging!I480)","v":0}]
[478,{"$f":"IF(ISBLANK(Staging!D481),-100,+Staging!E481+-Staging!D481)","v":0},{"$f":"IF(ISBLANK(Staging!E481),-100,+Staging!F481+-Staging!E481)","v":0},{"$f":"IF(ISBLANK(Staging!F481),-100,+Staging!G481+-Staging!F481)","v":0},{"$f":"IF(ISBLANK(Staging!G481),-100,+Staging!H481+-Staging!G481)","v":0},{"$f":"IF(ISBLANK(Staging!H481),-100,+Staging!I481+-Staging!H481)","v":0},{"$f":"IF(ISBLANK(Staging!I481),-100,+Staging!J481+-Staging!I481)","v":0}]
[479,{"$f":"IF(ISBLANK(Staging!D482),-100,+Staging!E482+-Staging!D482)","v":0},{"$f":"IF(ISBLANK(Staging!E482),-100,+Staging!F482+-Staging!E482)","v":0},{"$f":"IF(ISBLANK(Staging!F482),-100,+Staging!G482+-Staging!F482)","v":0},{"$f":"IF(ISBLANK(Staging!G482),-100,+Staging!H482+-Staging!G482)","v":0},{"$f":"IF(ISBLANK(Staging!H482),-100,+Staging!I482+-Staging!H482)","v":0},{"$f":"IF(ISBLANK(Staging!I482),-100,+Staging!J482+-Staging!I482)","v":0}]
[480,{"$f":"IF(ISBLANK(Staging!D483),-100,+Staging!E483+-Staging!D483)","v":0},{"$f":"IF(ISBLANK(Staging!E483),-100,+Staging!F483+-Staging!E483)","v":0},{"$f":"IF(ISBLANK(Staging!F483),-100,+Staging!G483+-Staging!F483)","v":0},{"$f":"IF(ISBLANK(Staging!G483),-100,+Staging!H483+-Staging!G483)","v":0},{"$f":"IF(ISBLANK(Staging!H483),-100,+Staging!I483+-Staging!H483)","v":0},{"$f":"IF(ISBLANK(Staging!I483),-100,+Staging!J483+-Staging!I483)","v":0}]
[481,{"$f":"IF(ISBLANK(Staging!D484),-100,+Staging!E484+-Staging!D484)","v":0},{"$f":"IF(ISBLANK(Staging!E484),-100,+Staging!F484+-Staging!E484)","v":0},{"$f":"IF(ISBLANK(Staging!F484),-100,+Staging!G484+-Staging!F484)","v":0},{"$f":"IF(ISBLANK(Staging!G484),-100,+Staging!H484+-Staging!G484)","v":0},{"$f":"IF(ISBLANK(Staging!H484),-100,+Staging!I484+-Staging!H484)","v":0},{"$f":"IF(ISBLANK(Staging!I484),-100,+Staging!J484+-Staging!I484)","v":0}]
[482,{"$f":"IF(ISBLANK(Staging!D485),-100,+Staging!E485+-Staging!D485)","v":0},{"$f":"IF(ISBLANK(Staging!E485),-100,+Staging!F485+-Staging!E485)","v":0},{"$f":"IF(ISBLANK(Staging!F485),-100,+Staging!G485+-Staging!F485)","v":0},{"$f":"IF(ISBLANK(Staging!G485),-100,+Staging!H485+-Staging!G485)","v":0},{"$f":"IF(ISBLANK(Staging!H485),-100,+Staging!I485+-Staging!H485)","v":0},{"$f":"IF(ISBLANK(Staging!I485),-100,+Staging!J485+-Staging!I485)","v":0}]
[483,{"$f":"IF(ISBLANK(Staging!D486),-100,+Staging!E486+-Staging!D486)","v":0},{"$f":"IF(ISBLANK(Staging!E486),-100,+Staging!F486+-Staging!E486)","v":0},{"$f":"IF(ISBLANK(Staging!F486),-100,+Staging!G486+-Staging!F486)","v":0},{"$f":"IF(ISBLANK(Staging!G486),-100,+Staging!H486+-Staging!G486)","v":0},{"$f":"IF(ISBLANK(Staging!H486),-100,+Staging!I486+-Staging!H486)","v":0},{"$f":"IF(ISBLANK(Staging!I486),-100,+Staging!J486+-Staging!I486)","v":0}]
[484,{"$f":"IF(ISBLANK(Staging!D487),-100,+Staging!E487+-Staging!D487)","v":0},{"$f":"IF(ISBLANK(Staging!E487),-100,+Staging!F487+-Staging!E487)","v":0},{"$f":"IF(ISBLANK(Staging!F487),-100,+Staging!G487+-Staging!F487)","v":0},{"$f":"IF(ISBLANK(Staging!G487),-100,+Staging!H487+-Staging!G487)","v":0},{"$f":"IF(ISBLANK(Staging!H487),-100,+Staging!I487+-Staging!H487)","v":0},{"$f":"IF(ISBLANK(Staging!I487),-100,+Staging!J487+-Staging!I487)","v":0}]
[485,{"$f":"IF(ISBLANK(Staging!D488),-100,+Staging!E488+-Staging!D488)","v":0},{"$f":"IF(ISBLANK(Staging!E488),-100,+Staging!F488+-Staging!E488)","v":0},{"$f":"IF(ISBLANK(Staging!F488),-100,+Staging!G488+-Staging!F488)","v":0},{"$f":"IF(ISBLANK(Staging!G488),-100,+Staging!H488+-Staging!G488)","v":0},{"$f":"IF(ISBLANK(Staging!H488),-100,+Staging!I488+-Staging!H488)","v":0},{"$f":"IF(ISBLANK(Staging!I488),-100,+Staging!J488+-Staging!I488)","v":0}]
[486,{"$f":"IF(ISBLANK(Staging!D489),-100,+Staging!E489+-Staging!D489)","v":0},{"$f":"IF(ISBLANK(Staging!E489),-100,+Staging!F489+-Staging!E489)","v":0},{"$f":"IF(ISBLANK(Staging!F489),-100,+Staging!G489+-Staging!F489)","v":0},{"$f":"IF(ISBLANK(Staging!G489),-100,+Staging!H489+-Staging!G489)","v":0},{"$f":"IF(ISBLANK(Staging!H489),-100,+Staging!I489+-Staging!H489)","v":0},{"$f":"IF(ISBLANK(Staging!I489),-100,+Staging!J489+-Staging!I489)","v":0}]
[487,{"$f":"IF(ISBLANK(Staging!D490),-100,+Staging!E490+-Staging!D490)","v":0},{"$f":"IF(ISBLANK(Staging!E490),-100,+Staging!F490+-Staging!E490)","v":0},{"$f":"IF(ISBLANK(Staging!F490),-100,+Staging!G490+-Staging!F490)","v":0},{"$f":"IF(ISBLANK(Staging!G490),-100,+Staging!H490+-Staging!G490)","v":0},{"$f":"IF(ISBLANK(Staging!H490),-100,+Staging!I490+-Staging!H490)","v":0},{"$f":"IF(ISBLANK(Staging!I490),-100,+Staging!J490+-Staging!I490)","v":0}]
[488,{"$f":"IF(ISBLANK(Staging!D491),-100,+Staging!E491+-Staging!D491)","v":0},{"$f":"IF(ISBLANK(Staging!E491),-100,+Staging!F491+-Staging!E491)","v":0},{"$f":"IF(ISBLANK(Staging!F491),-100,+Staging!G491+-Staging!F491)","v":0},{"$f":"IF(ISBLANK(Staging!G491),-100,+Staging!H491+-Staging!G491)","v":0},{"$f":"IF(ISBLANK(Staging!H491),-100,+Staging!I491+-Staging!H491)","v":0},{"$f":"IF(ISBLANK(Staging!I491),-100,+Staging!J491+-Staging!I491)","v":0}]
[489,{"$f":"IF(ISBLANK(Staging!D492),-100,+Staging!E492+-Staging!D492)","v":0},{"$f":"IF(ISBLANK(Staging!E492),-100,+Staging!F492+-Staging!E492)","v":0},{"$f":"IF(ISBLANK(Staging!F492),-100,+Staging!G492+-Staging!F492)","v":0},{"$f":"IF(ISBLANK(Staging!G492),-100,+Staging!H492+-Staging!G492)","v":0},{"$f":"IF(ISBLANK(Staging!H492),-100,+Staging!I492+-Staging!H492)","v":0},{"$f":"IF(ISBLANK(Staging!I492),-100,+Staging!J492+-Staging!I492)","v":0}]
[490,{"$f":"IF(ISBLANK(Staging!D493),-100,+Staging!E493+-Staging!D493)","v":0},{"$f":"IF(ISBLANK(Staging!E493),-100,+Staging!F493+-Staging!E493)","v":0},{"$f":"IF(ISBLANK(Staging!F493),-100,+Staging!G493+-Staging!F493)","v":0},{"$f":"IF(ISBLANK(Staging!G493),-100,+Staging!H493+-Staging!G493)","v":0},{"$f":"IF(ISBLANK(Staging!H493),-100,+Staging!I493+-Staging!H493)","v":0},{"$f":"IF(ISBLANK(Staging!I493),-100,+Staging!J493+-Staging!I493)","v":0}]
[491,{"$f":"IF(ISBLANK(Staging!D494),-100,+Staging!E494+-Staging!D494)","v":0},{"$f":"IF(ISBLANK(Staging!E494),-100,+Staging!F494+-Staging!E494)","v":0},{"$f":"IF(ISBLANK(Staging!F494),-100,+Staging!G494+-Staging!F494)","v":0},{"$f":"IF(ISBLANK(Staging!G494),-100,+Staging!H494+-Staging!G494)","v":0},{"$f":"IF(ISBLANK(Staging!H494),-100,+Staging!I494+-Staging!H494)","v":0},{"$f":"IF(ISBLANK(Staging!I494),-100,+Staging!J494+-Staging!I494)","v":0}]
[492,{"$f":"IF(ISBLANK(Staging!D495),-100,+Staging!E495+-Staging!D495)","v":0},{"$f":"IF(ISBLANK(Staging!E495),-100,+Staging!F495+-Staging!E495)","v":0},{"$f":"IF(ISBLANK(Staging!F495),-100,+Staging!G495+-Staging!F495)","v":0},{"$f":"IF(ISBLANK(Staging!G495),-100,+Staging!H495+-Staging!G495)","v":0},{"$f":"IF(ISBLANK(Staging!H495),-100,+Staging!I495+-Staging!H495)","v":0},{"$f":"IF(ISBLANK(Staging!I495),-100,+Staging!J495+-Staging!I495)","v":0}]
[493,{"$f":"IF(ISBLANK(Staging!D496),-100,+Staging!E496+-Staging!D496)","v":0},{"$f":"IF(ISBLANK(Staging!E496),-100,+Staging!F496+-Staging!E496)","v":0},{"$f":"IF(ISBLANK(Staging!F496),-100,+Staging!G496+-Staging!F496)","v":0},{"$f":"IF(ISBLANK(Staging!G496),-100,+Staging!H496+-Staging!G496)","v":0},{"$f":"IF(ISBLANK(Staging!H496),-100,+Staging!I496+-Staging!H496)","v":0},{"$f":"IF(ISBLANK(Staging!I496),-100,+Staging!J496+-Staging!I496)","v":0}]
[494,{"$f":"IF(ISBLANK(Staging!D497),-100,+Staging!E497+-Staging!D497)","v":0},{"$f":"IF(ISBLANK(Staging!E497),-100,+Staging!F497+-Staging!E497)","v":0},{"$f":"IF(ISBLANK(Staging!F497),-100,+Staging!G497+-Staging!F497)","v":0},{"$f":"IF(ISBLANK(Staging!G497),-100,+Staging!H497+-Staging!G497)","v":0},{"$f":"IF(ISBLANK(Staging!H497),-100,+Staging!I497+-Staging!H497)","v":0},{"$f":"IF(ISBLANK(Staging!I497),-100,+Staging!J497+-Staging!I497)","v":0}]
[495,{"$f":"IF(ISBLANK(Staging!D498),-100,+Staging!E498+-Staging!D498)","v":0},{"$f":"IF(ISBLANK(Staging!E498),-100,+Staging!F498+-Staging!E498)","v":0},{"$f":"IF(ISBLANK(Staging!F498),-100,+Staging!G498+-Staging!F498)","v":0},{"$f":"IF(ISBLANK(Staging!G498),-100,+Staging!H498+-Staging!G498)","v":0},{"$f":"IF(ISBLANK(Staging!H498),-100,+Staging!I498+-Staging!H498)","v":0},{"$f":"IF(ISBLANK(Staging!I498),-100,+Staging!J498+-Staging!I498)","v":0}]
[496,{"$f":"IF(ISBLANK(Staging!D499),-100,+Staging!E499+-Staging!D499)","v":0},{"$f":"IF(ISBLANK(Staging!E499),-100,+Staging!F499+-Staging!E499)","v":0},{"$f":"IF(ISBLANK(Staging!F499),-100,+Staging!G499+-Staging!F499)","v":0},{"$f":"IF(ISBLANK(Staging!G499),-100,+Staging!H499+-Staging!G499)","v":0},{"$f":"IF(ISBLANK(Staging!H499),-100,+Staging!I499+-Staging!H499)","v":0},{"$f":"IF(ISBLANK(Staging!I499),-100,+Staging!J499+-Staging!I499)","v":0}]
[497,{"$f":"IF(ISBLANK(Staging!D500),-100,+Staging!E500+-Staging!D500)","v":0},{"$f":"IF(ISBLANK(Staging!E500),-100,+Staging!F500+-Staging!E500)","v":0},{"$f":"IF(ISBLANK(Staging!F500),-100,+Staging!G500+-Staging!F500)","v":0},{"$f":"IF(ISBLANK(Staging!G500),-100,+Staging!H500+-Staging!G500)","v":0},{"$f":"IF(ISBLANK(Staging!H500),-100,+Staging!I500+-Staging!H500)","v":0},{"$f":"IF(ISBLANK(Staging!I500),-100,+Staging!J500+-Staging!I500)","v":0}]
[498,{"$f":"IF(ISBLANK(Staging!D501),-100,+Staging!E501+-Staging!D501)","v":0},{"$f":"IF(ISBLANK(Staging!E501),-100,+Staging!F501+-Staging!E501)","v":0},{"$f":"IF(ISBLANK(Staging!F501),-100,+Staging!G501+-Staging!F501)","v":0},{"$f":"IF(ISBLANK(Staging!G501),-100,+Staging!H501+-Staging!G501)","v":0},{"$f":"IF(ISBLANK(Staging!H501),-100,+Staging!I501+-Staging!H501)","v":0},{"$f":"IF(ISBLANK(Staging!I501),-100,+Staging!J501+-Staging!I501)","v":0}]
[499,{"$f":"IF(ISBLANK(Staging!D502),-100,+Staging!E502+-Staging!D502)","v":0},{"$f":"IF(ISBLANK(Staging!E502),-100,+Staging!F502+-Staging!E502)","v":0},{"$f":"IF(ISBLANK(Staging!F502),-100,+Staging!G502+-Staging!F502)","v":0},{"$f":"IF(ISBLANK(Staging!G502),-100,+Staging!H502+-Staging!G502)","v":0},{"$f":"IF(ISBLANK(Staging!H502),-100,+Staging!I502+-Staging!H502)","v":0},{"$f":"IF(ISBLANK(Staging!I502),-100,+Staging!J502+-Staging!I502)","v":0}]
[500,{"$f":"IF(ISBLANK(Staging!D503),-100,+Staging!E503+-Staging!D503)","v":0},{"$f":"IF(ISBLANK(Staging!E503),-100,+Staging!F503+-Staging!E503)","v":0},{"$f":"IF(ISBLANK(Staging!F503),-100,+Staging!G503+-Staging!F503)","v":0},{"$f":"IF(ISBLANK(Staging!G503),-100,+Staging!H503+-Staging!G503)","v":0},{"$f":"IF(ISBLANK(Staging!H503),-100,+Staging!I503+-Staging!H503)","v":0},{"$f":"IF(ISBLANK(Staging!I503),-100,+Staging!J503+-Staging!I503)","v":0}]
[501,{"$f":"IF(ISBLANK(Staging!D504),-100,+Staging!E504+-Staging!D504)","v":0},{"$f":"IF(ISBLANK(Staging!E504),-100,+Staging!F504+-Staging!E504)","v":0},{"$f":"IF(ISBLANK(Staging!F504),-100,+Staging!G504+-Staging!F504)","v":0},{"$f":"IF(ISBLANK(Staging!G504),-100,+Staging!H504+-Staging!G504)","v":0},{"$f":"IF(ISBLANK(Staging!H504),-100,+Staging!I504+-Staging!H504)","v":0},{"$f":"IF(ISBLANK(Staging!I504),-100,+Staging!J504+-Staging!I504)","v":0}]
[502,{"$f":"IF(ISBLANK(Staging!D505),-100,+Staging!E505+-Staging!D505)","v":0},{"$f":"IF(ISBLANK(Staging!E505),-100,+Staging!F505+-Staging!E505)","v":0},{"$f":"IF(ISBLANK(Staging!F505),-100,+Staging!G505+-Staging!F505)","v":0},{"$f":"IF(ISBLANK(Staging!G505),-100,+Staging!H505+-Staging!G505)","v":0},{"$f":"IF(ISBLANK(Staging!H505),-100,+Staging!I505+-Staging!H505)","v":0},{"$f":"IF(ISBLANK(Staging!I505),-100,+Staging!J505+-Staging!I505)","v":0}]
[503,{"$f":"IF(ISBLANK(Staging!D506),-100,+Staging!E506+-Staging!D506)","v":0},{"$f":"IF(ISBLANK(Staging!E506),-100,+Staging!F506+-Staging!E506)","v":0},{"$f":"IF(ISBLANK(Staging!F506),-100,+Staging!G506+-Staging!F506)","v":0},{"$f":"IF(ISBLANK(Staging!G506),-100,+Staging!H506+-Staging!G506)","v":0},{"$f":"IF(ISBLANK(Staging!H506),-100,+Staging!I506+-Staging!H506)","v":0},{"$f":"IF(ISBLANK(Staging!I506),-100,+Staging!J506+-Staging!I506)","v":0}]
[504,{"$f":"IF(ISBLANK(Staging!D507),-100,+Staging!E507+-Staging!D507)","v":0},{"$f":"IF(ISBLANK(Staging!E507),-100,+Staging!F507+-Staging!E507)","v":0},{"$f":"IF(ISBLANK(Staging!F507),-100,+Staging!G507+-Staging!F507)","v":0},{"$f":"IF(ISBLANK(Staging!G507),-100,+Staging!H507+-Staging!G507)","v":0},{"$f":"IF(ISBLANK(Staging!H507),-100,+Staging!I507+-Staging!H507)","v":0},{"$f":"IF(ISBLANK(Staging!I507),-100,+Staging!J507+-Staging!I507)","v":0}]
[505,{"$f":"IF(ISBLANK(Staging!D508),-100,+Staging!E508+-Staging!D508)","v":0},{"$f":"IF(ISBLANK(Staging!E508),-100,+Staging!F508+-Staging!E508)","v":0},{"$f":"IF(ISBLANK(Staging!F508),-100,+Staging!G508+-Staging!F508)","v":0},{"$f":"IF(ISBLANK(Staging!G508),-100,+Staging!H508+-Staging!G508)","v":0},{"$f":"IF(ISBLANK(Staging!H508),-100,+Staging!I508+-Staging!H508)","v":0},{"$f":"IF(ISBLANK(Staging!I508),-100,+Staging!J508+-Staging!I508)","v":0}]
[506,{"$f":"IF(ISBLANK(Staging!D509),-100,+Staging!E509+-Staging!D509)","v":0},{"$f":"IF(ISBLANK(Staging!E509),-100,+Staging!F509+-Staging!E509)","v":0},{"$f":"IF(ISBLANK(Staging!F509),-100,+Staging!G509+-Staging!F509)","v":0},{"$f":"IF(ISBLANK(Staging!G509),-100,+Staging!H509+-Staging!G509)","v":0},{"$f":"IF(ISBLANK(Staging!H509),-100,+Staging!I509+-Staging!H509)","v":0},{"$f":"IF(ISBLANK(Staging!I509),-100,+Staging!J509+-Staging!I509)","v":0}]
[507,{"$f":"IF(ISBLANK(Staging!D510),-100,+Staging!E510+-Staging!D510)","v":0},{"$f":"IF(ISBLANK(Staging!E510),-100,+Staging!F510+-Staging!E510)","v":0},{"$f":"IF(ISBLANK(Staging!F510),-100,+Staging!G510+-Staging!F510)","v":0},{"$f":"IF(ISBLANK(Staging!G510),-100,+Staging!H510+-Staging!G510)","v":0},{"$f":"IF(ISBLANK(Staging!H510),-100,+Staging!I510+-Staging!H510)","v":0},{"$f":"IF(ISBLANK(Staging!I510),-100,+Staging!J510+-Staging!I510)","v":0}]
[508,{"$f":"IF(ISBLANK(Staging!D511),-100,+Staging!E511+-Staging!D511)","v":0},{"$f":"IF(ISBLANK(Staging!E511),-100,+Staging!F511+-Staging!E511)","v":0},{"$f":"IF(ISBLANK(Staging!F511),-100,+Staging!G511+-Staging!F511)","v":0},{"$f":"IF(ISBLANK(Staging!G511),-100,+Staging!H511+-Staging!G511)","v":0},{"$f":"IF(ISBLANK(Staging!H511),-100,+Staging!I511+-Staging!H511)","v":0},{"$f":"IF(ISBLANK(Staging!I511),-100,+Staging!J511+-Staging!I511)","v":0}]
[509,{"$f":"IF(ISBLANK(Staging!D512),-100,+Staging!E512+-Staging!D512)","v":0},{"$f":"IF(ISBLANK(Staging!E512),-100,+Staging!F512+-Staging!E512)","v":0},{"$f":"IF(ISBLANK(Staging!F512),-100,+Staging!G512+-Staging!F512)","v":0},{"$f":"IF(ISBLANK(Staging!G512),-100,+Staging!H512+-Staging!G512)","v":0},{"$f":"IF(ISBLANK(Staging!H512),-100,+Staging!I512+-Staging!H512)","v":0},{"$f":"IF(ISBLANK(Staging!I512),-100,+Staging!J512+-Staging!I512)","v":0}]
[510,{"$f":"IF(ISBLANK(Staging!D513),-100,+Staging!E513+-Staging!D513)","v":0},{"$f":"IF(ISBLANK(Staging!E513),-100,+Staging!F513+-Staging!E513)","v":0},{"$f":"IF(ISBLANK(Staging!F513),-100,+Staging!G513+-Staging!F513)","v":0},{"$f":"IF(ISBLANK(Staging!G513),-100,+Staging!H513+-Staging!G513)","v":0},{"$f":"IF(ISBLANK(Staging!H513),-100,+Staging!I513+-Staging!H513)","v":0},{"$f":"IF(ISBLANK(Staging!I513),-100,+Staging!J513+-Staging!I513)","v":0}]

{"sheet":"TestData","index":6,"n_rows":514,"n_cols":10,"rows_kept":514,"cut":false,"hidden":false,"merged":[[1,1,1,9],[0,0,0,3],[0,4,0,9]]}
["Input Diameter ",null,null,null,{"$f":"\"Farm: TestData Farm   Block:  1\"","v":"Farm: TestData Farm   Block:  1"}]
[null,"This is test data that can be pasted into the Input sheet."]
["Tree","Cluster","Flower",{"$f":"+Setup!A5","v":"2015-05-18"},{"$f":"+Setup!A6","v":"2015-05-21"},{"$f":"+Setup!A7","v":"2015-05-25"},{"$f":"+Setup!A8","v":"2015-05-28"},{"$f":"+Setup!A9","v":"2015-05-31"},{"$f":"+Setup!A10","v":"2015-06-03"},{"$f":"+Setup!A10","v":"2015-06-03"}]
[1,1,1,8,7.6,7.5,7.5,7.9,7.9]
[{"$f":"+A4","v":1},1,2,7.3,7.5,7.5,7.5,8.1]
[{"$f":"+A5","v":1},2,1,7.7,7.9,7.6,7.9,8.1,8,7.1]
[1,2,2,8,9.4,9.3000000000000007,9.4,9.5,9.3000000000000007,9.1999999999999993]
[1,3,1,7.7,10.9,13.6,14.8,16.8,18.100000000000001,20]
[1,3,2,4.7,4.7,4.3]
[1,4,1,9,9.3000000000000007,9.5,9.4,9.6999999999999993,9.4]
[1,4,2,7,7.1,7.1,7]
[1,4,3,7.9,7.7]
[1,5,1,8.6,8.9,8.8000000000000007,9.1,9.3000000000000007,9.5]
[1,5,2,4.5999999999999996,4.5999999999999996,2.8]
[1,5,3,4.5999999999999996,4.5999999999999996]
[1,5,4,3.5,3.5]
[1,6,1,9.3000000000000007,13.1,14.9,16.899999999999999,19.3,21,22.9]
[1,6,2,7.6,7.6,7.6,8.4,8.4,8.8000000000000007,8.5]
[1,6,3,6.8,6.6,6.3]
[1,7,1,9.6999999999999993,10.3,10.7,10.7,10.5,10.7]
[1,7,2,7.2,7.1,6.8,6.9,7.4]
[1,8,1,8.3000000000000007,11.1,13.6,15,17.600000000000001,18.7,21.1]
[1,8,2,7.4,6.9,7.1,7.2]
[1,8,3,7.1,7.2,7,6.8]
[1,8,4,3.9,3.4,1.8,3.3,1.7]
[1,8,5,2,2.4]
[1,9,1,7.6,11.1,13.2,14.4,16.8,17.7,20.2]
[1,9,2,7.7,7.8,7.7,8.1999999999999993]
[1,9,3,3.5,2.4]
[1,9,4,3.1,2.4]
[1,9,5,3.5,2.1]
[2,10,1,9.8000000000000007,12.9,15.3,15.6,16.2,16.100000000000001,16.100000000000001]
[2,10,2,4.0999999999999996,3,3]
[2,10,3,4.2,3.7]
[2,10,4,4.5999999999999996,4.3]
[2,10,5,3.8,2.1,2.6]
[2,11,1,10.199999999999999,12.2,12.2,12.5,12.4,12.6,12.6]
[2,11,2,8.5,8.9,8.9,8.8000000000000007,9,9,7.3]
[2,11,3,6.3,6.5,6.2,6.6,6.1,6.5,5.0999999999999996]
[2,11,4,5.0999999999999996,5,8]
[2,11,5,8.1,8.3000000000000007]
[2,12,1,9.1,10,9.6999999999999993,9.9]
[2,12,2,7.4,7.6,7.6,7.6,7.7]
[2,13,1,9.8000000000000007,12.3,12.6,12.6,12.8,12.8,12.8]
[2,13,2,4.8,4.8]
[2,14,1,8.8000000000000007,9,8.6999999999999993,9]
[2,14,2,8,8.4,8.1999999999999993,8.5]
[2,14,3,7.4,7.3,7.4,7.5]
[2,14,4,6.8,6.7,6.4,6.7,6.6,6.4,5.3]
[3,15,1,9.1,9.5,9.3000000000000007,9.4,9.6,9,9]
[3,15,2,6.7,7,6.7,6.7,6.9,6.9,5.6]
[3,15,3,5.4,5.4,4.3]
[3,15,4,5.4,5.0999999999999996,5.0999999999999996]
[3,15,5,7.7,7.7,7.7,8,8,8,6.9]
[3,16,1,9.8000000000000007,13.7,16.3,18.100000000000001,20.399999999999999,21.6,24]
[3,16,2,8,7.7,7.3]
[3,16,3,4.5,4.3,3.4]
[3,16,4,4.0999999999999996,4.4000000000000004]
[3,16,5,4.5,3.8]
[3,17,1,9.1999999999999993,12.8,15.1,16,16.5,16.3,16.5]
[3,17,2,4.5,4.5]
[3,17,3,3.6]
[4,18,1,8.1999999999999993,8.5,8.5,8.6999999999999993,8.6999999999999993,8.8000000000000007]
[4,18,2,7.2,7.3,7,7.2]
[4,18,3,6.8,6.7,6.4,6.8]
[4,18,4,7.4,7.3,6.9,7.4]
[4,18,5,6,6.1,5.9,6.2,6.1]
[4,19,1,8.6999999999999993,8.6999999999999993,8.9,9]
[4,19,2,8,8.1999999999999993,8,8.1999999999999993]
[{"$f":"+A69","v":4},20,1,8.5,9.6999999999999993,9.4,9.6,8.9,9.8000000000000007]
[4,20,2,6.9,6.9,7.1,7.1]
[4,20,3,7.5,7.4,7.3,7.5,7.7,7.8]
[4,20,4,6.8,6.8,6.8,6.9]
[5,1,1,7.3,7.3,7,6.9,7.3,7.5,10]
[5,1,2,9.5,10.3,10.1,10,10.3,10.5]
[5,1,3,5.2]
[5,1,4,4]
[5,2,1,10.199999999999999,13.5,16.100000000000001,17.600000000000001,20,20.6,22.9]
[5,2,2,4.4000000000000004,4.3,2.9]
[5,3,1,9.3000000000000007,9.5,9.4,9.5]
[5,3,2,6.6,6.4,6.3,6.7]
[5,3,3,7,6.7,6.4,6.8]
[5,3,4,6.7,6.7,7.2,7.5]
[5,3,5,7.5,7.4,7.4,7.5]
[5,3,6,4.8,4.8,4.3,4.8]
[6,4,1,8.1999999999999993,8.1999999999999993,8.6,8.6999999999999993]
[6,4,2,6.5,6.6]
[6,5,1,7.6,7.5,7.2,7.6,7.6]
[6,5,2,9.3000000000000007,10.8,10.5,10.7,10.6,10.8,10.8]
[6,5,3,7.8,7.6,7.4,6.8,5.8,6.3]
[6,5,4,7.3,7.3,7.1,7.2]
[6,5,5,6.4,5.8,5.8,5.9]
[6,6,1,9.4,10.199999999999999,9.9,10.1,10.5,8.5]
[6,6,2,8,7.9,7.7,8.1999999999999993,8.4]
[6,6,3,8.3000000000000007,8.3000000000000007,7.8]
[7,7,1,8.9,9,8.6999999999999993,9]
[7,7,2,7.3,7.5,7,7.5]
[7,7,3,6.9,6.8,6.7,6.9]
[7,7,4,6.6,6.6,6.7,6.5,6.6,6.9]
[7,7,5,6,5.7,5.6,5.6]
[8,8,1,9.6999999999999993,13.2,15.9,17.399999999999999,19.899999999999999,21.1,23.6]
[8,8,2,5.2,5.2,4.5999999999999996,5]
[8,8,3,4.5,4,4.2,3.8]
[8,8,4,4.2]
[8,8,5,5.5,5.0999999999999996,4.7,5]
[8,9,1,9.9,10.199999999999999,10,10.1,10.3,10.199999999999999]
[8,9,2,8.1999999999999993,7.7,7.9,8.1999999999999993]
[8,9,3,6.6,6,6.4,6.5]
[8,9,4,5.4,5.4]
[8,9,5,3.4,3.1]
[9,10,1,8.8000000000000007,10.1,10,10.1,10.1]
[9,10,2,7,6.9,6.4,6.7,6.7]
[9,10,3,7.6,7.7,7.4,7.6,7.3]
[9,11,1,8.1,8.1999999999999993,8,8.4]
[9,11,2,9.3000000000000007,9.6,9.6]
[9,11,3,7.1,7.1,7,7.1]
[9,11,4,6.8,6.8,6.6,6.9,6.3]
[9,11,5,5.9,5.9,5.6,5.6]
[9,12,1,8.4,8.1999999999999993]
[9,12,2,6.8,6.8]
[9,12,3,5.9,6.1]
[9,12,4,9.1,6.8]
[9,12,5,5.7,5.7]
[9,13,1,9.9,13.5,15.8,17.100000000000001,19.3,20.7,22.8]
[9,13,2,7.7,7.8,7.7,7.9,7.9,8,7.4]
[9,13,3,6.3,6.3,6.4,6.6]
[9,13,4,7.5,10.5,12.7,13.2,13.2,13.5,13.3]
[9,14,1,10,13.9,16.5,18.2,20.6,22,24.5]
[9,14,2,5.7,5.7,5.4]
[9,14,3,4.9000000000000004,5,4]
[9,14,4,4.9000000000000004,4.8]
[9,14,5,4.8,4.7]
[10,15,1,9.6999999999999993,9.8000000000000007,9.8000000000000007,9.6,9.9]
[{"$f":"+A133","v":10},15,2,6.9,6.9,6.7,7]
[10,15,3,7.1,7.4,7.3,7.3]
[10,15,4,5.9,5.8,5.5,6.1]
[10,15,5,5.3,6.9,6.6,7.4]
[10,15,6,7.4]
[10,16,1,9.1,9.1999999999999993,9.3000000000000007,9.4,9.5]
[10,16,2,7.2,7,6.5,6.9,6.8]
[10,16,3,7.2,7.3,7.1,7.5]
[10,16,4,7.2,7.1,6.8,7.1,7]
[10,16,5,4.5999999999999996,3.6]
[10,17,1,8.8000000000000007,9.5,9.3000000000000007,9.4,9.6]
[10,17,2,7.1,7,6.9,6.9,5.9]
[10,17,3,6.2,6.1,5.9,5.9]
[10,17,4,5.8,5.7]
[10,17,5,3.2,3]
[10,18,1,10,10.4,10,10.1,10.199999999999999]
[10,18,2,7.3,7.1,7.1,7.1]
[10,18,3,6.2,6]
[10,18,4,5.4,5.6]
[10,18,5,5.0999999999999996,5]
[10,19,1,8,11.4,13.9,15.4,18,19,21.3]
[10,19,2,6.1,6.5,6.1,6.4,6.2,6.5]
[10,19,3,5.9,8,8,8,8.3000000000000007,8.1999999999999993,8.1999999999999993]
[10,20,1,8.8000000000000007,9,9,8.6,8.8000000000000007]
[10,20,2,7.1,7.2,6.9,6.8]
[10,20,3,5.4,5.0999999999999996,4.9000000000000004,4.9000000000000004,3.5]
[10,20,4,6.8,6.9,6.7,6.8]
[11,1,1,9.5,9.6999999999999993,9.6999999999999993,9.8000000000000007,9.8000000000000007,9.6,9.1]
[11,1,2,4.5999999999999996,4.4000000000000004]
[11,1,3,4.2,4.5]
[11,2,1,10.4,13.1,16.8,18.7,21.3,22.5,24.8]
[11,2,2,8,7.8,7.5,8,7.4]
[11,3,1,9.6999999999999993,10,9.8000000000000007,10.1,10.199999999999999,10.199999999999999]
[11,3,2,6.5,6.5,6.1,6.4]
[11,3,3,5.3,5.2]
[11,3,4,6.9,6.8,6.1,5.8]
[11,4,1,9.5,12.7,13.2,13.4,13.4,13.6,13.5]
[11,4,2,7.5,7,7.2,7.5]
[11,5,1,10.1,13,16.2,17.5,20.2,22.1,24.1]
[11,5,2,7.5,7.8,7.7,7.6]
[11,6,1,9.1999999999999993,9.8000000000000007,9.6,9.8000000000000007,9.8000000000000007,10,9]
[11,6,2,5.7,5.5,5.5,5.7]
[11,6,3,7.3,6.8,6.7,6.8]
[11,7,1,9.1999999999999993,9.1999999999999993,9.1,9.4,9.6]
[11,7,2,7.9,7.8,7.2,7.9]
[11,7,3,4.8,4.8,4.4000000000000004,4.5]
[11,7,4,5.9,5.9,5.7,5.7]
[11,8,1,6.4,9.4,11.8,13.3,15.8,16.899999999999999,19.3]
[11,8,2,5.0999999999999996,5.3]
[11,9,1,6.8,7.1,6.7,6.8,7.1,7]
[11,9,2,7.2,7.2,7.1]
[11,9,3,8.1999999999999993,10.9,13.5,14.5,16.8,18.399999999999999,20.9]
[11,10,1,9.6,9.8000000000000007,9.6,9.8000000000000007]
[11,10,2,7.6,7.6,7.4,7.7]
[11,10,3,6.2,6.2,5.2,6.4]
[11,10,4,6.8,6.6,6.2,6.7,6.6,6.8]
[11,10,5,5.5,5.6,6.8,5.3]
[12,11,1,8,8.1,7.9,8.1]
[12,11,2,6.9,7,6.8,7]
[12,11,3,7.3,6.6,7.1,6.9]
[12,11,4,4.9000000000000004]
[12,12,1,10.7,13.8,16.7,18.5,20.8,22,24.6]
[12,12,2,7.9,7.7,7.7,7.9,7.5]
[12,12,3,7.5,7.8,7.3,8]
[{"$f":"+A197","v":12},12,4,6.7,6.3,7.2,7.4]
[12,12,5,7.1,7.3,6.7,7.1]
[12,13,1,6.8,6.8,6.6,6.6]
[12,13,2,4.7,4.5999999999999996,5.3,4.3]
[12,13,3,5.9,6.1,6.1,6]
[12,13,4,6.4,7,6.7,6.9,6.8]
[12,14,1,9.1,9.5,9.4,9.5]
[12,14,2,8,8.1999999999999993,8,8.1,8]
[12,14,3,6.3,6.2,6.2]
[12,14,4,6.9,6.6,6.3,6.5]
[12,14,5,6.2,6.1,6.1,6.2]
[12,15,1,6.4,6.7,6.4,6.7]
[12,15,2,8.6999999999999993,9.5,9,9.1999999999999993,9.4]
[12,15,3,7.7,8,8.1,7.9]
[12,15,4,7.3,7.5,7.4,7.5,7.6]
[12,16,1,9.8000000000000007,9.5,10.1,10.199999999999999,10,10.199999999999999]
[12,16,2,6.7,6.8,6.3,6.4]
[12,16,3,5.3,5.0999999999999996,5]
[12,16,4,4.8,4.0999999999999996,4.3]
[13,17,1,9.1999999999999993,10,9.9,10,10.8,9.9,10]
[13,17,2,6.6,6.5,6.6,6.7]
[13,17,3,5.5,5.5,5.5,5.5]
[13,18,1,9.4,9.3000000000000007,5.9,9.4,9.4,9.8000000000000007,9.5]
[13,18,2,7,7.1,7.1,6.8,6.9]
[13,18,3,6.2,6,6.8]
[13,19,1,9.1,10,9.5,10,9.5,10]
[13,19,2,6.9,7,6.1,6.9]
[13,19,3,4.3,4.4000000000000004]
[13,19,4,5,4.9000000000000004,5]
[13,19,5,5.3]
[13,20,1,8.9,9.1999999999999993,9.3000000000000007,9.1999999999999993,9.1999999999999993]
[13,20,2,7,7.1,7.3,7.3,7.8]
[13,20,3,5.7,5.6,5.6,7.6]
[13,20,4,5.3,5.0999999999999996,5.0999999999999996,5.0999999999999996]
[13,20,5,7.5,8,7.6,6.8]
[13,20,6,6.5]
[13,1,1,9.1,12.5,15.6,16.100000000000001,18.399999999999999,19.3,21.4]
[13,1,2,7.1,8.8000000000000007,8.8000000000000007,8.9,9,9,9.4]
[13,2,1,9.1999999999999993,9.8000000000000007,9.5,9.6,9.4,9.6]
[13,2,2,5.6,4.5,5.4,5.6,6.8,6.2]
[13,2,3,6.1,6.1,5.7,6.1]
[13,2,4,6.5,6.5,6.4,6.5,6.5,6.7]
[13,3,1,9.3000000000000007,12.4,14.9,15.6,16.100000000000001,17.399999999999999,19.5]
[13,3,2,6.7,6.9,6.6,6.8]
[13,3,3,3.5,3.8]
[13,4,1,10,10.199999999999999,10.5,10.3,10.7,10.199999999999999,10.7]
[13,4,2,7.7,8.1,8.3000000000000007,8.5]
[13,4,3,null,null,5.7,6]
[13,5,1,9.5,9.4,9.8000000000000007,9.6999999999999993,9.6]
[13,5,2,7.7,7.5,7.4,7.7]
[13,5,3,6.6,6.6,6.6,6.7]
[13,5,4,6.8,7,6.6,7]
[13,5,5,6.3,6.2,6.1,6.4]
[13,5,6,6,5.8,5.8,6.1]
[13,6,1,7.4,10.199999999999999,12.8,13.3,13.4,13.4,13.3]
[13,6,2,6.7,9.3000000000000007,11.9,12.3,12.6,12.8,12.7]
[13,7,1,7.9,7.7,7.7,7.9]
[13,7,2,7.3,7.2,7.2,7.2]
[13,7,3,8,7.9,7.9,8.1,8]
[13,7,4,3.8,3.9,3.3]
[14,8,1,9.4,9.5,9.5,9.8000000000000007,9.9,9.9,10]
[14,8,2,6.1,6,5.8,5.9,5.8,6.2]
[14,8,3,6.3,6.3,6.1,6,5.6,6.3]
[14,9,1,7.3,7.4,7.5,7.4]
[{"$f":"+A261","v":14},9,2,6.9,7.2,7,7.2,6.8,7.9]
[14,9,3,3.8,3.4]
[14,10,1,9.3000000000000007,9.6999999999999993,9.6,9.6,9.8000000000000007]
[14,10,2,5.9,5.9,5.7,6.1]
[14,10,3,4.5999999999999996,4.3,3.6]
[14,10,4,5.9,5.8]
[14,10,5,4.5999999999999996,4.5999999999999996]
[14,11,1,10.5,10.8,10.7,10.8]
[14,11,2,8,8,7.9,7.8,7.9]
[14,11,3,6.9,6.5,6.4,6.5,6.5,6]
[14,11,4,7.8,7.4,7.4,7.6,7.4]
[14,11,5,6.1,5.9,5.7,6]
[14,12,1,9.1999999999999993,12.4,15.1,16.8,19.100000000000001,20.7,22.8]
[14,12,2,9.1,12.3,15.2,16.899999999999999,19.399999999999999,20.7,23.1]
[14,12,3,8.6,8.8000000000000007,8.8000000000000007,8.8000000000000007,8.8000000000000007,8.9,7.7]
[14,13,1,9.4,10.8,10.9,11.2,11,11.2,11]
[14,13,2,4.7,4.0999999999999996,4.4000000000000004]
[14,13,3,4.5999999999999996,2.7]
[14,14,1,9.5,10.1,10.3,10.5,10.5,10.7,10.4]
[14,14,2,5.8,5.5,5.6,5.4]
[14,14,3,6.3,6,6.1,6.1]
[14,14,4,6.8,6.9,6.6,6.8,6.9]
[14,14,5,3.9,3.6]
[14,15,1,9.1999999999999993,9.3000000000000007,9.4,9.6,10,10.199999999999999]
[14,15,2,6.2,6.1,6.1,6.1]
[14,15,3,6.4,6.4,6.4,6.1,6.5,6.7]
[14,15,4,6.8,7.1,6.6,7.1,7,7.2]
[14,15,5,5.9,5.8,5.7,5.9]
[14,16,1,7.5,7.2,7.6,7.5,6.9,7.4]
[14,16,2,5.9,5.7,6.1]
[14,16,3,5.4]
[14,16,4,3.9,5.3,4.2,4.8]
[14,16,5,4.0999999999999996]
[14,17,1,10,13.2,16.2,18.3,20.9,22.2,24.5]
[14,17,2,8.1,8.3000000000000007,8.3000000000000007,8.4,8.1999999999999993,8.6,8.1]
[14,17,3,7.1,7.3,7.2,7.4,7.3,7.6,6.3]
[14,17,4,7.5,6.3,7.7,7.7,7.7,7.9,7]
[14,17,5,6.5,6.2,6.2,6,6.1,6.5,4.8]
[14,18,1,9.4,12.9,15.5,17.3,17.899999999999999,21.1,23.4]
[14,18,2,6.7,8.6999999999999993,8.8000000000000007,8.8000000000000007,8.8000000000000007,8.9,9.1999999999999993]
[14,19,1,8.6999999999999993,11.9,12.5,12.8,13.6,12.9,12.9]
[14,19,2,6.6,6.7,6.6,6.3,6.7]
[14,20,1,9,12,14.7,16.2,19,19.899999999999999,22.5]
[14,20,2,7.1,7.4,7.4,7.4,7.4,7.4,6.1]
[14,20,3,6.1,5.8,5.8,6]
[14,20,4,6.8,6.9,7.4,6.8]
[15,1,1,9.1999999999999993,12.3,15.1,16.600000000000001,19.3,20.399999999999999,22.2]
[15,2,1,6.8,10,12.2,12.7,12.8,13,12.9]
[15,3,1,8.1999999999999993,8.5,8.6,8.5]
[15,3,2,7.8,7.5,7.8,7.8]
[15,4,1,8.6999999999999993,11.7,11.8,12.1,12.2,12.3,12.1]
[15,4,2,9.5,12.9,13.4,13.8,13.7,13.9,13.9]
[15,5,1,9.1999999999999993,12.1]
[15,5,2,7.8,7.9]
[15,6,1,9.1999999999999993,12.9,15.5,16.899999999999999,19.899999999999999,20.399999999999999,22.8]
[15,6,2,4.7,4.7]
[15,6,3,4.0999999999999996,2.6]
[15,7,1,9.5,9.9,10.4,10.1]
[15,7,2,7.1,6.4,6.5,7]
[15,8,1,9.5,13,15.9,17.7,19.399999999999999,21.2,23.1]
[15,8,2,8.9,9.4,8.8000000000000007,9.3000000000000007,9.4,9.4,8.9]
[15,8,3,8.1999999999999993,8.4,8.5,8.5]
[15,9,1,9.6999999999999993,12.5,13.1,13,13.2,13,13.2]
[15,9,2,7.5,10.8,11.5,11.4,11.4,11.5,11.6]
[{"$f":"+A325","v":15},9,3,7.8,7.9,8,8,7.8,8]
[15,9,4,5.3,5.2]
[15,10,1,8.6999999999999993,11.4,14.1,14.4,14.3,14.6,14.6]
[15,10,2,7,6.9,6.9,7]
[15,10,3,4.0999999999999996,4]
[15,11,1,9.1999999999999993,11.9,13.5,13,13.2,13.1,12.8]
[15,11,2,8.9,9,9.1999999999999993,9.5]
[15,11,3,7.9,7.6,8.4,8.3000000000000007,8.3000000000000007,8.5,7.1]
[15,11,4,3.6]
[15,12,1,9.1,12.2,14.9,16,18.399999999999999,19.8,21.9]
[15,12,2,7.5,7.4,7.8,7.8,7.6]
[15,12,3,3.9]
[15,13,1,7.8,8.8000000000000007,8.3000000000000007,8.1999999999999993]
[15,14,1,9.4,10.4,10.3,10.4,10.5]
[15,15,1,9.1999999999999993,12.1,14.9,16.8,18.7,20.399999999999999,22.2]
[15,15,2,7.8,7.6,6.3,7.8]
[15,15,3,4.9000000000000004]
[15,15,4,4.5,4.5]
[15,16,1,8.9,9.1999999999999993,9.5,9.6999999999999993]
[15,16,2,7.6,7.7,8.1,7.6]
[15,16,3,5.8,5.0999999999999996,5.2,5.4,5.4,6.3]
[15,16,4,4.3,3.8]
[15,17,1,8.3000000000000007,10.6,10.7,10.8,11.1,10.5,11]
[15,17,2,4]
[15,17,3,3.6]
[15,18,1,9.3000000000000007,9.6,9.6999999999999993,9.9,9.9]
[15,18,2,8.5,8.6,9,8.8000000000000007,8.8000000000000007]
[15,18,3,8.1,6.3,6.5,8.4]
[15,18,4,6.6,8.1999999999999993,6.2,6.5]
[15,18,5,8.1,8.5,8.6999999999999993,8.6999999999999993,8.8000000000000007,8.9]
[15,18,6,6.4,6.6,6.6,6.7]
[15,19,1,9.3000000000000007,12.5,15.3,17,19.2,20.6,22.5]
[15,19,2,6.2,5.9,5.9]
[15,19,3,7.1,7.2]
[15,20,1,9,11.8,14.7,16.399999999999999,18.8,20.3,22.1]
[15,20,2,7.8,7.9,8.3000000000000007,8.3000000000000007,8.1]
[15,20,3,6.7,6.5,6.5,6.6]
[15,20,4,4.9000000000000004,4.9000000000000004,4.8]
[16,1,1,8.6999999999999993,9,9,9]
[16,1,2,8.5,11.6,14.6,15.8,16.2,16.7,18]
[16,2,1,9.6,10.9,10.4,10.7,11.1,11,11.1]
[16,2,2,7.5,7.5,7.2,7]
[16,3,1,8.5,8.6,8.9,8.8000000000000007]
[16,3,2,7.7,7.9,8.4,8.1]
[16,3,3,5.8,5.5,5.6]
[16,3,4,6,5.8,5.9]
[16,4,1,9.3000000000000007,9.3000000000000007,9,9.8000000000000007,9.6999999999999993,9.9]
[16,4,2,5.0999999999999996,4.5999999999999996,4.4000000000000004]
[16,4,3,6,5.9,5.9,5.8]
[16,4,4,4.5,4.3]
[16,4,5,4.8,4.9000000000000004]
[16,5,1,9.6,4.9000000000000004,10.3,10.3,10.6,10.8]
[16,5,2,7.2]
[16,5,3,4.9000000000000004]
[16,6,1,9.4,9.4,9.5,9.6,9.3000000000000007,9.6999999999999993]
[16,6,2,5.4,5.5,5]
[16,7,1,9.3000000000000007,9.5,9.5,9.6999999999999993,9.4]
[16,7,2,6.8,6.9,6.8]
[16,7,3,6.4,6.3,6.1,6.5]
[16,7,4,3.7]
[16,8,1,8.5,8.6,8.6,8.6999999999999993]
[16,8,2,7.3,6.1,5.8]
[16,8,3,6.2,7.4,8.1,7.7]
[16,8,4,5.3,5.4]
[{"$f":"+A389","v":16},8,5,4.3]
[16,9,1,9,12.1,14.8,16.5,18.7,20.2,22.5]
[16,9,2,5.4,5.2]
[16,9,3,5.2,4.9000000000000004]
[16,10,1,7.4,7.1,7.1]
[16,10,2,8.4,8.1999999999999993,8.1999999999999993,8.4]
[16,10,3,7.6,7.6,7.8,7.5]
[16,10,4,8,7.9,8.1,9]
[16,11,1,6.4,6.4,6.4,6.6]
[16,11,2,4.0999999999999996,2.7]
[16,12,1,9.8000000000000007,10.1,10,10.1,10]
[16,12,2,4.8,4.5999999999999996]
[16,12,3,4.5,4.3]
[16,12,4,3.1,3.1]
[16,13,1,8.8000000000000007,8.6999999999999993,8.9,8.9,8.8000000000000007]
[16,13,2,8.5,8.5,8.9,8.5]
[16,13,3,7.1,7.1,6.9,7]
[16,13,4,6.9,6.7,6.8,6.8,6.7]
[16,13,5,5,4.8,5]
[16,13,6,5.2,5.0999999999999996]
[16,14,1,8,7.9,8.4,8.1,8.1,8.3000000000000007]
[16,15,1,7.9,7.8,7.9,7.8,7.7,7.9,7.6]
[16,15,2,7.2,7.4,7.2]
[16,15,3,7.6,7.5,7.9]
[16,16,1,9.4,12.5,15.7,17.100000000000001,19.5,21.2,23.2]
[16,16,2,8.1,7.9,8.9,8.3000000000000007]
[16,16,3,6,5.8,6.2,5.9]
[16,16,4,7.9,7.7,8.3000000000000007,7.9]
[16,16,5,6.4,6,6.8,6.1,5.6]
[16,16,6,6.9,7.2,7.3,7.6]
[17,17,1,8.9,9.3000000000000007,9.1999999999999993,9,9.4]
[17,17,2,7.5,7.7,7.7,7.7]
[17,17,3,7.8,7.5,7.8,7.7,7.3]
[17,17,4,6.2,6,6.4,6.3]
[17,17,5,5.4,5.6,6.5]
[17,17,6,6.6,6.6]
[17,18,1,8.5,8.5,8.6999999999999993,8.5,8.6,8.8000000000000007,7.6]
[17,18,2,6.8,7,7.2,7.1,7.2]
[17,18,3,5.4,4.3,5.3]
[17,18,4,4.8,5,4.9000000000000004]
[17,19,1,8.6999999999999993,9,9.1,9,9,9.5]
[17,19,2,7.6,7.7,7.9,7.9]
[17,19,3,7.4,7.3,7.5,7.6]
[17,19,4,5.4,5.3,5.8]
[17,19,5,7.2,7.7,7.8,7.9,7.3]
[17,20,1,9.3000000000000007,12.6,15.6,17.3,18.899999999999999,21,23.5]
[17,20,2,7.2,6.9,7.2,7.1,6.7]
[17,20,3,7.4,7.4,7.7,7.6]
[17,20,4,6.2,6,6.5,6.5]
[17,20,5,5.5,5.5,5.6,5.7]
[17,1,1,9.5,10.4,10.3,10.3,10.1,10.6,10.3]
[17,1,2,8.1,8.1999999999999993,8.4,8.1999999999999993,8.3000000000000007,8.4,6.9]
[17,1,3,5.4,5.3,5.6,5.4]
[17,1,4,4,3.5]
[17,2,1,9,11.7,12.4,12.9,12.6,12.6,12.7]
[17,2,2,8.1999999999999993,8.3000000000000007,8.5,8.5,8.4,8.5,7.9]
[17,2,3,8,8.4,8.1999999999999993,8.1999999999999993,8.4,8.4,7.9]
[17,2,4,6.9,7,7,6.8]
[17,3,1,9.9,13,13.6,13.8,13.5,13.8,13.8]
[17,3,2,8.1999999999999993,8.4,8.1,8.6999999999999993,8.5,8.8000000000000007]
[18,4,1,9.4,9.6,9.8000000000000007,9.8000000000000007,9.6999999999999993,9.8000000000000007,9]
[18,4,2,7.3,7.4,7.2,7.5]
[18,4,3,4.9000000000000004,4.8,4.5999999999999996]
[18,5,1,9,12.4,15.6,16.8,18.899999999999999,20.2,22.2]
[{"$f":"+A453","v":18},5,2,7.1,7.3,7.5,7.4,7.3,7.7]
[18,5,3,3]
[18,6,1,8.6,11.6,14.6,16,18.5,19.600000000000001,21.6]
[18,6,2,6.9,7.8,8.3000000000000007,8.4,8.4,8.5]
[18,7,1,8.1,7.8,8.4,8,9.1999999999999993,9.4]
[18,7,2,7.3,7.5,7.6,7.4]
[18,7,3,8.9,9.1999999999999993,9.1,9.4]
[18,7,4,7.2,7.3,7.4,7.2]
[18,8,1,6.9,6.8,7.2,7,5.9,6.9,5.5]
[18,8,2,7.2,7.4,7.6,7.1]
[18,8,3,6.8,6.7,6.8,6.7]
[18,9,1,10.4,13.5,16.8,18,20.2,21.9,23.7]
[18,9,2,8.1999999999999993,8,8.1999999999999993,8.1,7.9,8.1999999999999993]
[18,9,3,7.6,7.6,7.5,7.6,6.8,7.5,6]
[18,9,4,7.9,7.8,7.9,7.9,7.5,8,6.5]
[18,10,1,9.5,13.5,16.2,17.600000000000001,19.8,21.5,23.8]
[18,10,2,4.7,4.5999999999999996]
[18,10,3,4.2,3.9]
[18,11,1,9.4,12.5,15.3,17,18.600000000000001,20,22.5]
[18,11,2,7.1,7.3,7.2,7.1,6.8,7.1]
[18,11,3,6.3,6.7,7.1,6.8,6.4]
[18,12,1,9.1,9.3000000000000007,9.6,9.6999999999999993,9.3000000000000007]
[18,12,2,4.9000000000000004,8.4,5.8]
[18,12,3,7.9,7.7,7.8,7.8]
[18,13,1,6.8,8.8000000000000007,9.1,8.8000000000000007]
[18,13,2,6.1,6.2,6.3,6.3]
[18,13,3,5.0999999999999996,5,5.9,6.1]
[18,13,4,6.1,5.8,5.7,5]
[18,14,1,9.3000000000000007,9.5,9.5,9.4,9.1999999999999993,9.5]
[18,14,2,5.4,5.0999999999999996,5.2,5.2]
[18,14,3,5.7,5.4,5.6]
[18,14,4,6.4,6.3,6.4,6.5,6.1,6.6,5.4]
[18,14,5,7.2,6.9,7,7]
[18,15,1,8.5,8.8000000000000007,9,9]
[18,15,2,4.5999999999999996,4.4000000000000004]
[18,16,1,7.7,7.9,8.3000000000000007,8.1,8]
[18,16,2,7.1,7.1,6.8,6.8]
[18,16,3,7.4,8.5,9.1,9.1999999999999993,9.1,9.3000000000000007,9.1999999999999993]
[18,16,4,6.2,null,null,null,6,6.5,4.5999999999999996]
[18,17,1,8.1,8.1999999999999993,8.4,8.5,8.5,8.5,7.1]
[18,17,2,6.1,6,6.1]
[18,17,3,5.3,5.4]
[18,17,4,3.4]
[19,18,1,8.8000000000000007,9.6,9.8000000000000007,9.6,9.4,9.8000000000000007,9.4]
[19,18,2,6.2,6,6.4]
[19,18,3,7.2,10.199999999999999,13.3,13.9,15.6,17.2,19.5]
[19,18,4,7.2,7.2,7.3,7.3]
[19,19,1,7.8,8.3000000000000007,8.4,8.5,8,8.5]
[19,19,2,5.9,5.9,5.8,5.8,5.4]
[19,19,3,6.8,6.7,6.8,6.7,6.2]
[19,19,4,7.1,7,7.4,7.2]
[20,20,1,9.1,9.9,10,10,9.9,10,8.6999999999999993]
[20,20,2,7.6,7.5,8,7.9,7.6,7.6]
[20,20,3,7.2,7.4,7.7,7.6,7.5]
[20,20,4,6.8,9.5,12.5,13.8,15.4,16.5,18.5]
[20,20,5,5.9,6.1,5.4,6.2]
[20,21,1]
[20,21,2]
[20,21,3]
[20,21,4]
[20,21,5]

{"sheet":"TestData 2","index":7,"n_rows":514,"n_cols":10,"rows_kept":514,"cut":false,"hidden":false,"merged":[[0,0,0,3],[0,4,0,9]]}
["Input Diameter ",null,null,null,{"$f":"\"Farm: TestData 2 Farm   Block:  1\"","v":"Farm: TestData 2 Farm   Block:  1"}]
["Data could be pasted into this sheet and the macro will copy it into staging sheet."]
["Tree","Cluster","Flower",{"$f":"+Setup!A5","v":"2015-05-18"},{"$f":"+Setup!A6","v":"2015-05-21"},{"$f":"+Setup!A7","v":"2015-05-25"},{"$f":"+Setup!A8","v":"2015-05-28"},{"$f":"+Setup!A9","v":"2015-05-31"},{"$f":"+Setup!A10","v":"2015-06-03"},{"$f":"+Setup!A11","v":"2015-06-06"}]
[1,1,1,7.5,11.3,13.4]
[1,1,2,6.1,6.6,6.8]
[1,1,3,6.8,7,7.4]
[1,1,4,6.4,9.6,12.3]
[1,1,5,6.5,8,9.8000000000000007]
[1,2,1,10.5,12.9,13.4]
[1,2,2,8,7.9,7.9]
[1,2,3,8.6,10.199999999999999,10.4]
[1,2,4,6.4,6.4,6.5]
[1,2,5,3.8]
[1,3,1,8.6999999999999993,11,11.1]
[1,3,2,7.1,9,9.1]
[1,3,3,7,7,7.2]
[1,3,4,4.0999999999999996]
[1,3,5,3.8]
[1,4,1,9.3000000000000007,10.8,11]
[1,4,2,7.1,7.2,7.6]
[1,4,3,5.6,5.6,5.8]
[1,4,4,4.5,4.2]
[1,4,5,6.3,6.3,6.1]
[1,5,1,6.8,8.3000000000000007,8.1999999999999993]
[1,5,2,6.1,5.5,6]
[1,5,3,5,5,4.7]
[1,5,4,4.5,4.5999999999999996,3.7]
[1,5,5,4.9000000000000004]
[1,6,1,8.5,12.6,16.399999999999999]
[1,6,2,8.6,11.2,11.3]
[1,6,3,5.8,5.6]
[1,6,4,4.9000000000000004,4.9000000000000004]
[1,6,5,4.5999999999999996,4.3]
[1,7,1,7.5,11.8,15.3]
[1,7,2,6.3,10.199999999999999,13.4]
[1,7,3,4,6.3,6.1]
[1,7,4,5.9,7.9,7.7]
[1,7,5,4.2,4.2]
[1,8,1,7,7.9,8.1]
[1,8,2,7,11.5,15.1]
[1,8,3,6.7,10.7,14.1]
[1,8,4,6.9,11.1,14.9]
[1,8,5,8,12.3,15.6]
[1,9,1,5.8,6.1,5.9]
[1,9,2,4.0999999999999996,5]
[1,9,3,4.4000000000000004,4.5]
[1,9,4,4.5999999999999996]
[1,9,5,7.3,12.1,16]
[1,10,1,6.5,10.6,14]
[1,10,2,6.1,6.1,6.2]
[1,10,3,4.9000000000000004,4.9000000000000004,4.7]
[1,10,4,4.9000000000000004,4.7]
[1,10,5,7.6,8.9,9.1]
[1,11,1,5,4.9000000000000004]
[1,11,2,4.4000000000000004,4.8]
[1,11,3,4.9000000000000004,null,5.0999999999999996]
[1,11,4,7.8,9.3000000000000007,9.5]
[1,11,5,7.2,7.7,7.6]
[1,12,1,6.6,6.8,6.9]
[1,12,2,7,7.2,7.2]
[1,12,3,6.7,7.1,7]
[1,12,4,6.8,6.9,6.6]
[1,12,5,7.2,9.6,10.1]
[1,13,1,6.9,7.5,7.6]
[1,13,2,6.2,7.4,8.1999999999999993]
[1,13,3,6.8,7,7.9]
[1,13,4,5.5,5.4,5.8]
[1,13,5,4.5999999999999996,4.5,4.5999999999999996]
[1,14,1,6.2,8.1999999999999993,8.1999999999999993]
[1,14,2,4.5,4.5,4.7]
[1,14,3,3.2,3.8,5.7]
[1,14,4,3.9,4.5999999999999996,4.5999999999999996]
[1,14,5,7.5,9,9.1]
[1,15,1,7.1,9.6999999999999993,9.9]
[1,15,2,6.5,7.9,8.3000000000000007]
[1,15,3,4.4000000000000004,7.7,8.1]
[1,15,4,6.9,10.7,13.1]
[1,15,5,6,6.3]
[1,16,1,6.5,6.9,7.2]
[1,16,2,6,6.7,6.7]
[1,16,3,7.7,11.9,15.3]
[1,16,4,6.2,9.9,13.6]
[1,16,5,5.3,5.0999999999999996,5.5]
[1,17,1,5,4.8,5.4]
[1,17,2,6.1,9.6,13]
[1,17,3,8.4,14,17.8]
[1,17,4,7.5,12.1,15]
[1,17,5,7.6,10.4,12.8]
[1,18,1,7.3,7.4,8]
[1,18,2,5.3,5.2,5.2]
[1,18,3,7.9,8.6]
[1,18,4,7.1,11.8,14.9]
[1,18,5,6.1,4.9000000000000004,5.8]
[1,19,1,4.9000000000000004,4.3,4.8]
[1,19,2,5.0999999999999996,5.4,5]
[1,19,3,4.4000000000000004,4.4000000000000004,4.5]
[1,19,4,8.3000000000000007,11.9,12.3]
[1,19,5,6.8,7.4,7.1]
[1,20,1,6.7,6.9,6.6]
[1,20,2,6.9,11.4,15.1]
[1,20,3,7.3,12.3,16]
[1,20,4,7.4,7.4,7.8]
[1,20,5,6.7,7.1,4.7]
[2,1,1,6.5,7.3,7]
[2,1,2,4.4000000000000004,4.4000000000000004]
[2,1,3,6.3,8.1999999999999993,8.6]
[2,1,4,6,6.7,6.8]
[2,1,5,6.2,7.2,7.5]
[2,2,1,6.1,7.5,7.7]
[2,2,2,7.5,10,9.9]
[2,2,3,7.7,11.4,13.5]
[2,2,4,6.2,6.4,6.1]
[2,2,5,6.6,6.3,6.4]
[2,3,1,6.6,6.6,7.1]
[2,3,2,6.7,8.1,8.1999999999999993]
[2,3,3,5.7,5.6]
[2,3,4,7.3,7.1,6.2]
[2,3,5,7.4,7.8]
[2,4,1,7,10.9,11.6]
[2,4,2,5,5]
[2,4,3,8.9,14,17.8]
[2,4,4,7.8,9.5,9.6999999999999993]
[2,4,5,7.9,9.9,10]
[2,5,1,6.1]
[2,5,2,6.5,6.7,6.9]
[2,5,3,5.8,5.7,5.6]
[2,5,4,5.0999999999999996,5.5,5.4]
[2,5,5,5.8,6.6,6.4]
[2,6,1,5.9,5.8,5.9]
[2,6,2,8.1999999999999993,14.1,16.899999999999999]
[2,6,3,5.2,5.6,5.4]
[2,6,4,8.3000000000000007,10.1,10.1]
[2,6,5,7.1,8.1,8.5]
[2,7,1,6.2,6.3,6.4]
[2,7,2,6.4,6.6,6.8]
[2,7,3,5.3,5.4,5.4]
[2,7,4,4.9000000000000004,4.9000000000000004]
[2,7,5,7.5,10.1,10.4]
[2,8,1,6.8,10.7,11]
[2,8,2,6.3,10.199999999999999,13.5]
[2,8,3,6,6.6,7.1]
[2,8,4,7,9.9,14.7]
[2,8,5,7.7,10.6,10.8]
[2,9,1,6.7,7,8.6999999999999993]
[2,9,2,7,9.8000000000000007,7]
[2,9,3,8,8.5,8.6999999999999993]
[2,9,4,8,8.8000000000000007,9]
[2,9,5,7.8,11.4,14.3]
[2,10,1,8.6,12.9,16.399999999999999]
[2,10,2,5.2,5.0999999999999996,6.1]
[2,10,3,6.2,5.0999999999999996,5.3]
[2,10,4,4.5,4.5999999999999996,4.5]
[2,10,5,8.6999999999999993,13.4,16.600000000000001]
[2,11,1,7.4,11.6,14.8]
[2,11,2,7.5,11.5,4.2]
[2,11,3,6.1,4.9000000000000004,5.0999999999999996]
[2,11,4,4.7,4.2]
[2,11,5,7.8,11.2,12.1]
[2,12,1,6.5,10.9,14.1]
[2,12,2,5.0999999999999996,5.2,5.2]
[2,12,3,6.3,8.1999999999999993,8.3000000000000007]
[2,12,4,8.1,12.5,16.2]
[2,12,5,7.1,11.8,15.4]
[2,13,1,6.5,7.3,7.3]
[2,13,2,8.1999999999999993,12.4,15.7]
[2,13,3,7.2,10.1,10.1]
[2,13,4,6.7,9.6999999999999993,9.9]
[2,13,5,5.6,5.8,5.6]
[2,14,1,7.8,12.2,15.7]
[2,14,2,6.8,10.5,13.7]
[2,14,3,5,5.0999999999999996,5.0999999999999996]
[2,14,4,7.6,12.5,16.399999999999999]
[2,14,5,6.2,6,5.9]
[2,15,1,6.3,7.2]
[2,15,2,6.3,4.7,6.7]
[2,15,3,4.7,6.5,4.4000000000000004]
[2,15,4,8.1999999999999993,12.9,16.2]
[2,15,5,3.7,4]
[2,16,1,4.0999999999999996]
[2,16,2,7.4,7.9,8.1999999999999993]
[2,16,3,8.3000000000000007,12.9,16.600000000000001]
[2,16,4,7,7.3,7.6]
[2,16,5,6.8,11,14.2]
[2,17,1,4.0999999999999996,4.2]
[2,17,2,5.5,5.7]
[2,17,3,7.6,10.8,14.2]
[2,17,4,5.9,6.6,7.1]
[2,17,5,8.6,12.9,14.8]
[2,18,1,5.9,5.6,5.7]
[2,18,2,5.6,5.5,5.6]
[2,18,3,7.3,10.199999999999999,11]
[2,18,4,5,5.0999999999999996,5.4]
[2,18,5,7.1,11,9.1]
[2,19,1,6.8,10.1,8]
[2,19,2,4.5,6.3,4.7]
[2,19,3,4.5,5.0999999999999996,4.7]
[2,19,4,6.3,7,7.6]
[2,19,5,8.8000000000000007,11.5,11.4]
[2,20,1,7.5,9.9,10.3]
[2,20,2,6.3,6.6,6.6]
[2,20,3,5.3,5.3,5.6]
[2,20,4,7.8,12.2,15.9]
[2,20,5,6,6,6.3]
[3,1,1,5.8,6.3,6.2]
[3,1,2,5.6,5.6,5.8]
[3,1,3,8.4,13.4,17.899999999999999]
[3,1,4,6.8,9.9,11.3]
[3,1,5,4.5999999999999996,4.5,4.5]
[3,2,1,8.6999999999999993,10.3,10.4]
[3,2,2,7.3,6.2,6.5]
[3,2,3,6.3,6.8,7]
[3,2,4,7,7.1,7.3]
[3,2,5,6.2,6.2,6]
[3,3,1,8.5,13.2,17.3]
[3,3,2,6.8,11.7,15.1]
[3,3,3,6.7,6.7,6.7]
[3,3,4,8.8000000000000007,12,12.4]
[3,3,5,7.3,11.7,15.2]
[3,4,1,7.5,7.8,7.9]
[3,4,2,6.7,7.7,7.7]
[3,4,3,8.8000000000000007,10.3,10.4]
[3,4,4,7.4,7.7,7.8]
[3,4,5,5,4.5999999999999996,5.2]
[3,5,1,7.9,9.5,9.6]
[3,5,2,6.8,7,7.5]
[3,5,3,7.4,8.1999999999999993,8.6]
[3,5,4,7,7.7,8.4]
[3,5,5,7.1,11.7,15.7]
[3,6,1,5.2,5,4.5]
[3,6,2,7.8,12.8,16.8]
[3,6,3,6.9,12.3,15.3]
[3,6,4,5.4,5.5,5.6]
[3,6,5,4.4000000000000004,4.3,4.5]
[3,7,1,6.9,10.9,14.1]
[3,7,2,6.4,10.7,14.6]
[3,7,3,6,6,6]
[3,7,4,6.8,8.1,8.1]
[3,7,5,8,12.5,16.5]
[3,8,1,6.3,5.8,6]
[3,8,2,4.7,5.4,6]
[3,8,3,5.3,5.4,5]
[3,8,4,4.8,4.9000000000000004,4.9000000000000004]
[3,8,5,5.6,5.5,6.7]
[3,9,1,7.9,11.3,15.8]
[3,9,2,6.7,10.7,14.5]
[3,9,3,5.6,5.5,5.2]
[3,9,4,5.5,5.3,5.4]
[3,9,5,5,4.9000000000000004]
[3,10,1,4.4000000000000004,4.5]
[3,10,2,5.5,5.3,5.7]
[3,10,3,6.3,7.2]
[3,10,4,6.2,6.7,6.8]
[3,10,5,3.5,4.9000000000000004,4.8]
[3,11,1,6.6,6.5,6.6]
[3,11,2,7.8,12.4,15.9]
[3,11,3,7.4,10,10.5]
[3,11,4,6.9,8.1,8.1999999999999993]
[3,11,5,7.4,6.3,6.6]
[3,12,1,6.7,10.3,13.7]
[3,12,2,8.6999999999999993,13.3,17.100000000000001]
[3,12,3,6.9,9.9,10.1]
[3,12,4,5.7,5.5,5.6]
[3,12,5,6.2,5.9,6.3]
[3,13,1,5.3,5.7,5.3]
[3,13,2,6.2,7.9,7.8]
[3,13,3,4.5999999999999996,4.4000000000000004,4.5]
[3,13,4,7,11.5,15.2]
[3,13,5,6.2,6.8,6.4]
[3,14,1,6.2,8.1999999999999993,9.5]
[3,14,2,5.3,5.3,5.2]
[3,14,3,4,4.2,4.3]
[3,14,4,6.9,8.1999999999999993,8.3000000000000007]
[3,14,5,6.7,10.8,14.1]
[3,15,1,6.6,7.5,7.2]
[3,15,2,6.2,6,6]
[3,15,3,6.6,5.2,5.3]
[3,15,4,9.1,13.6,17.2]
[3,15,5,6.2,6.3,6.3]
[3,16,1,6.9,7.5,7.7]
[3,16,2,6.1,6.1,5.8]
[3,16,3,7.5,11.2,14.4]
[3,16,4,7.2,8.6999999999999993,8.8000000000000007]
[3,16,5,6.3,7.1,7.4]
[3,17,1,6.6,8.6,8.9]
[3,17,2,7.5,11.9,15]
[3,17,3,6.9,10.8,14]
[3,17,4,6.1,6.7,7]
[3,17,5,4.8,4.8,4.8]
[3,18,1,7.9,10.5,10.5]
[3,18,2,7.3,11.2,14.7]
[3,18,3,6.7,8.4,8.4]
[3,18,4,7,10.3,11.3]
[3,18,5,7.1,8.5,8.4]
[3,19,1,7.2,11.3,14.8]
[3,19,2,6.7,10.1,13.6]
[3,19,3,6.4,7.6,7.8]
[3,19,4,5,5,5.0999999999999996]
[3,19,5,7.6,12.1,15.9]
[3,20,1,5.2,5.0999999999999996,5.2]
[3,20,2,5,4.7,4.7]
[3,20,3,6.2,6.9,7.6]
[3,20,4,6.3,7.2,7.3]
[3,20,5,6.4,10.7,13.6]
[4,1,1,5.7,6.4,6.5]
[4,1,2,7,7.2,7.4]
[4,1,3,5.6,5.7,5.9]
[4,1,4,6.4,5.5,5.5]
[4,1,5,6.1,5.0999999999999996,5.0999999999999996]
[4,2,1,7.8,8.8000000000000007,8.6]
[4,2,2,6.7,7.3,7.5]
[4,2,3,6,5.8,5.7]
[4,2,4,6.5,7.2,7.6]
[4,2,5,7.6,8.6999999999999993,8.6999999999999993]
[4,3,1,7,9.5,9.6]
[4,3,2,5.3,5.0999999999999996,5.0999999999999996]
[4,3,3,5.9,6.2,6.2]
[4,3,4,5.4,7,7.1]
[4,3,5,4.3,4.2,4.5]
[4,4,1,4,4,4]
[4,4,2,7.5,11.3,15]
[4,4,3,5.7,6.4,6.7]
[4,4,4,6.3,9.6,13.1]
[4,4,5,5.4,5.4,5.3]
[4,5,1,5.9,6.5,6.4]
[4,5,2,7.5,10.4,10.1]
[4,5,3,6.7,10.7,14.3]
[4,5,4,7.3,11,14.9]
[4,5,5,7,8.1999999999999993,8.1999999999999993]
[4,6,1,6.1,6.3,6.3]
[4,6,2,5.6,5.5,5.4]
[4,6,3,8.1999999999999993,12.5,16.100000000000001]
[4,6,4,6.9,10.4,13.6]
[4,6,5,5.8,6,5.8]
[4,7,1,5.9,6.2,6.3]
[4,7,2,7.5,7.3,7.4]
[4,7,3,6.6,8.4,8.1]
[4,7,4,7,7.9,7.9]
[4,7,5,6.7,8,7.9]
[4,8,1,6.3,6.3,6.3]
[4,8,2,6.6,10.1,12.9]
[4,8,3,6.5,11.4,14.7]
[4,8,4,6.5,6.7,6.8]
[4,8,5,6.8,9.3000000000000007,9.6]
[4,9,1,5.9,6.1,6.5]
[4,9,2,6.9,11.3,15.1]
[4,9,3,8.1,13,17.100000000000001]
[4,9,4,7.7,11.6,15.5]
[4,9,5,6.3,6.5,6.6]
[4,10,1,5.9,6.8,7.3]
[4,10,2,7.4,12.1,16.100000000000001]
[4,10,3,7.6,12.3,16.7]
[4,10,4,6.5,7.1,7.2]
[4,10,5,7.6,12.1,15.5]
[4,11,1,7.3,8.1,7.8]
[4,11,2,7,9.3000000000000007,9.3000000000000007]
[4,11,3,7,8.3000000000000007,8.4]
[4,11,4,7.7,11.6,14.4]
[4,11,5,7.5,11.5,16.100000000000001]
[4,12,1,8,12.7,17.399999999999999]
[4,12,2,7.7,12,15.5]
[4,12,3,7.5,8.6,8.6]
[4,12,4,7,8.8000000000000007,8.8000000000000007]
[4,12,5,5.9,6.3,6.3]
[4,13,1,7.3,11.4,15.4]
[4,13,2,6.7,7.9,8.8000000000000007]
[4,13,3,6.2,8.1999999999999993,7.8]
[4,13,4,6.5,7,7.5]
[4,13,5,6.5,8.3000000000000007,8.3000000000000007]
[4,14,1,6.1,6.9,7.2]
[4,14,2,6.9,8,8.1]
[4,14,3,6.8,11.4,15]
[4,14,4,4.5,4.7]
[4,14,5,6.1,9.1999999999999993,7.4]
[4,15,1,6.4,8.4,8.8000000000000007]
[4,15,2,5.3,5.3,5.3]
[4,15,3,4.3,4.5999999999999996,4.5]
[4,15,4,5.4,8.9,10]
[4,15,5,4.5,4.5,4.3]
[4,16,1]
[4,16,2]
[4,16,3]
[4,16,4]
[4,16,5]
[4,17,1]
[4,17,2]
[4,17,3]
[4,17,4]
[4,17,5]
[4,18,1]
[4,18,2]
[4,18,3]
[4,18,4]
[4,18,5]
[4,19,1]
[4,19,2]
[4,19,3]
[4,19,4]
[4,19,5]
[4,20,1]
[4,20,2]
[4,20,3]
[4,20,4]
[4,20,5]
[5,1,1]
[5,1,2]
[5,1,3]
[5,1,4]
[5,1,5]
[5,2,1]
[5,2,2]
[5,2,3]
[5,2,4]
[5,2,5]
[5,3,1]
[5,3,2]
[5,3,3]
[5,3,4]
[5,3,5]
[5,4,1]
[5,4,2]
[5,4,3]
[5,4,4]
[5,4,5]
[5,5,1]
[5,5,2]
[5,5,3]
[5,5,4]
[5,5,5]
[5,6,1]
[5,6,2]
[5,6,3]
[5,6,4]
[5,6,5]
[5,7,1]
[5,7,2]
[5,7,3]
[5,7,4]
[5,7,5]
[5,8,1]
[5,8,2]
[5,8,3]
[5,8,4]
[5,8,5]
[5,9,1]
[5,9,2]
[5,9,3]
[5,9,4]
[5,9,5]
[5,10,1]
[5,10,2]
[5,10,3]
[5,10,4]
[5,10,5]
[5,11,1]
[5,11,2]
[5,11,3]
[5,11,4]
[5,11,5]
[5,12,1]
[5,12,2]
[5,12,3]
[5,12,4]
[5,12,5]
[5,13,1]
[5,13,2]
[5,13,3]
[5,13,4]
[5,13,5]
[5,14,1]
[5,14,2]
[5,14,3]
[5,14,4]
[5,14,5]
[5,15,1]
[5,15,2]
[5,15,3]
[5,15,4]
[5,15,5]
[5,16,1]
[5,16,2]
[5,16,3]
[5,16,4]
[5,16,5]
[5,17,1]
[5,17,2]
[5,17,3]
[5,17,4]
[5,17,5]
[5,18,1]
[5,18,2]
[5,18,3]
[5,18,4]
[5,18,5]
[5,19,1]
[5,19,2]
[5,19,3]
[5,19,4]
[5,19,5]
[5,20,1]
[5,20,2]
[5,20,3]
[5,20,4]
[5,20,5]
[5,21,1]
[5,21,2]
[5,21,3]
[5,21,4]
[5,21,5]
[5,22,1]
[5,22,2]
[5,22,3]
[5,22,4]
[5,22,5]
[5,23,1]

{"sheet":"Directions","index":8,"n_rows":39,"n_cols":2,"rows_kept":39,"cut":false,"hidden":false,"merged":[[0,0,0,1]]}
["Predicting Fruitset Directions"]
[null,"This model was developed by Dr. Duane Greene, UMASS and this spreadsheet was designed by Philip Schwallier, MSU."]
[null,"This model can be downloaded at:"]
[1,"Apples.msu.edu"]
[2,"http://www.glexpo.com/summaries/2013summaries"]
[3,"http://extension.umass.edu/fruitadvisor/resources/clements-corner"]
[null,"This model will help predict fruitset early before the thinning window closes allowing another chance to chemically thin."]
[null,"You must have you Macros turned on."]
["Select and Number Clusters and Fruitlets"]
[null,"At bloom  select and mark at lease 75 clusters 15 clusters on 5 trees. These should be representative flower clusters in a block you want to predict fruitset."]
[null,"Number the fruits in each cluster with a number or dots (1 dot =1, 2 dots=2, etc.) with a sharpie marker."]
[null,"Start with the King fruitlet and number the fruit clockwise starting at the north fruitlet."]
["Setup Sheet  (yellow areas)"]
[null,"Enter your farm name."]
[null,"Enter the block name."]
[null,"Enter the dates of your measurements in sample."]
[null,"Enter the number of clusters you are measuring."]
[null,"Enter what you determine to be the target number of fruit for the measured canopy area."]
[null,"All of these entries will be automatically copied to the other appropriate cells."]
["Input Sheet"]
["Enter Fruitlet Diameters"]
[null,"The Input Sheet will accept direct input of diameters or they can be pasted in from another spreadsheet. "]
[null,"The Tree, Cluster and Fruitlet number is not inportant, but only as a reference # for your marking system. "]
[null,"The Cluster and Frutilet number is copied to the staging sheet and not used anywhere else. "]
[]
["Summary Sheet"]
[null,"Move to the summary sheet after entering your diameters."]
[null,"Click on the button:  Calculate Fruitlet Set"]
[null,"This will start the macros:"]
[null,"1.  The macro will copy the diameters from the staging sheet to the Diameter and Count sheets"]
[null,"2.  The macro will sort the diameters in descending order (Diameter Sheet)."]
[null,"3.  The macro will sort the diameter growth in descending order (Count Sheet)."]
[null,"4.  The macro will move back to the Summary Sheet."]
["Summary Sheet"]
[null,"You can print the Summary Sheet by clicking button:  Print This Page."]
["Errors"]
[null,"The program will not run correctly if a \" \" (space) is entered into the input page."]
["Staging, Diameter, Count Sheet"]
[null,"These sheets are used by the program to copy, check, calculate and sort data,  do not change these sheets."]